BEGIN:VCALENDAR
VERSION:2.0
PRODID:-//Gympie Regional Uniting Church - ECPv5.8.1//NONSGML v1.0//EN
CALSCALE:GREGORIAN
METHOD:PUBLISH
X-WR-CALNAME:Gympie Regional Uniting Church
X-ORIGINAL-URL:https://www.gruc.org.au
X-WR-CALDESC:Events for Gympie Regional Uniting Church
BEGIN:VTIMEZONE
TZID:Australia/Melbourne
BEGIN:STANDARD
TZOFFSETFROM:+1100
TZOFFSETTO:+1000
TZNAME:AEST
DTSTART:20250405T160000
END:STANDARD
BEGIN:DAYLIGHT
TZOFFSETFROM:+1000
TZOFFSETTO:+1100
TZNAME:AEDT
DTSTART:20251004T160000
END:DAYLIGHT
END:VTIMEZONE
BEGIN:VEVENT
DTSTART;TZID=Australia/Melbourne:20250304T080000
DTEND;TZID=Australia/Melbourne:20250304T090000
DTSTAMP:20260419T215441
CREATED:20250209T223945Z
LAST-MODIFIED:20250209T223945Z
UID:7859-1741075200-1741078800@www.gruc.org.au
SUMMARY:Tuesday Prayer
DESCRIPTION:Our Prayer Warriors meet weekly (Tuesday mornings) to pray and share in Communion. Everyone is very welcome to join us.
URL:https://www.gruc.org.au/event/tuesday-prayer-42/
LOCATION:CE Room
END:VEVENT
BEGIN:VEVENT
DTSTART;TZID=Australia/Melbourne:20250305T083000
DTEND;TZID=Australia/Melbourne:20250305T090000
DTSTAMP:20260419T215441
CREATED:20250302T233804Z
LAST-MODIFIED:20250302T233809Z
UID:7892-1741163400-1741165200@www.gruc.org.au
SUMMARY:Ash Wednesday Services
DESCRIPTION:Ash Wednesday marks the beginning of Lent and the journey toward Holy Week. We hope you can join us at one of our two 30-minute services in Gympie.
URL:https://www.gruc.org.au/event/ash-wednesday-services-2/
LOCATION:Gympie Uniting Church\, 15 Red Hill Road\, Gympie\, QLD\, 4570\, Australia
END:VEVENT
BEGIN:VEVENT
DTSTART;TZID=Australia/Melbourne:20250305T173000
DTEND;TZID=Australia/Melbourne:20250305T180000
DTSTAMP:20260419T215441
CREATED:20250302T233621Z
LAST-MODIFIED:20250302T233652Z
UID:7890-1741195800-1741197600@www.gruc.org.au
SUMMARY:Ash Wednesday Services
DESCRIPTION:Ash Wednesday marks the beginning of Lent and the journey toward Holy Week. We hope you can join us at one of our two 30-minute services in Gympie. \n 
URL:https://www.gruc.org.au/event/ash-wednesday-services/
LOCATION:Gympie Uniting Church\, 15 Red Hill Road\, Gympie\, QLD\, 4570\, Australia
END:VEVENT
BEGIN:VEVENT
DTSTART;TZID=Australia/Melbourne:20250311T080000
DTEND;TZID=Australia/Melbourne:20250311T090000
DTSTAMP:20260419T215441
CREATED:20250216T222040Z
LAST-MODIFIED:20250216T222053Z
UID:7874-1741680000-1741683600@www.gruc.org.au
SUMMARY:Tuesday Prayer
DESCRIPTION:Our Prayer Warriors meet weekly (Tuesday mornings) to pray and share in Communion. Everyone is very welcome to join us.
URL:https://www.gruc.org.au/event/tuesday-prayer-43/
LOCATION:CE Room
END:VEVENT
BEGIN:VEVENT
DTSTART;TZID=Australia/Melbourne:20250315T073000
DTEND;TZID=Australia/Melbourne:20250315T120000
DTSTAMP:20260419T215441
CREATED:20250302T234122Z
LAST-MODIFIED:20250302T234124Z
UID:7894-1742023800-1742040000@www.gruc.org.au
SUMMARY:Working Bee
DESCRIPTION:We’re giving our Gympie Church and Hall grounds a tidy-up – if you can help out\, please let Jason know. Equipment will be provided and remember to wear protective clothing and shoes.
URL:https://www.gruc.org.au/event/working-bee/
LOCATION:Gympie Uniting Church\, 15 Red Hill Road\, Gympie\, QLD\, 4570\, Australia
END:VEVENT
BEGIN:VEVENT
DTSTART;TZID=Australia/Melbourne:20250318T080000
DTEND;TZID=Australia/Melbourne:20250318T090000
DTSTAMP:20260419T215441
CREATED:20250216T222221Z
LAST-MODIFIED:20250216T222226Z
UID:7876-1742284800-1742288400@www.gruc.org.au
SUMMARY:Tuesday Prayer
DESCRIPTION:Our Prayer Warriors meet weekly (Tuesday mornings) to pray and share in Communion. Everyone is very welcome to join us.
URL:https://www.gruc.org.au/event/tuesday-prayer-44/
LOCATION:CE Room
END:VEVENT
BEGIN:VEVENT
DTSTART;TZID=Australia/Melbourne:20250325T080000
DTEND;TZID=Australia/Melbourne:20250325T090000
DTSTAMP:20260419T215441
CREATED:20250302T234238Z
LAST-MODIFIED:20250302T234308Z
UID:7896-1742889600-1742893200@www.gruc.org.au
SUMMARY:Tuesday Prayer
DESCRIPTION:Our Prayer Warriors meet weekly (Tuesday mornings) to pray and share in Communion. Everyone is very welcome to join us.
URL:https://www.gruc.org.au/event/tuesday-prayer-45/
LOCATION:CE Room
END:VEVENT
BEGIN:VEVENT
DTSTART;TZID=Australia/Melbourne:20250327T093000
DTEND;TZID=Australia/Melbourne:20250327T113000
DTSTAMP:20260419T215441
CREATED:20250310T010800Z
LAST-MODIFIED:20250310T010800Z
UID:7909-1743067800-1743075000@www.gruc.org.au
SUMMARY:JOY Circle
DESCRIPTION:This is a great time of fellowship\, interesting conversation and an interesting activity (perhaps\, something new to you) and\, of course\, morning tea to round off the morning. We meeting on the last Thursday of each month.
URL:https://www.gruc.org.au/event/joy-circle-13/
LOCATION:CE Room
END:VEVENT
END:VCALENDAR