BEGIN:VCALENDAR
VERSION:2.0
PRODID:-//Gympie Regional Uniting Church - ECPv5.8.1//NONSGML v1.0//EN
CALSCALE:GREGORIAN
METHOD:PUBLISH
X-WR-CALNAME:Gympie Regional Uniting Church
X-ORIGINAL-URL:https://www.gruc.org.au
X-WR-CALDESC:Events for Gympie Regional Uniting Church
BEGIN:VTIMEZONE
TZID:Australia/Melbourne
BEGIN:STANDARD
TZOFFSETFROM:+1100
TZOFFSETTO:+1000
TZNAME:AEST
DTSTART:20250405T160000
END:STANDARD
BEGIN:DAYLIGHT
TZOFFSETFROM:+1000
TZOFFSETTO:+1100
TZNAME:AEDT
DTSTART:20251004T160000
END:DAYLIGHT
END:VTIMEZONE
BEGIN:VEVENT
DTSTART;TZID=Australia/Melbourne:20250204T080000
DTEND;TZID=Australia/Melbourne:20250204T090000
DTSTAMP:20260419T232516
CREATED:20250128T004401Z
LAST-MODIFIED:20250128T004406Z
UID:7818-1738656000-1738659600@www.gruc.org.au
SUMMARY:Tuesday Prayer
DESCRIPTION:Our Prayer Warriors meet weekly (Tuesday mornings) to pray and share in Communion. Everyone is very welcome to join us.
URL:https://www.gruc.org.au/event/tuesday-prayer-38/
LOCATION:CE Room
END:VEVENT
BEGIN:VEVENT
DTSTART;TZID=Australia/Melbourne:20250211T080000
DTEND;TZID=Australia/Melbourne:20250211T090000
DTSTAMP:20260419T232516
CREATED:20250128T004436Z
LAST-MODIFIED:20250128T004531Z
UID:7820-1739260800-1739264400@www.gruc.org.au
SUMMARY:Tuesday Prayer
DESCRIPTION:Our Prayer Warriors meet weekly (Tuesday mornings) to pray and share in Communion. Everyone is very welcome to join us.
URL:https://www.gruc.org.au/event/tuesday-prayer-39/
LOCATION:CE Room
END:VEVENT
BEGIN:VEVENT
DTSTART;TZID=Australia/Melbourne:20250216T143000
DTEND;TZID=Australia/Melbourne:20250216T160000
DTSTAMP:20260419T232516
CREATED:20250128T004743Z
LAST-MODIFIED:20250128T005020Z
UID:7826-1739716200-1739721600@www.gruc.org.au
SUMMARY:HymnFest
DESCRIPTION:Come along and sing some of your favourite hymns and choruses for about an hour and wind up with a delicious afternoon tea. Those who come along to our HymnFests in the past have enjoyed them immensely. Everyone is welcome.
URL:https://www.gruc.org.au/event/hymnfest-4/
LOCATION:Gympie Uniting Church\, 15 Red Hill Road\, Gympie\, QLD\, 4570\, Australia
END:VEVENT
BEGIN:VEVENT
DTSTART;TZID=Australia/Melbourne:20250218T080000
DTEND;TZID=Australia/Melbourne:20250218T090000
DTSTAMP:20260419T232516
CREATED:20250128T004629Z
LAST-MODIFIED:20250128T004705Z
UID:7823-1739865600-1739869200@www.gruc.org.au
SUMMARY:Tuesday Prayer
DESCRIPTION:Our Prayer Warriors meet weekly (Tuesday mornings) to pray and share in Communion. Everyone is very welcome to join us.
URL:https://www.gruc.org.au/event/tuesday-prayer-40/
LOCATION:CE Room
END:VEVENT
BEGIN:VEVENT
DTSTART;TZID=Australia/Melbourne:20250218T180000
DTEND;TZID=Australia/Melbourne:20250218T183000
DTSTAMP:20260419T232516
CREATED:20250202T235649Z
LAST-MODIFIED:20250202T235649Z
UID:7845-1739901600-1739903400@www.gruc.org.au
SUMMARY:Combined Churches Prayer Meeting
DESCRIPTION:This is a time when members of various Gympie Churches come together to pray for half an hour – meeting at different churches each month and everyone is welcome to enjoy some fellowship after the meeting. Prayer topics for February 2025 include: \n\nPraise and Thankfulness to God for recent blessings\nSalvation in Gympie and the surrounding areas\nMiddle East Peace.
URL:https://www.gruc.org.au/event/combined-churches-prayer-meeting-7/
LOCATION:Gympie Apostolic Church\, 11 Atkinson Road\, Araluen\, QLD\, 4570\, Australia
END:VEVENT
BEGIN:VEVENT
DTSTART;TZID=Australia/Melbourne:20250225T080000
DTEND;TZID=Australia/Melbourne:20250225T090000
DTSTAMP:20260419T232516
CREATED:20250202T234820Z
LAST-MODIFIED:20250202T234831Z
UID:7839-1740470400-1740474000@www.gruc.org.au
SUMMARY:Tuesday Prayer
DESCRIPTION:Our Prayer Warriors meet weekly (Tuesday mornings) to pray and share in Communion. Everyone is very welcome to join us.
URL:https://www.gruc.org.au/event/tuesday-prayer-41/
LOCATION:CE Room
END:VEVENT
BEGIN:VEVENT
DTSTART;TZID=Australia/Melbourne:20250227T093000
DTEND;TZID=Australia/Melbourne:20250227T110000
DTSTAMP:20260419T232516
CREATED:20250202T235118Z
LAST-MODIFIED:20250202T235118Z
UID:7842-1740648600-1740654000@www.gruc.org.au
SUMMARY:JOY Circle
DESCRIPTION:This is a great time of fellowship\, interesting conversation and an interesting activity (perhaps\, something new to you) and\, of course\, morning tea to round off the morning. This year\, we’re meeting on the last Thursday of each month.
URL:https://www.gruc.org.au/event/joy-circle-12/
LOCATION:CE Room
END:VEVENT
BEGIN:VEVENT
DTSTART;TZID=Australia/Melbourne:20250228T063000
DTEND;TZID=Australia/Melbourne:20250228T203000
DTSTAMP:20260419T232516
CREATED:20250128T005915Z
LAST-MODIFIED:20250128T005915Z
UID:7830-1740724200-1740774600@www.gruc.org.au
SUMMARY:Gympie Community Prayer Breakfast
DESCRIPTION:This will be an enjoyable morning of connection\, prayer and a delicious morning tea in Memorial Park. Arthur Shepherd\, Chaplain of Queensland Police\, will be this year’s guest speaker with an inspiring story to share. The cost is $10 per person or $40 for a family of 5 or more. \nThe organisers are encouraging tickets to be purchased on-line to best plan for catering and seating. \nhttps://gympie.sales.ticketsearch.com/sales/salesevent/143588 \n  \n 
URL:https://www.gruc.org.au/event/gympie-community-prayer-breakfast-3/
LOCATION:Memorial Park\, Gympie\, Queensland\, Australia
END:VEVENT
END:VCALENDAR