BEGIN:VCALENDAR
VERSION:2.0
PRODID:-//Gympie Regional Uniting Church - ECPv5.8.1//NONSGML v1.0//EN
CALSCALE:GREGORIAN
METHOD:PUBLISH
X-WR-CALNAME:Gympie Regional Uniting Church
X-ORIGINAL-URL:https://www.gruc.org.au
X-WR-CALDESC:Events for Gympie Regional Uniting Church
BEGIN:VTIMEZONE
TZID:Australia/Melbourne
BEGIN:STANDARD
TZOFFSETFROM:+1100
TZOFFSETTO:+1000
TZNAME:AEST
DTSTART:20230401T160000
END:STANDARD
BEGIN:DAYLIGHT
TZOFFSETFROM:+1000
TZOFFSETTO:+1100
TZNAME:AEDT
DTSTART:20230930T160000
END:DAYLIGHT
END:VTIMEZONE
BEGIN:VEVENT
DTSTART;TZID=Australia/Melbourne:20230207T080000
DTEND;TZID=Australia/Melbourne:20230207T090000
DTSTAMP:20260422T233555
CREATED:20230130T234829Z
LAST-MODIFIED:20230130T234829Z
UID:6358-1675756800-1675760400@www.gruc.org.au
SUMMARY:Praying Together
DESCRIPTION:Tuesday mornings for an hour from 8am. Why pray together? Because .. “Wherever prayer focuses the power of God falls” (2 Chronicles 7:14). This is a great time to come together in Fellowship\, Corporate Prayer and Holy Communion. Come along and join us for the hour or pop in for however long you can stay.
URL:https://www.gruc.org.au/event/praying-together-23/
LOCATION:Gympie Uniting Church\, 15 Red Hill Road\, Gympie\, QLD\, 4570\, Australia
END:VEVENT
BEGIN:VEVENT
DTSTART;TZID=Australia/Melbourne:20230208T100000
DTEND;TZID=Australia/Melbourne:20230208T120000
DTSTAMP:20260422T233555
CREATED:20230130T235754Z
LAST-MODIFIED:20230130T235754Z
UID:6374-1675850400-1675857600@www.gruc.org.au
SUMMARY:Intergenerational Play Induction
DESCRIPTION:This exciting initiative aims to bring the over 60’s together with the children of our Child Care Centre for an hour and a half a week – Wednesday mornings. Interested? See Keith. A member of Synod’s Early Learning Team will be facilitating the Induction Session. A Blue Card is required and can be organised through the church office.
URL:https://www.gruc.org.au/event/intergenerational-play-induction/
LOCATION:CE Room
END:VEVENT
BEGIN:VEVENT
DTSTART;TZID=Australia/Melbourne:20230214T080000
DTEND;TZID=Australia/Melbourne:20230214T090000
DTSTAMP:20260422T233555
CREATED:20230130T234901Z
LAST-MODIFIED:20230130T234901Z
UID:6360-1676361600-1676365200@www.gruc.org.au
SUMMARY:Praying Together
DESCRIPTION:Tuesday mornings for an hour from 8am. Why pray together? Because .. “Wherever prayer focuses the power of God falls” (2 Chronicles 7:14). This is a great time to come together in Fellowship\, Corporate Prayer and Holy Communion. Come along and join us for the hour or pop in for however long you can stay.
URL:https://www.gruc.org.au/event/praying-together-24/
LOCATION:Gympie Uniting Church\, 15 Red Hill Road\, Gympie\, QLD\, 4570\, Australia
END:VEVENT
BEGIN:VEVENT
DTSTART;TZID=Australia/Melbourne:20230215T093000
DTEND;TZID=Australia/Melbourne:20230215T110000
DTSTAMP:20260422T233555
CREATED:20230207T011451Z
LAST-MODIFIED:20230207T011451Z
UID:6385-1676453400-1676458800@www.gruc.org.au
SUMMARY:Bible Society Meeting
DESCRIPTION:The Gympie Branch of The Bible Society – first meeting for 2023. The team would love to see some new faces as they do their part in getting God’s Word out into the world. Why not come along?
URL:https://www.gruc.org.au/event/bible-society-meeting-9/
LOCATION:CE Room
END:VEVENT
BEGIN:VEVENT
DTSTART;TZID=Australia/Melbourne:20230221T080000
DTEND;TZID=Australia/Melbourne:20230221T090000
DTSTAMP:20260422T233555
CREATED:20230130T234927Z
LAST-MODIFIED:20230130T234927Z
UID:6362-1676966400-1676970000@www.gruc.org.au
SUMMARY:Praying Together
DESCRIPTION:Tuesday mornings for an hour from 8am. Why pray together? Because .. “Wherever prayer focuses the power of God falls” (2 Chronicles 7:14). This is a great time to come together in Fellowship\, Corporate Prayer and Holy Communion. Come along and join us for the hour or pop in for however long you can stay.
URL:https://www.gruc.org.au/event/praying-together-25/
LOCATION:Gympie Uniting Church\, 15 Red Hill Road\, Gympie\, QLD\, 4570\, Australia
END:VEVENT
BEGIN:VEVENT
DTSTART;TZID=Australia/Melbourne:20230224T063000
DTEND;TZID=Australia/Melbourne:20230224T083000
DTSTAMP:20260422T233555
CREATED:20230207T011647Z
LAST-MODIFIED:20230219T233925Z
UID:6388-1677220200-1677227400@www.gruc.org.au
SUMMARY:Gympie Community Prayer Breakfast
DESCRIPTION:Memorial Park. Guest speaker will be acclaimed violinist\, Hayden Wiseman. Great opportunity to come together in our community.
URL:https://www.gruc.org.au/event/gympie-community-prayer-breakfast/
LOCATION:Memorial Park\, Gympie\, Queensland\, Australia
END:VEVENT
BEGIN:VEVENT
DTSTART;TZID=Australia/Melbourne:20230226T100000
DTEND;TZID=Australia/Melbourne:20230226T120000
DTSTAMP:20260422T233555
CREATED:20230219T232139Z
LAST-MODIFIED:20230219T232139Z
UID:6405-1677405600-1677412800@www.gruc.org.au
SUMMARY:Pancakes & Games
DESCRIPTION:After the Gympie Service we’re having some delicious pancakes for morning tea and playing games. We hope you can join us.
URL:https://www.gruc.org.au/event/pancakes-games/
LOCATION:Gympie Uniting Church\, 15 Red Hill Road\, Gympie\, QLD\, 4570\, Australia
END:VEVENT
BEGIN:VEVENT
DTSTART;TZID=Australia/Melbourne:20230228T080000
DTEND;TZID=Australia/Melbourne:20230228T090000
DTSTAMP:20260422T233555
CREATED:20230130T234957Z
LAST-MODIFIED:20230130T234957Z
UID:6364-1677571200-1677574800@www.gruc.org.au
SUMMARY:Praying Together
DESCRIPTION:Tuesday mornings for an hour from 8am. Why pray together? Because .. “Wherever prayer focuses the power of God falls” (2 Chronicles 7:14). This is a great time to come together in Fellowship\, Corporate Prayer and Holy Communion. Come along and join us for the hour or pop in for however long you can stay.
URL:https://www.gruc.org.au/event/praying-together-26/
LOCATION:Gympie Uniting Church\, 15 Red Hill Road\, Gympie\, QLD\, 4570\, Australia
END:VEVENT
END:VCALENDAR