BEGIN:VCALENDAR
VERSION:2.0
PRODID:-//Gympie Regional Uniting Church - ECPv5.8.1//NONSGML v1.0//EN
CALSCALE:GREGORIAN
METHOD:PUBLISH
X-WR-CALNAME:Gympie Regional Uniting Church
X-ORIGINAL-URL:https://www.gruc.org.au
X-WR-CALDESC:Events for Gympie Regional Uniting Church
BEGIN:VTIMEZONE
TZID:Australia/Melbourne
BEGIN:STANDARD
TZOFFSETFROM:+1100
TZOFFSETTO:+1000
TZNAME:AEST
DTSTART:20170401T160000
END:STANDARD
BEGIN:DAYLIGHT
TZOFFSETFROM:+1000
TZOFFSETTO:+1100
TZNAME:AEDT
DTSTART:20170930T160000
END:DAYLIGHT
END:VTIMEZONE
BEGIN:VEVENT
DTSTART;TZID=Australia/Melbourne:20170625T100000
DTEND;TZID=Australia/Melbourne:20170625T100000
DTSTAMP:20260425T225658
CREATED:20170620T010642Z
LAST-MODIFIED:20170620T010642Z
UID:1458-1498384800-1498384800@www.gruc.org.au
SUMMARY:Amamoor's Last Worship Service
DESCRIPTION:
URL:https://www.gruc.org.au/event/amamoors-last-worship-service/
LOCATION:Amamoor Uniting Church\, Busby Street\, Amamoor
END:VEVENT
BEGIN:VEVENT
DTSTART;TZID=Australia/Melbourne:20170625T000000
DTEND;TZID=Australia/Melbourne:20170625T000000
DTSTAMP:20260425T225658
CREATED:20170620T011341Z
LAST-MODIFIED:20170620T011341Z
UID:1465-1498348800-1498348800@www.gruc.org.au
SUMMARY:Gympie Guest 25th June
DESCRIPTION:
URL:https://www.gruc.org.au/event/gympie-guest-25th-june/
LOCATION:Gympie Uniting Church\, 15 Red Hill Road\, Gympie\, QLD\, 4570\, Australia
END:VEVENT
BEGIN:VEVENT
DTSTART;TZID=Australia/Melbourne:20170623T191500
DTEND;TZID=Australia/Melbourne:20170623T210000
DTSTAMP:20260425T225658
CREATED:20170620T012016Z
LAST-MODIFIED:20170620T012016Z
UID:1473-1498245300-1498251600@www.gruc.org.au
SUMMARY:Y-STUDY
DESCRIPTION:
URL:https://www.gruc.org.au/event/y-study/
LOCATION:Brett’s & Narelle’s
END:VEVENT
BEGIN:VEVENT
DTSTART;TZID=Australia/Melbourne:20170621T100000
DTEND;TZID=Australia/Melbourne:20170621T100000
DTSTAMP:20260425T225658
CREATED:20170620T010808Z
LAST-MODIFIED:20170620T010808Z
UID:1463-1498039200-1498039200@www.gruc.org.au
SUMMARY:Bible Society Meeting
DESCRIPTION:
URL:https://www.gruc.org.au/event/bible-society-meeting/
LOCATION:CE Room
END:VEVENT
BEGIN:VEVENT
DTSTART;TZID=Australia/Melbourne:20170601T090000
DTEND;TZID=Australia/Melbourne:20170601T110000
DTSTAMP:20260425T225658
CREATED:20170516T002252Z
LAST-MODIFIED:20170525T002613Z
UID:1383-1496307600-1496314800@www.gruc.org.au
SUMMARY:Friendship Circle
DESCRIPTION:
URL:https://www.gruc.org.au/event/friendship-circle/
LOCATION:CE Room
END:VEVENT
BEGIN:VEVENT
DTSTART;TZID=Australia/Melbourne:20170528T170000
DTEND;TZID=Australia/Melbourne:20170528T170000
DTSTAMP:20260425T225658
CREATED:20170525T002333Z
LAST-MODIFIED:20170525T002732Z
UID:1417-1495990800-1495990800@www.gruc.org.au
SUMMARY:5pm Gathering
DESCRIPTION:
URL:https://www.gruc.org.au/event/5pm-gathering/
LOCATION:Gympie Uniting Church\, 15 Red Hill Road\, Gympie\, QLD\, 4570\, Australia
END:VEVENT
END:VCALENDAR