BEGIN:VCALENDAR
VERSION:2.0
PRODID:-//Gympie Regional Uniting Church - ECPv5.8.1//NONSGML v1.0//EN
CALSCALE:GREGORIAN
METHOD:PUBLISH
X-WR-CALNAME:Gympie Regional Uniting Church
X-ORIGINAL-URL:https://www.gruc.org.au
X-WR-CALDESC:Events for Gympie Regional Uniting Church
BEGIN:VTIMEZONE
TZID:Australia/Melbourne
BEGIN:STANDARD
TZOFFSETFROM:+1100
TZOFFSETTO:+1000
TZNAME:AEST
DTSTART:20170401T160000
END:STANDARD
BEGIN:DAYLIGHT
TZOFFSETFROM:+1000
TZOFFSETTO:+1100
TZNAME:AEDT
DTSTART:20170930T160000
END:DAYLIGHT
END:VTIMEZONE
BEGIN:VEVENT
DTSTART;TZID=Australia/Melbourne:20171008T160000
DTEND;TZID=Australia/Melbourne:20171008T180000
DTSTAMP:20260425T014302
CREATED:20170814T003954Z
LAST-MODIFIED:20170814T003954Z
UID:1667-1507478400-1507485600@www.gruc.org.au
SUMMARY:Messy Family Fun
DESCRIPTION:
URL:https://www.gruc.org.au/event/messy-family-fun-2/
LOCATION:Imbil Uniting Church\, 3 Elizabeth Street\, Imbil\, Queensland\, 4570\, Australia
END:VEVENT
BEGIN:VEVENT
DTSTART;VALUE=DATE:20171008
DTEND;VALUE=DATE:20171009
DTSTAMP:20260425T014302
CREATED:20170925T233604Z
LAST-MODIFIED:20171005T235751Z
UID:1813-1507420800-1507507199@www.gruc.org.au
SUMMARY:Gympie Services Today ~ Amended Information
DESCRIPTION:
URL:https://www.gruc.org.au/event/one-gympie-service-today/
LOCATION:Gympie Uniting Church\, 15 Red Hill Road\, Gympie\, QLD\, 4570\, Australia
END:VEVENT
BEGIN:VEVENT
DTSTART;VALUE=DATE:20171007
DTEND;VALUE=DATE:20171008
DTSTAMP:20260425T014302
CREATED:20170925T235115Z
LAST-MODIFIED:20170925T235115Z
UID:1823-1507334400-1507420799@www.gruc.org.au
SUMMARY:Trailblazers Supporting School Chaplaincy
DESCRIPTION:
URL:https://www.gruc.org.au/event/trailblazers-supporting-school-chaplaincy/
LOCATION:Queensland
END:VEVENT
BEGIN:VEVENT
DTSTART;TZID=Australia/Melbourne:20171005T090000
DTEND;TZID=Australia/Melbourne:20171005T110000
DTSTAMP:20260425T014302
CREATED:20171003T010944Z
LAST-MODIFIED:20171003T010944Z
UID:1841-1507194000-1507201200@www.gruc.org.au
SUMMARY:Friendship Circle
DESCRIPTION:
URL:https://www.gruc.org.au/event/friendship-circle-4/
LOCATION:CE Room
END:VEVENT
BEGIN:VEVENT
DTSTART;TZID=Australia/Melbourne:20171005T080000
DTEND;TZID=Australia/Melbourne:20171005T090000
DTSTAMP:20260425T014302
CREATED:20170925T233751Z
LAST-MODIFIED:20170925T233751Z
UID:1815-1507190400-1507194000@www.gruc.org.au
SUMMARY:Corporate Prayer & Communion
DESCRIPTION:
URL:https://www.gruc.org.au/event/corporate-prayer-communion/
LOCATION:Gympie Uniting Church\, 15 Red Hill Road\, Gympie\, QLD\, 4570\, Australia
END:VEVENT
BEGIN:VEVENT
DTSTART;TZID=Australia/Melbourne:20170928T100000
DTEND;TZID=Australia/Melbourne:20170928T120000
DTSTAMP:20260425T014302
CREATED:20170904T003801Z
LAST-MODIFIED:20170904T003801Z
UID:1729-1506592800-1506600000@www.gruc.org.au
SUMMARY:Morning Tea
DESCRIPTION:
URL:https://www.gruc.org.au/event/morning-tea-4/
LOCATION:d’Cafe\, Southside
END:VEVENT
BEGIN:VEVENT
DTSTART;TZID=Australia/Melbourne:20170928T080000
DTEND;TZID=Australia/Melbourne:20170928T090000
DTSTAMP:20260425T014302
CREATED:20170904T001636Z
LAST-MODIFIED:20170904T002721Z
UID:1721-1506585600-1506589200@www.gruc.org.au
SUMMARY:Corporate Prayer
DESCRIPTION:
URL:https://www.gruc.org.au/event/corporate-prayer-8/
LOCATION:Gympie Uniting Church\, 15 Red Hill Road\, Gympie\, QLD\, 4570\, Australia
END:VEVENT
BEGIN:VEVENT
DTSTART;TZID=Australia/Melbourne:20170925T183000
DTEND;TZID=Australia/Melbourne:20170925T203000
DTSTAMP:20260425T014302
CREATED:20170904T010825Z
LAST-MODIFIED:20170904T010825Z
UID:1751-1506364200-1506371400@www.gruc.org.au
SUMMARY:Church Leadership Meeting
DESCRIPTION:
URL:https://www.gruc.org.au/event/church-leadership-meeting/
LOCATION:CE Room
END:VEVENT
BEGIN:VEVENT
DTSTART;TZID=Australia/Melbourne:20170922T093000
DTEND;TZID=Australia/Melbourne:20170922T110000
DTSTAMP:20260425T014302
CREATED:20170904T010703Z
LAST-MODIFIED:20170904T010703Z
UID:1749-1506072600-1506078000@www.gruc.org.au
SUMMARY:Morning Tea in The Valley
DESCRIPTION:
URL:https://www.gruc.org.au/event/morning-tea-in-the-valley/
LOCATION:Blue and White Teapot Cafe\, Busby Street\, Amamoor\, 4570
END:VEVENT
BEGIN:VEVENT
DTSTART;TZID=Australia/Melbourne:20170921T100000
DTEND;TZID=Australia/Melbourne:20170921T120000
DTSTAMP:20260425T014302
CREATED:20170904T003723Z
LAST-MODIFIED:20170904T003723Z
UID:1727-1505988000-1505995200@www.gruc.org.au
SUMMARY:Morning Tea
DESCRIPTION:
URL:https://www.gruc.org.au/event/morning-tea-3/
LOCATION:d’Cafe\, Southside
END:VEVENT
BEGIN:VEVENT
DTSTART;TZID=Australia/Melbourne:20170921T090000
DTEND;TZID=Australia/Melbourne:20170921T100000
DTSTAMP:20260425T014302
CREATED:20170904T005833Z
LAST-MODIFIED:20170904T005833Z
UID:1745-1505984400-1505988000@www.gruc.org.au
SUMMARY:CONTACT Folding
DESCRIPTION:
URL:https://www.gruc.org.au/event/contact-folding/
LOCATION:St Andrews Hall\, 19 Red Hill Road\, Gympie
END:VEVENT
BEGIN:VEVENT
DTSTART;TZID=Australia/Melbourne:20170921T080000
DTEND;TZID=Australia/Melbourne:20170921T090000
DTSTAMP:20260425T014302
CREATED:20170904T001508Z
LAST-MODIFIED:20170904T001508Z
UID:1719-1505980800-1505984400@www.gruc.org.au
SUMMARY:Corporate Prayer
DESCRIPTION:
URL:https://www.gruc.org.au/event/corporate-prayer-7/
LOCATION:Gympie Uniting Church\, 15 Red Hill Road\, Gympie\, QLD\, 4570\, Australia
END:VEVENT
BEGIN:VEVENT
DTSTART;TZID=Australia/Melbourne:20170818T190000
DTEND;TZID=Australia/Melbourne:20170818T210000
DTSTAMP:20260425T014302
CREATED:20170814T004442Z
LAST-MODIFIED:20170814T004442Z
UID:1669-1503082800-1503090000@www.gruc.org.au
SUMMARY:TRIBE
DESCRIPTION:
URL:https://www.gruc.org.au/event/tribe-3/
LOCATION:St Andrews Hall\, 19 Red Hill Road\, Gympie
END:VEVENT
BEGIN:VEVENT
DTSTART;TZID=Australia/Melbourne:20170817T143000
DTEND;TZID=Australia/Melbourne:20170817T143000
DTSTAMP:20260425T014302
CREATED:20170804T012255Z
LAST-MODIFIED:20170804T012255Z
UID:1655-1502980200-1502980200@www.gruc.org.au
SUMMARY:PICNIC IN THE PARK
DESCRIPTION:
URL:https://www.gruc.org.au/event/picnic-in-the-park-3/
LOCATION:Duck Ponds\, Lake Alford\, Monkland
END:VEVENT
BEGIN:VEVENT
DTSTART;TZID=Australia/Melbourne:20170817T060000
DTEND;TZID=Australia/Melbourne:20170817T070000
DTSTAMP:20260425T014302
CREATED:20170804T011646Z
LAST-MODIFIED:20170804T011832Z
UID:1646-1502949600-1502953200@www.gruc.org.au
SUMMARY:Corporate Prayer
DESCRIPTION:
URL:https://www.gruc.org.au/event/corporate-prayer-2/
LOCATION:Gympie Uniting Church\, 15 Red Hill Road\, Gympie\, QLD\, 4570\, Australia
END:VEVENT
BEGIN:VEVENT
DTSTART;TZID=Australia/Melbourne:20170816T093000
DTEND;TZID=Australia/Melbourne:20170816T120000
DTSTAMP:20260425T014302
CREATED:20170814T005105Z
LAST-MODIFIED:20170814T005105Z
UID:1671-1502875800-1502884800@www.gruc.org.au
SUMMARY:Bible Society AGM
DESCRIPTION:
URL:https://www.gruc.org.au/event/bible-society-agm/
LOCATION:CE Room
END:VEVENT
BEGIN:VEVENT
DTSTART;TZID=Australia/Melbourne:20170815T140000
DTEND;TZID=Australia/Melbourne:20170815T160000
DTSTAMP:20260425T014302
CREATED:20170714T044633Z
LAST-MODIFIED:20170814T005413Z
UID:1593-1502805600-1502812800@www.gruc.org.au
SUMMARY:ALPHA
DESCRIPTION:
URL:https://www.gruc.org.au/event/alpha-5/
LOCATION:CE Room
END:VEVENT
BEGIN:VEVENT
DTSTART;TZID=Australia/Melbourne:20170813T160000
DTEND;TZID=Australia/Melbourne:20170813T180000
DTSTAMP:20260425T014302
CREATED:20170626T001434Z
LAST-MODIFIED:20170704T021745Z
UID:1522-1502640000-1502647200@www.gruc.org.au
SUMMARY:Messy Family Fun
DESCRIPTION:
URL:https://www.gruc.org.au/event/messy-family-fun-3/
LOCATION:Imbil Uniting Church\, 3 Elizabeth Street\, Imbil\, Queensland\, 4570\, Australia
END:VEVENT
BEGIN:VEVENT
DTSTART;VALUE=DATE:20170812
DTEND;VALUE=DATE:20170813
DTSTAMP:20260425T014302
CREATED:20170620T011858Z
LAST-MODIFIED:20170804T011412Z
UID:1470-1502496000-1502582399@www.gruc.org.au
SUMMARY:Annual Garage Sale
DESCRIPTION:
URL:https://www.gruc.org.au/event/annual-garage-sale/
LOCATION:St Andrews Hall\, 19 Red Hill Road\, Gympie
END:VEVENT
BEGIN:VEVENT
DTSTART;TZID=Australia/Melbourne:20170811T191500
DTEND;TZID=Australia/Melbourne:20170811T210000
DTSTAMP:20260425T014302
CREATED:20170804T012126Z
LAST-MODIFIED:20170804T012126Z
UID:1652-1502478900-1502485200@www.gruc.org.au
SUMMARY:Y-STUDY
DESCRIPTION:
URL:https://www.gruc.org.au/event/y-study-2/
LOCATION:Brett’s & Narelle’s\, Sapphire Court\, Southside
END:VEVENT
BEGIN:VEVENT
DTSTART;TZID=Australia/Melbourne:20170810T060000
DTEND;TZID=Australia/Melbourne:20170810T070000
DTSTAMP:20260425T014302
CREATED:20170804T011605Z
LAST-MODIFIED:20170804T011605Z
UID:1644-1502344800-1502348400@www.gruc.org.au
SUMMARY:Corporate Prayer
DESCRIPTION:
URL:https://www.gruc.org.au/event/corporate-prayer/
LOCATION:Gympie Uniting Church\, 15 Red Hill Road\, Gympie\, QLD\, 4570\, Australia
END:VEVENT
BEGIN:VEVENT
DTSTART;TZID=Australia/Melbourne:20170808T140000
DTEND;TZID=Australia/Melbourne:20170808T150000
DTSTAMP:20260425T014302
CREATED:20170714T044602Z
LAST-MODIFIED:20170714T044602Z
UID:1591-1502200800-1502204400@www.gruc.org.au
SUMMARY:ALPHA
DESCRIPTION:
URL:https://www.gruc.org.au/event/alpha-4/
LOCATION:CE Room
END:VEVENT
BEGIN:VEVENT
DTSTART;TZID=Australia/Melbourne:20170808T093000
DTEND;TZID=Australia/Melbourne:20170808T093000
DTSTAMP:20260425T014302
CREATED:20170704T021036Z
LAST-MODIFIED:20170704T021648Z
UID:1541-1502184600-1502184600@www.gruc.org.au
SUMMARY:Men's Chat
DESCRIPTION:
URL:https://www.gruc.org.au/event/mens-chat-2/
LOCATION:d’Cafe\, Southside
END:VEVENT
BEGIN:VEVENT
DTSTART;TZID=Australia/Melbourne:20170804T190000
DTEND;TZID=Australia/Melbourne:20170804T210000
DTSTAMP:20260425T014302
CREATED:20170804T011248Z
LAST-MODIFIED:20170804T011248Z
UID:1639-1501873200-1501880400@www.gruc.org.au
SUMMARY:TRIBE
DESCRIPTION:
URL:https://www.gruc.org.au/event/tribe-2/
LOCATION:St Andrews Hall\, 19 Red Hill Road\, Gympie
END:VEVENT
BEGIN:VEVENT
DTSTART;TZID=Australia/Melbourne:20170801T140000
DTEND;TZID=Australia/Melbourne:20170801T150000
DTSTAMP:20260425T014302
CREATED:20170714T044525Z
LAST-MODIFIED:20170714T044536Z
UID:1589-1501596000-1501599600@www.gruc.org.au
SUMMARY:ALPHA
DESCRIPTION:
URL:https://www.gruc.org.au/event/alpha-3/
LOCATION:CE Room
END:VEVENT
BEGIN:VEVENT
DTSTART;TZID=Australia/Melbourne:20170730T180000
DTEND;TZID=Australia/Melbourne:20170730T180000
DTSTAMP:20260425T014302
CREATED:20170625T235645Z
LAST-MODIFIED:20170704T021540Z
UID:1507-1501437600-1501437600@www.gruc.org.au
SUMMARY:New Life Collective
DESCRIPTION:
URL:https://www.gruc.org.au/event/new-life-collective-6/
LOCATION:Senior Citizen’s Centre\, Mellor Street\, Gympie
END:VEVENT
BEGIN:VEVENT
DTSTART;TZID=Australia/Melbourne:20170730T100000
DTEND;TZID=Australia/Melbourne:20170730T100000
DTSTAMP:20260425T014302
CREATED:20170714T045537Z
LAST-MODIFIED:20170714T045537Z
UID:1605-1501408800-1501408800@www.gruc.org.au
SUMMARY:Iron & Clay
DESCRIPTION:
URL:https://www.gruc.org.au/event/iron-clay/
LOCATION:Gympie Uniting Church\, 15 Red Hill Road\, Gympie\, QLD\, 4570\, Australia
END:VEVENT
BEGIN:VEVENT
DTSTART;TZID=Australia/Melbourne:20170728T093000
DTEND;TZID=Australia/Melbourne:20170728T093000
DTSTAMP:20260425T014302
CREATED:20170714T045716Z
LAST-MODIFIED:20170714T045716Z
UID:1607-1501234200-1501234200@www.gruc.org.au
SUMMARY:Amamoor Morning Tea
DESCRIPTION:
URL:https://www.gruc.org.au/event/amamoor-morning-tea/
LOCATION:Blue and White Teapot Cafe\, Busby Street\, Amamoor\, 4570
END:VEVENT
BEGIN:VEVENT
DTSTART;TZID=Australia/Melbourne:20170727T100000
DTEND;TZID=Australia/Melbourne:20170727T100000
DTSTAMP:20260425T014302
CREATED:20170706T050620Z
LAST-MODIFIED:20170706T050620Z
UID:1557-1501149600-1501149600@www.gruc.org.au
SUMMARY:Cuppa and Chat
DESCRIPTION:
URL:https://www.gruc.org.au/event/cuppa-and-chat-4/
LOCATION:d’Cafe\, Southside
END:VEVENT
BEGIN:VEVENT
DTSTART;TZID=Australia/Melbourne:20170725T140000
DTEND;TZID=Australia/Melbourne:20170725T150000
DTSTAMP:20260425T014302
CREATED:20170714T044452Z
LAST-MODIFIED:20170714T044452Z
UID:1587-1500991200-1500994800@www.gruc.org.au
SUMMARY:ALPHA
DESCRIPTION:
URL:https://www.gruc.org.au/event/alpha-2/
LOCATION:CE Room
END:VEVENT
END:VCALENDAR