BEGIN:VCALENDAR
VERSION:2.0
PRODID:-//Gympie Regional Uniting Church - ECPv5.8.1//NONSGML v1.0//EN
CALSCALE:GREGORIAN
METHOD:PUBLISH
X-WR-CALNAME:Gympie Regional Uniting Church
X-ORIGINAL-URL:https://www.gruc.org.au
X-WR-CALDESC:Events for Gympie Regional Uniting Church
BEGIN:VTIMEZONE
TZID:Australia/Melbourne
BEGIN:STANDARD
TZOFFSETFROM:+1100
TZOFFSETTO:+1000
TZNAME:AEST
DTSTART:20180331T160000
END:STANDARD
BEGIN:DAYLIGHT
TZOFFSETFROM:+1000
TZOFFSETTO:+1100
TZNAME:AEDT
DTSTART:20181006T160000
END:DAYLIGHT
END:VTIMEZONE
BEGIN:VEVENT
DTSTART;TZID=Australia/Melbourne:20180510T080000
DTEND;TZID=Australia/Melbourne:20180510T090000
DTSTAMP:20260424T094552
CREATED:20180408T233025Z
LAST-MODIFIED:20180408T233025Z
UID:2254-1525939200-1525942800@www.gruc.org.au
SUMMARY:Corporate Prayer & Communion
DESCRIPTION:Prayer is Powerful!!  Please join us to pray as church family and share in communion – even if you can stay for only a short time.
URL:https://www.gruc.org.au/event/corporate-prayer-communion-24/
LOCATION:Gympie Uniting Church\, 15 Red Hill Road\, Gympie\, QLD\, 4570\, Australia
END:VEVENT
BEGIN:VEVENT
DTSTART;TZID=Australia/Melbourne:20180508T093000
DTEND;TZID=Australia/Melbourne:20180508T110000
DTSTAMP:20260424T094552
CREATED:20180408T232034Z
LAST-MODIFIED:20180408T232034Z
UID:2234-1525771800-1525777200@www.gruc.org.au
SUMMARY:Men's Chat
DESCRIPTION:A great opportunity for our men to gather for great company and conversation.
URL:https://www.gruc.org.au/event/mens-chat-10/
LOCATION:d’Cafe\, Southside
END:VEVENT
BEGIN:VEVENT
DTSTART;TZID=Australia/Melbourne:20180508T080000
DTEND;TZID=Australia/Melbourne:20180508T090000
DTSTAMP:20260424T094552
CREATED:20180507T224416Z
LAST-MODIFIED:20180507T224416Z
UID:2312-1525766400-1525770000@www.gruc.org.au
SUMMARY:Corporate Prayer & Communion
DESCRIPTION:Prayer is Powerful!!  Please join us to pray as church family and share in communion – even if you can stay for only a short time.
URL:https://www.gruc.org.au/event/corporate-prayer-communion-27/
LOCATION:Gympie Uniting Church\, 15 Red Hill Road\, Gympie\, QLD\, 4570\, Australia
END:VEVENT
BEGIN:VEVENT
DTSTART;TZID=Australia/Melbourne:20180503T084500
DTEND;TZID=Australia/Melbourne:20180503T153000
DTSTAMP:20260424T094552
CREATED:20180408T233857Z
LAST-MODIFIED:20180408T233857Z
UID:2261-1525337100-1525361400@www.gruc.org.au
SUMMARY:Friendship Circle Bus Trip
DESCRIPTION:The bus trip to Nanango (visiting Ringsfield House).  Bookings essential – see Ruth or Helen.
URL:https://www.gruc.org.au/event/friendship-circle-bus-trip/
LOCATION:Gympie Uniting Church\, 15 Red Hill Road\, Gympie\, QLD\, 4570\, Australia
END:VEVENT
BEGIN:VEVENT
DTSTART;TZID=Australia/Melbourne:20180503T080000
DTEND;TZID=Australia/Melbourne:20180503T090000
DTSTAMP:20260424T094552
CREATED:20180408T232908Z
LAST-MODIFIED:20180408T232930Z
UID:2251-1525334400-1525338000@www.gruc.org.au
SUMMARY:Corporate Prayer & Communion
DESCRIPTION:Prayer is Powerful!!  Please join us to pray as church family and share in communion – even if you can stay for only a short time.
URL:https://www.gruc.org.au/event/2251/
LOCATION:Gympie Uniting Church\, 15 Red Hill Road\, Gympie\, QLD\, 4570\, Australia
END:VEVENT
BEGIN:VEVENT
DTSTART;TZID=Australia/Melbourne:20180428T080000
DTEND;TZID=Australia/Melbourne:20180428T110000
DTSTAMP:20260424T094552
CREATED:20180419T005547Z
LAST-MODIFIED:20180419T005547Z
UID:2272-1524902400-1524913200@www.gruc.org.au
SUMMARY:Working Bee (Red Hill)
DESCRIPTION:With the weather cooling off\, now’s the time to spruce up our grounds . . . pruning\, gardening and cleaning.  \nSAFETY: Wear long sleeves and long pants\, gardening gloves\, sunglasses or protective glasses\, closed in shoes with good grip soles and a brimmed hat (not a cap). \nMorning Tea at 10am and then should be finished. \nContact Keith for more information.
URL:https://www.gruc.org.au/event/working-bee-red-hill/
LOCATION:Gympie Uniting Church\, 15 Red Hill Road\, Gympie\, QLD\, 4570\, Australia
END:VEVENT
BEGIN:VEVENT
DTSTART;TZID=Australia/Melbourne:20180426T080000
DTEND;TZID=Australia/Melbourne:20180426T090000
DTSTAMP:20260424T094552
CREATED:20180408T232841Z
LAST-MODIFIED:20180408T232841Z
UID:2249-1524729600-1524733200@www.gruc.org.au
SUMMARY:Corporate Prayer & Communion
DESCRIPTION:Prayer is Powerful!!  Please join us to pray as church family and share in communion – even if you can stay for only a short time.
URL:https://www.gruc.org.au/event/corporate-prayer-communion-23/
LOCATION:Gympie Uniting Church\, 15 Red Hill Road\, Gympie\, QLD\, 4570\, Australia
END:VEVENT
BEGIN:VEVENT
DTSTART;TZID=Australia/Melbourne:20180424T143000
DTEND;TZID=Australia/Melbourne:20180424T153000
DTSTAMP:20260424T094552
CREATED:20180419T005834Z
LAST-MODIFIED:20180419T005834Z
UID:2274-1524580200-1524583800@www.gruc.org.au
SUMMARY:Grevillea Gardens Commissioning Service
DESCRIPTION:You are invited to a Commissioning to Placement Service for Narelle Cramb serving as Chaplain for Blue Care\, Gympie. \nLight refreshments will be served after the service which will be held in the Opal Room.
URL:https://www.gruc.org.au/event/grevillea-gardens-commissioning-service/
LOCATION:Grevillea Gardens\, 23 Ramsay Rd\, Southside
END:VEVENT
BEGIN:VEVENT
DTSTART;TZID=Australia/Melbourne:20180419T143000
DTEND;TZID=Australia/Melbourne:20180419T153000
DTSTAMP:20260424T094552
CREATED:20180408T232319Z
LAST-MODIFIED:20180408T232319Z
UID:2239-1524148200-1524151800@www.gruc.org.au
SUMMARY:Picnic in the Park
DESCRIPTION:Join us for afternoon tea at Lake Alford (in the shelter on the highway side). Please bring along your own tea / coffee and something to share.
URL:https://www.gruc.org.au/event/picnic-in-the-park-4/
LOCATION:Duck Ponds\, Lake Alford\, Monkland
END:VEVENT
BEGIN:VEVENT
DTSTART;TZID=Australia/Melbourne:20180419T080000
DTEND;TZID=Australia/Melbourne:20180419T090000
DTSTAMP:20260424T094552
CREATED:20180408T232809Z
LAST-MODIFIED:20180408T232809Z
UID:2247-1524124800-1524128400@www.gruc.org.au
SUMMARY:Corporate Prayer & Communion
DESCRIPTION:Prayer is Powerful!!  Please join us to pray as church family and share in communion – even if you can stay for only a short time.
URL:https://www.gruc.org.au/event/corporate-prayer-communion-22/
LOCATION:Gympie Uniting Church\, 15 Red Hill Road\, Gympie\, QLD\, 4570\, Australia
END:VEVENT
BEGIN:VEVENT
DTSTART;TZID=Australia/Melbourne:20180412T080000
DTEND;TZID=Australia/Melbourne:20180412T090000
DTSTAMP:20260424T094552
CREATED:20180311T225011Z
LAST-MODIFIED:20180311T232309Z
UID:2164-1523520000-1523523600@www.gruc.org.au
SUMMARY:Corporate Prayer and Communion
DESCRIPTION:Prayer is Powerful!!  Please join us to pray as church family and share in communion – even if you can stay for only a short time.
URL:https://www.gruc.org.au/event/2164/
LOCATION:Gympie Uniting Church\, 15 Red Hill Road\, Gympie\, QLD\, 4570\, Australia
END:VEVENT
BEGIN:VEVENT
DTSTART;TZID=Australia/Melbourne:20180410T093000
DTEND;TZID=Australia/Melbourne:20180410T110000
DTSTAMP:20260424T094552
CREATED:20180408T231857Z
LAST-MODIFIED:20180408T231857Z
UID:2231-1523352600-1523358000@www.gruc.org.au
SUMMARY:Men's Chat
DESCRIPTION:A great opportunity for our men to gather for great company and conversation.
URL:https://www.gruc.org.au/event/mens-chat-9/
LOCATION:d’Cafe\, Southside
END:VEVENT
BEGIN:VEVENT
DTSTART;TZID=Australia/Melbourne:20180405T080000
DTEND;TZID=Australia/Melbourne:20180405T090000
DTSTAMP:20260424T094552
CREATED:20180304T235349Z
LAST-MODIFIED:20180304T235423Z
UID:2138-1522915200-1522918800@www.gruc.org.au
SUMMARY:Corporate Prayer
DESCRIPTION:Prayer is Powerful!!  Please join us to pray as church family and share in communion – even if you can stay for only a short time.
URL:https://www.gruc.org.au/event/corporate-prayer-9/
LOCATION:Gympie Uniting Church\, 15 Red Hill Road\, Gympie\, QLD\, 4570\, Australia
END:VEVENT
BEGIN:VEVENT
DTSTART;TZID=Australia/Melbourne:20180401T100000
DTEND;TZID=Australia/Melbourne:20180401T113000
DTSTAMP:20260424T094552
CREATED:20180311T232538Z
LAST-MODIFIED:20180311T232651Z
UID:2186-1522576800-1522582200@www.gruc.org.au
SUMMARY:Easter Sunday ~ Gympie 10am
DESCRIPTION:He is risen! \nContemporary worship service.
URL:https://www.gruc.org.au/event/easter-sunday-gympie-10am/
LOCATION:Gympie Uniting Church\, 15 Red Hill Road\, Gympie\, QLD\, 4570\, Australia
END:VEVENT
BEGIN:VEVENT
DTSTART;TZID=Australia/Melbourne:20180401T090000
DTEND;TZID=Australia/Melbourne:20180401T100000
DTSTAMP:20260424T094552
CREATED:20180311T232617Z
LAST-MODIFIED:20180311T232617Z
UID:2188-1522573200-1522576800@www.gruc.org.au
SUMMARY:Easter Sunday ~ Imbil
DESCRIPTION:He is risen!
URL:https://www.gruc.org.au/event/easter-sunday-imbil/
LOCATION:Imbil Uniting Church\, 3 Elizabeth Street\, Imbil\, Queensland\, 4570\, Australia
END:VEVENT
BEGIN:VEVENT
DTSTART;TZID=Australia/Melbourne:20180401T080000
DTEND;TZID=Australia/Melbourne:20180401T090000
DTSTAMP:20260424T094552
CREATED:20180311T232104Z
LAST-MODIFIED:20180311T232715Z
UID:2181-1522569600-1522573200@www.gruc.org.au
SUMMARY:Easter Sunday ~ Gympie 8am
DESCRIPTION:He is risen! \nTraditional worship service.
URL:https://www.gruc.org.au/event/easter-sunday-gympie/
LOCATION:Gympie Uniting Church\, 15 Red Hill Road\, Gympie\, QLD\, 4570\, Australia
END:VEVENT
BEGIN:VEVENT
DTSTART;TZID=Australia/Melbourne:20180401T060000
DTEND;TZID=Australia/Melbourne:20180401T070000
DTSTAMP:20260424T094552
CREATED:20180311T232844Z
LAST-MODIFIED:20180311T232844Z
UID:2192-1522562400-1522566000@www.gruc.org.au
SUMMARY:Easter Sunday ~ Dagun
DESCRIPTION:Dawn Service on Dagun Hill.
URL:https://www.gruc.org.au/event/easter-sunday-dagun/
LOCATION:Queensland
END:VEVENT
BEGIN:VEVENT
DTSTART;TZID=Australia/Melbourne:20180401T053000
DTEND;TZID=Australia/Melbourne:20180401T063000
DTSTAMP:20260424T094552
CREATED:20180311T232805Z
LAST-MODIFIED:20180311T232805Z
UID:2190-1522560600-1522564200@www.gruc.org.au
SUMMARY:Easter Sunday ~ Rainbow Beach
DESCRIPTION:Dawn Service.
URL:https://www.gruc.org.au/event/easter-sunday-rainbow-beach/
LOCATION:Queensland
END:VEVENT
BEGIN:VEVENT
DTSTART;TZID=Australia/Melbourne:20180331T090000
DTEND;TZID=Australia/Melbourne:20180331T120000
DTSTAMP:20260424T094552
CREATED:20180304T235805Z
LAST-MODIFIED:20180304T235915Z
UID:2141-1522486800-1522497600@www.gruc.org.au
SUMMARY:Trailblazers Street Stall & Sausage Sizzle
DESCRIPTION:Supporting Mary Valley School Chaplaincy setting up outside the Mary Valley Traders at Imbil.  Come and buy some home baking\, fresh produce\, craft and lots more. \nDonations of saleable items would be welcome.  Contact Judy Kropp of Helen Ward.
URL:https://www.gruc.org.au/event/trailblazers-street-stall-sausage-sizzle/
LOCATION:Mary Valley Traders\, Imbil\, 93 Yabba Road\, Imbil\, Qld\, Australia
END:VEVENT
BEGIN:VEVENT
DTSTART;TZID=Australia/Melbourne:20180330T080000
DTEND;TZID=Australia/Melbourne:20180330T090000
DTSTAMP:20260424T094553
CREATED:20180311T231934Z
LAST-MODIFIED:20180311T231934Z
UID:2179-1522396800-1522400400@www.gruc.org.au
SUMMARY:Good Friday ~ Gympie
DESCRIPTION:Good Friday Service
URL:https://www.gruc.org.au/event/good-friday-gympie/
LOCATION:Gympie Uniting Church\, 15 Red Hill Road\, Gympie\, QLD\, 4570\, Australia
END:VEVENT
BEGIN:VEVENT
DTSTART;TZID=Australia/Melbourne:20180330T080000
DTEND;TZID=Australia/Melbourne:20180330T090000
DTSTAMP:20260424T094553
CREATED:20180311T231902Z
LAST-MODIFIED:20180311T231902Z
UID:2177-1522396800-1522400400@www.gruc.org.au
SUMMARY:Good Friday ~ Imbil
DESCRIPTION:Good Friday Service
URL:https://www.gruc.org.au/event/good-friday-imbil/
LOCATION:Imbil Uniting Church\, 3 Elizabeth Street\, Imbil\, Queensland\, 4570\, Australia
END:VEVENT
BEGIN:VEVENT
DTSTART;TZID=Australia/Melbourne:20180329T190000
DTEND;TZID=Australia/Melbourne:20180329T200000
DTSTAMP:20260424T094553
CREATED:20180311T231804Z
LAST-MODIFIED:20180311T231804Z
UID:2175-1522350000-1522353600@www.gruc.org.au
SUMMARY:Maundy Thursday ~ Gympie
DESCRIPTION:We welcome you to join us on Maundy Thursday evening at our Tenebrae Service. \nThis service reverently sets the scene for the Easter journey as we remember all that our Lord sacrificed for us and to give thanks.
URL:https://www.gruc.org.au/event/maundy-thursday-gympie/
LOCATION:Gympie Uniting Church\, 15 Red Hill Road\, Gympie\, QLD\, 4570\, Australia
END:VEVENT
BEGIN:VEVENT
DTSTART;TZID=Australia/Melbourne:20180329T080000
DTEND;TZID=Australia/Melbourne:20180329T090000
DTSTAMP:20260424T094553
CREATED:20180212T005538Z
LAST-MODIFIED:20180226T010653Z
UID:2089-1522310400-1522314000@www.gruc.org.au
SUMMARY:Corporate Prayer & Communion
DESCRIPTION:Prayer is Powerful!!  Please join us to pray as church family and share in communion – even if you can stay for only a short time.
URL:https://www.gruc.org.au/event/corporate-prayer-communion-21/
LOCATION:Gympie Uniting Church\, 15 Red Hill Road\, Gympie\, QLD\, 4570\, Australia
END:VEVENT
BEGIN:VEVENT
DTSTART;TZID=Australia/Melbourne:20180326T183000
DTEND;TZID=Australia/Melbourne:20180326T203000
DTSTAMP:20260424T094553
CREATED:20180323T050553Z
LAST-MODIFIED:20180323T050553Z
UID:2212-1522089000-1522096200@www.gruc.org.au
SUMMARY:Church Leadership Team Meeting
DESCRIPTION:
URL:https://www.gruc.org.au/event/church-leadership-team-meeting/
LOCATION:CE Room
END:VEVENT
BEGIN:VEVENT
DTSTART;TZID=Australia/Melbourne:20180325T170000
DTEND;TZID=Australia/Melbourne:20180325T193000
DTSTAMP:20260424T094553
CREATED:20180311T230609Z
LAST-MODIFIED:20180316T044650Z
UID:2173-1521997200-1522006200@www.gruc.org.au
SUMMARY:Palm Sunday ~ Combined Churches Service
DESCRIPTION:GRUC will be hosting a Palm Sunday Combined Churches evening service. \nSausage Sizzle from 5 to 6pm (free\, donations appreciated) \nPhil and Bel Thomson of Willow Creek will be special guests that evening. \nThe service will commence at 6pm.
URL:https://www.gruc.org.au/event/palm-sunday/
LOCATION:Gympie Uniting Church\, 15 Red Hill Road\, Gympie\, QLD\, 4570\, Australia
END:VEVENT
BEGIN:VEVENT
DTSTART;TZID=Australia/Melbourne:20180325T160000
DTEND;TZID=Australia/Melbourne:20180325T180000
DTSTAMP:20260424T094553
CREATED:20180226T004938Z
LAST-MODIFIED:20180226T010338Z
UID:2114-1521993600-1522000800@www.gruc.org.au
SUMMARY:Messy Family Fun
DESCRIPTION:  \nMessy Family Fun invites all ages from the community to join us in activities for all ages. We’ll share a 2-course meal and enjoy conversation around the table. Everyone is welcome!
URL:https://www.gruc.org.au/event/messy-family-fun-8/
LOCATION:Imbil Uniting Church\, 3 Elizabeth Street\, Imbil\, Queensland\, 4570\, Australia
END:VEVENT
BEGIN:VEVENT
DTSTART;TZID=Australia/Melbourne:20180322T080000
DTEND;TZID=Australia/Melbourne:20180322T090000
DTSTAMP:20260424T094553
CREATED:20180212T005508Z
LAST-MODIFIED:20180316T044522Z
UID:2087-1521705600-1521709200@www.gruc.org.au
SUMMARY:Corporate Prayer & Communion
DESCRIPTION:Prayer is Powerful!!  Please join us to pray as church family and share in communion – even if you can stay for only a short time.  This week we’ll meet either in the CE Room or one of the offices.
URL:https://www.gruc.org.au/event/corporate-prayer-communion-20/
LOCATION:Gympie Uniting Church\, 15 Red Hill Road\, Gympie\, QLD\, 4570\, Australia
END:VEVENT
BEGIN:VEVENT
DTSTART;TZID=Australia/Melbourne:20180316T093000
DTEND;TZID=Australia/Melbourne:20180316T110000
DTSTAMP:20260424T094553
CREATED:20180311T225559Z
LAST-MODIFIED:20180311T225559Z
UID:2166-1521192600-1521198000@www.gruc.org.au
SUMMARY:Morning Tea in The Valley
DESCRIPTION:Join us for Morning Tea in The Valley for some lively chat over a cuppa.
URL:https://www.gruc.org.au/event/morning-tea-in-the-valley-2/
LOCATION:Kandanga Farm Cafe\, 93 Main Street\, Kandanga\, Queensland\, 4570\, Australia
END:VEVENT
BEGIN:VEVENT
DTSTART;TZID=Australia/Melbourne:20180315T090000
DTEND;TZID=Australia/Melbourne:20180315T100000
DTSTAMP:20260424T094553
CREATED:20180311T225805Z
LAST-MODIFIED:20180311T225805Z
UID:2169-1521104400-1521108000@www.gruc.org.au
SUMMARY:Contact magazine Folding
DESCRIPTION:Join us as we chat and fold the next issue of the Contact Magazine in our hall.  It takes little more than an hour and many hands make light work.
URL:https://www.gruc.org.au/event/contact-magazine-folding-2/
LOCATION:St Andrews Hall\, 19 Red Hill Road\, Gympie
END:VEVENT
BEGIN:VEVENT
DTSTART;TZID=Australia/Melbourne:20180315T080000
DTEND;TZID=Australia/Melbourne:20180315T090000
DTSTAMP:20260424T094553
CREATED:20180212T005428Z
LAST-MODIFIED:20180226T010559Z
UID:2085-1521100800-1521104400@www.gruc.org.au
SUMMARY:Corporate Prayer & Communion
DESCRIPTION:Prayer is Powerful!!  Please join us to pray as church family and share in communion – even if you can stay for only a short time.
URL:https://www.gruc.org.au/event/corporate-prayer-communion-19/
LOCATION:Gympie Uniting Church\, 15 Red Hill Road\, Gympie\, QLD\, 4570\, Australia
END:VEVENT
END:VCALENDAR