BEGIN:VCALENDAR
VERSION:2.0
PRODID:-//Gympie Regional Uniting Church - ECPv5.8.1//NONSGML v1.0//EN
CALSCALE:GREGORIAN
METHOD:PUBLISH
X-WR-CALNAME:Gympie Regional Uniting Church
X-ORIGINAL-URL:https://www.gruc.org.au
X-WR-CALDESC:Events for Gympie Regional Uniting Church
BEGIN:VTIMEZONE
TZID:Australia/Melbourne
BEGIN:STANDARD
TZOFFSETFROM:+1100
TZOFFSETTO:+1000
TZNAME:AEST
DTSTART:20170401T160000
END:STANDARD
BEGIN:DAYLIGHT
TZOFFSETFROM:+1000
TZOFFSETTO:+1100
TZNAME:AEDT
DTSTART:20170930T160000
END:DAYLIGHT
BEGIN:STANDARD
TZOFFSETFROM:+1100
TZOFFSETTO:+1000
TZNAME:AEST
DTSTART:20180331T160000
END:STANDARD
BEGIN:DAYLIGHT
TZOFFSETFROM:+1000
TZOFFSETTO:+1100
TZNAME:AEDT
DTSTART:20181006T160000
END:DAYLIGHT
END:VTIMEZONE
BEGIN:VEVENT
DTSTART;TZID=Australia/Melbourne:20180315T080000
DTEND;TZID=Australia/Melbourne:20180315T090000
DTSTAMP:20260424T194129
CREATED:20180212T005428Z
LAST-MODIFIED:20180226T010559Z
UID:2085-1521100800-1521104400@www.gruc.org.au
SUMMARY:Corporate Prayer & Communion
DESCRIPTION:Prayer is Powerful!!  Please join us to pray as church family and share in communion – even if you can stay for only a short time.
URL:https://www.gruc.org.au/event/corporate-prayer-communion-19/
LOCATION:Gympie Uniting Church\, 15 Red Hill Road\, Gympie\, QLD\, 4570\, Australia
END:VEVENT
BEGIN:VEVENT
DTSTART;TZID=Australia/Melbourne:20180308T080000
DTEND;TZID=Australia/Melbourne:20180308T090000
DTSTAMP:20260424T194129
CREATED:20180212T005348Z
LAST-MODIFIED:20180226T010531Z
UID:2083-1520496000-1520499600@www.gruc.org.au
SUMMARY:Corporate Prayer & Communion
DESCRIPTION:Prayer is Powerful!!  Please join us to pray as church family and share in communion – even if you can stay for only a short time.
URL:https://www.gruc.org.au/event/corporate-prayer-communion-18/
LOCATION:Gympie Uniting Church\, 15 Red Hill Road\, Gympie\, QLD\, 4570\, Australia
END:VEVENT
BEGIN:VEVENT
DTSTART;TZID=Australia/Melbourne:20180301T090000
DTEND;TZID=Australia/Melbourne:20180301T110000
DTSTAMP:20260424T194129
CREATED:20180219T004146Z
LAST-MODIFIED:20180226T010737Z
UID:2106-1519894800-1519902000@www.gruc.org.au
SUMMARY:Friendship Circle
DESCRIPTION:All ladies are very welcome to join us.
URL:https://www.gruc.org.au/event/friendship-circle-7/
LOCATION:CE Room
END:VEVENT
BEGIN:VEVENT
DTSTART;TZID=Australia/Melbourne:20180301T080000
DTEND;TZID=Australia/Melbourne:20180301T090000
DTSTAMP:20260424T194129
CREATED:20180212T005133Z
LAST-MODIFIED:20180226T010437Z
UID:2080-1519891200-1519894800@www.gruc.org.au
SUMMARY:Corporate Prayer & Communion
DESCRIPTION:Prayer is Powerful!!  Please join us to pray as church family and share in communion – even if you can stay for only a short time.
URL:https://www.gruc.org.au/event/corporate-prayer-communion-17/
LOCATION:Gympie Uniting Church\, 15 Red Hill Road\, Gympie\, QLD\, 4570\, Australia
END:VEVENT
BEGIN:VEVENT
DTSTART;TZID=Australia/Melbourne:20180226T183000
DTEND;TZID=Australia/Melbourne:20180226T203000
DTSTAMP:20260424T194129
CREATED:20180219T004046Z
LAST-MODIFIED:20180219T004046Z
UID:2104-1519669800-1519677000@www.gruc.org.au
SUMMARY:Church Leadership Meeting
DESCRIPTION:
URL:https://www.gruc.org.au/event/church-leadership-meeting-2/
LOCATION:CE Room
END:VEVENT
BEGIN:VEVENT
DTSTART;TZID=Australia/Melbourne:20180225T160000
DTEND;TZID=Australia/Melbourne:20180225T180000
DTSTAMP:20260424T194129
CREATED:20180125T075431Z
LAST-MODIFIED:20180125T075506Z
UID:2066-1519574400-1519581600@www.gruc.org.au
SUMMARY:Messy Family Fun
DESCRIPTION:
URL:https://www.gruc.org.au/event/messy-family-fun-7/
LOCATION:Imbil Uniting Church\, 3 Elizabeth Street\, Imbil\, Queensland\, 4570\, Australia
END:VEVENT
BEGIN:VEVENT
DTSTART;TZID=Australia/Melbourne:20180224T183000
DTEND;TZID=Australia/Melbourne:20180224T203000
DTSTAMP:20260424T194129
CREATED:20180212T012007Z
LAST-MODIFIED:20180219T003934Z
UID:2092-1519497000-1519504200@www.gruc.org.au
SUMMARY:Blokes Shed
DESCRIPTION:
URL:https://www.gruc.org.au/event/blokes-shed-2/
LOCATION:Edwards Transport Depot\, 1021 Old Bruce Hwy\, Kybong\, Queensland\, 4570\, Australia
END:VEVENT
BEGIN:VEVENT
DTSTART;TZID=Australia/Melbourne:20180222T080000
DTEND;TZID=Australia/Melbourne:20180222T090000
DTSTAMP:20260424T194129
CREATED:20180125T074704Z
LAST-MODIFIED:20180125T074704Z
UID:2054-1519286400-1519290000@www.gruc.org.au
SUMMARY:Corporate Prayer & Communion
DESCRIPTION:
URL:https://www.gruc.org.au/event/corporate-prayer-communion-16/
LOCATION:Gympie Uniting Church\, 15 Red Hill Road\, Gympie\, QLD\, 4570\, Australia
END:VEVENT
BEGIN:VEVENT
DTSTART;TZID=Australia/Melbourne:20180221T093000
DTEND;TZID=Australia/Melbourne:20180221T120000
DTSTAMP:20260424T194129
CREATED:20180125T075349Z
LAST-MODIFIED:20180125T075349Z
UID:2064-1519205400-1519214400@www.gruc.org.au
SUMMARY:Gympie bible Society Meeting
DESCRIPTION:
URL:https://www.gruc.org.au/event/gympie-bible-society-meeting/
LOCATION:CE Room
END:VEVENT
BEGIN:VEVENT
DTSTART;TZID=Australia/Melbourne:20180217T090000
DTEND;TZID=Australia/Melbourne:20180217T123000
DTSTAMP:20260424T194129
CREATED:20180212T012356Z
LAST-MODIFIED:20180212T012356Z
UID:2094-1518858000-1518870600@www.gruc.org.au
SUMMARY:Safe Ministry with Children Training Morning
DESCRIPTION:
URL:https://www.gruc.org.au/event/safe-ministry-with-children-training-morning/
LOCATION:Gympie Uniting Church\, 15 Red Hill Road\, Gympie\, QLD\, 4570\, Australia
END:VEVENT
BEGIN:VEVENT
DTSTART;TZID=Australia/Melbourne:20180215T143000
DTEND;TZID=Australia/Melbourne:20180215T153000
DTSTAMP:20260424T194129
CREATED:20180125T075229Z
LAST-MODIFIED:20180125T075229Z
UID:2062-1518705000-1518708600@www.gruc.org.au
SUMMARY:Picnic In The Park
DESCRIPTION:
URL:https://www.gruc.org.au/event/picnic-in-the-park/
LOCATION:Duck Ponds\, Lake Alford\, Monkland
END:VEVENT
BEGIN:VEVENT
DTSTART;TZID=Australia/Melbourne:20180215T080000
DTEND;TZID=Australia/Melbourne:20180215T090000
DTSTAMP:20260424T194129
CREATED:20180125T074635Z
LAST-MODIFIED:20180125T074635Z
UID:2052-1518681600-1518685200@www.gruc.org.au
SUMMARY:Corporate Prayer & Communion
DESCRIPTION:
URL:https://www.gruc.org.au/event/corporate-prayer-communion-15/
LOCATION:Gympie Uniting Church\, 15 Red Hill Road\, Gympie\, QLD\, 4570\, Australia
END:VEVENT
BEGIN:VEVENT
DTSTART;TZID=Australia/Melbourne:20180213T093000
DTEND;TZID=Australia/Melbourne:20180213T230000
DTSTAMP:20260424T194129
CREATED:20180125T075101Z
LAST-MODIFIED:20180125T075101Z
UID:2060-1518514200-1518562800@www.gruc.org.au
SUMMARY:Men's Chat
DESCRIPTION:
URL:https://www.gruc.org.au/event/mens-chat-8/
LOCATION:d’Cafe\, Southside
END:VEVENT
BEGIN:VEVENT
DTSTART;TZID=Australia/Melbourne:20180211T143000
DTEND;TZID=Australia/Melbourne:20180211T150000
DTSTAMP:20260424T194129
CREATED:20171130T011457Z
LAST-MODIFIED:20171130T011457Z
UID:1958-1518359400-1518361200@www.gruc.org.au
SUMMARY:Special Congregational Meeting
DESCRIPTION:
URL:https://www.gruc.org.au/event/special-congregational-meeting/
LOCATION:Gympie Uniting Church\, 15 Red Hill Road\, Gympie\, QLD\, 4570\, Australia
END:VEVENT
BEGIN:VEVENT
DTSTART;TZID=Australia/Melbourne:20180208T080000
DTEND;TZID=Australia/Melbourne:20180208T090000
DTSTAMP:20260424T194129
CREATED:20180125T074600Z
LAST-MODIFIED:20180125T074600Z
UID:2050-1518076800-1518080400@www.gruc.org.au
SUMMARY:Corporate Prayer & Communion
DESCRIPTION:
URL:https://www.gruc.org.au/event/corporate-prayer-communion-14/
LOCATION:Gympie Uniting Church\, 15 Red Hill Road\, Gympie\, QLD\, 4570\, Australia
END:VEVENT
BEGIN:VEVENT
DTSTART;TZID=Australia/Melbourne:20180201T100000
DTEND;TZID=Australia/Melbourne:20180201T113000
DTSTAMP:20260424T194129
CREATED:20180125T074936Z
LAST-MODIFIED:20180125T074936Z
UID:2058-1517479200-1517484600@www.gruc.org.au
SUMMARY:South Side Coffee
DESCRIPTION:
URL:https://www.gruc.org.au/event/south-side-coffee/
LOCATION:d’Cafe\, Southside
END:VEVENT
BEGIN:VEVENT
DTSTART;TZID=Australia/Melbourne:20180201T090000
DTEND;TZID=Australia/Melbourne:20180201T110000
DTSTAMP:20260424T194129
CREATED:20180125T074824Z
LAST-MODIFIED:20180125T074824Z
UID:2056-1517475600-1517482800@www.gruc.org.au
SUMMARY:Friendship Circle
DESCRIPTION:
URL:https://www.gruc.org.au/event/friendship-circle-6/
LOCATION:CE Room
END:VEVENT
BEGIN:VEVENT
DTSTART;TZID=Australia/Melbourne:20180201T080000
DTEND;TZID=Australia/Melbourne:20180201T090000
DTSTAMP:20260424T194129
CREATED:20180125T074404Z
LAST-MODIFIED:20180125T074519Z
UID:2047-1517472000-1517475600@www.gruc.org.au
SUMMARY:Corporate Prayer & Communion
DESCRIPTION:
URL:https://www.gruc.org.au/event/corporate-prayer-communion-13/
LOCATION:Gympie Uniting Church\, 15 Red Hill Road\, Gympie\, QLD\, 4570\, Australia
END:VEVENT
BEGIN:VEVENT
DTSTART;TZID=Australia/Melbourne:20180201T080000
DTEND;TZID=Australia/Melbourne:20180201T090000
DTSTAMP:20260424T194129
CREATED:20171219T014048Z
LAST-MODIFIED:20171219T014201Z
UID:2021-1517472000-1517475600@www.gruc.org.au
SUMMARY:Corporate Prayer & Communion
DESCRIPTION:
URL:https://www.gruc.org.au/event/corporate-prayer-communion-12/
LOCATION:Gympie Uniting Church\, 15 Red Hill Road\, Gympie\, QLD\, 4570\, Australia
END:VEVENT
BEGIN:VEVENT
DTSTART;TZID=Australia/Melbourne:20180128T100000
DTEND;TZID=Australia/Melbourne:20180128T113000
DTSTAMP:20260424T194129
CREATED:20171219T014538Z
LAST-MODIFIED:20171219T014538Z
UID:2024-1517133600-1517139000@www.gruc.org.au
SUMMARY:Children's Church Resumes
DESCRIPTION:
URL:https://www.gruc.org.au/event/childrens-church-resumes/
LOCATION:Gympie Uniting Church\, 15 Red Hill Road\, Gympie\, QLD\, 4570\, Australia
END:VEVENT
BEGIN:VEVENT
DTSTART;TZID=Australia/Melbourne:20180109T093000
DTEND;TZID=Australia/Melbourne:20180109T110000
DTSTAMP:20260424T194129
CREATED:20171219T015659Z
LAST-MODIFIED:20171219T015659Z
UID:2028-1515490200-1515495600@www.gruc.org.au
SUMMARY:Men's Chat
DESCRIPTION:
URL:https://www.gruc.org.au/event/mens-chat-7/
LOCATION:d’Cafe\, Southside
END:VEVENT
BEGIN:VEVENT
DTSTART;TZID=Australia/Melbourne:20180104T090000
DTEND;TZID=Australia/Melbourne:20180104T100000
DTSTAMP:20260424T194129
CREATED:20171219T015507Z
LAST-MODIFIED:20171219T015507Z
UID:2026-1515056400-1515060000@www.gruc.org.au
SUMMARY:Contact Magazine Folding
DESCRIPTION:
URL:https://www.gruc.org.au/event/contact-magazine-folding/
LOCATION:St Andrews Hall\, 19 Red Hill Road\, Gympie
END:VEVENT
BEGIN:VEVENT
DTSTART;TZID=Australia/Melbourne:20171225T080000
DTEND;TZID=Australia/Melbourne:20171225T093000
DTSTAMP:20260424T194129
CREATED:20171219T013156Z
LAST-MODIFIED:20171219T013156Z
UID:2019-1514188800-1514194200@www.gruc.org.au
SUMMARY:Christmas Day Services
DESCRIPTION:
URL:https://www.gruc.org.au/event/christmas-day-services/
LOCATION:Queensland
END:VEVENT
BEGIN:VEVENT
DTSTART;TZID=Australia/Melbourne:20171224T090000
DTEND;TZID=Australia/Melbourne:20171224T100000
DTSTAMP:20260424T194129
CREATED:20171130T012455Z
LAST-MODIFIED:20171130T012455Z
UID:1970-1514106000-1514109600@www.gruc.org.au
SUMMARY:Lessons & Carols at Imbil
DESCRIPTION:
URL:https://www.gruc.org.au/event/lessons-carols-at-imbil/
LOCATION:Imbil Uniting Church\, 3 Elizabeth Street\, Imbil\, Queensland\, 4570\, Australia
END:VEVENT
BEGIN:VEVENT
DTSTART;TZID=Australia/Melbourne:20171221T080000
DTEND;TZID=Australia/Melbourne:20171221T090000
DTSTAMP:20260424T194129
CREATED:20171130T012303Z
LAST-MODIFIED:20171130T012303Z
UID:1967-1513843200-1513846800@www.gruc.org.au
SUMMARY:Corporate Prayer & Communion
DESCRIPTION:
URL:https://www.gruc.org.au/event/corporate-prayer-communion-11/
LOCATION:Gympie Uniting Church\, 15 Red Hill Road\, Gympie\, QLD\, 4570\, Australia
END:VEVENT
BEGIN:VEVENT
DTSTART;TZID=Australia/Melbourne:20171217T150000
DTEND;TZID=Australia/Melbourne:20171217T163000
DTSTAMP:20260424T194129
CREATED:20171102T022609Z
LAST-MODIFIED:20171204T023152Z
UID:1914-1513522800-1513528200@www.gruc.org.au
SUMMARY:Lessons & Carols on Red Hill
DESCRIPTION:
URL:https://www.gruc.org.au/event/lessons-carols/
LOCATION:Gympie Uniting Church\, 15 Red Hill Road\, Gympie\, QLD\, 4570\, Australia
END:VEVENT
BEGIN:VEVENT
DTSTART;TZID=Australia/Melbourne:20171216T160000
DTEND;TZID=Australia/Melbourne:20171216T210000
DTSTAMP:20260424T194129
CREATED:20171130T013534Z
LAST-MODIFIED:20171130T013534Z
UID:1972-1513440000-1513458000@www.gruc.org.au
SUMMARY:Christmas In The Park
DESCRIPTION:
URL:https://www.gruc.org.au/event/christmas-in-the-park/
LOCATION:Nelson Reserve\, Gympie\, Cnr Monnkland St & Jaycee Way\, Gympie\, Queensland\, 4570\, Australia
END:VEVENT
BEGIN:VEVENT
DTSTART;TZID=Australia/Melbourne:20171214T080000
DTEND;TZID=Australia/Melbourne:20171214T090000
DTSTAMP:20260424T194129
CREATED:20171130T012217Z
LAST-MODIFIED:20171130T012217Z
UID:1965-1513238400-1513242000@www.gruc.org.au
SUMMARY:Corporate Prayer & Communion
DESCRIPTION:
URL:https://www.gruc.org.au/event/corporate-prayer-communion-10/
LOCATION:Gympie Uniting Church\, 15 Red Hill Road\, Gympie\, QLD\, 4570\, Australia
END:VEVENT
BEGIN:VEVENT
DTSTART;TZID=Australia/Melbourne:20171212T093000
DTEND;TZID=Australia/Melbourne:20171212T110000
DTSTAMP:20260424T194129
CREATED:20170912T003704Z
LAST-MODIFIED:20170912T004409Z
UID:1777-1513071000-1513076400@www.gruc.org.au
SUMMARY:Men's Chat
DESCRIPTION:
URL:https://www.gruc.org.au/event/mens-chat-6/
LOCATION:d’Cafe\, Southside
END:VEVENT
BEGIN:VEVENT
DTSTART;TZID=Australia/Melbourne:20171210T160000
DTEND;TZID=Australia/Melbourne:20171210T180000
DTSTAMP:20260424T194129
CREATED:20171113T015829Z
LAST-MODIFIED:20171113T015938Z
UID:1933-1512921600-1512928800@www.gruc.org.au
SUMMARY:Messy Family Fun
DESCRIPTION:
URL:https://www.gruc.org.au/event/messy-family-fun-6/
LOCATION:Imbil Uniting Church\, 3 Elizabeth Street\, Imbil\, Queensland\, 4570\, Australia
END:VEVENT
END:VCALENDAR