BEGIN:VCALENDAR
VERSION:2.0
PRODID:-//Gympie Regional Uniting Church - ECPv5.8.1//NONSGML v1.0//EN
CALSCALE:GREGORIAN
METHOD:PUBLISH
X-WR-CALNAME:Gympie Regional Uniting Church
X-ORIGINAL-URL:https://www.gruc.org.au
X-WR-CALDESC:Events for Gympie Regional Uniting Church
BEGIN:VTIMEZONE
TZID:Australia/Melbourne
BEGIN:STANDARD
TZOFFSETFROM:+1100
TZOFFSETTO:+1000
TZNAME:AEST
DTSTART:20180331T160000
END:STANDARD
BEGIN:DAYLIGHT
TZOFFSETFROM:+1000
TZOFFSETTO:+1100
TZNAME:AEDT
DTSTART:20181006T160000
END:DAYLIGHT
END:VTIMEZONE
BEGIN:VEVENT
DTSTART;TZID=Australia/Melbourne:20180816T080000
DTEND;TZID=Australia/Melbourne:20180816T090000
DTSTAMP:20260424T062922
CREATED:20180729T222340Z
LAST-MODIFIED:20180729T222340Z
UID:2543-1534406400-1534410000@www.gruc.org.au
SUMMARY:Corporate Prayer & Communion
DESCRIPTION:Prayer is Powerful!!  Please join us to pray as church family and share in communion – even if you can stay for only a short time.
URL:https://www.gruc.org.au/event/corporate-prayer-communion-34/
LOCATION:Gympie Uniting Church\, 15 Red Hill Road\, Gympie\, QLD\, 4570\, Australia
END:VEVENT
BEGIN:VEVENT
DTSTART;TZID=Australia/Melbourne:20180815T171500
DTEND;TZID=Australia/Melbourne:20180815T174500
DTSTAMP:20260424T062922
CREATED:20180810T042342Z
LAST-MODIFIED:20180810T042342Z
UID:2589-1534353300-1534355100@www.gruc.org.au
SUMMARY:Prayer for Rain (Afternoon Session)
DESCRIPTION:The Combined Churches of Gympie are hosting a “Pray for Rain” event at Memorial Park. There are two separate 30 minute prayer times i.e.  7:15am and 5:15pm.  Come and join us.
URL:https://www.gruc.org.au/event/prayer-for-rain-afternoon-session/
LOCATION:Memorial Park\, Gympie\, Queensland\, Australia
END:VEVENT
BEGIN:VEVENT
DTSTART;TZID=Australia/Melbourne:20180815T093000
DTEND;TZID=Australia/Melbourne:20180815T120000
DTSTAMP:20260424T062922
CREATED:20180709T020128Z
LAST-MODIFIED:20180709T020128Z
UID:2491-1534325400-1534334400@www.gruc.org.au
SUMMARY:Bible Society AGM
DESCRIPTION:Come along and support the Gympie Branch of the Bible Society.  This will be our Annual General Meeting and we’ll share in morning tea.
URL:https://www.gruc.org.au/event/bible-society-agm-2/
LOCATION:CE Room
END:VEVENT
BEGIN:VEVENT
DTSTART;TZID=Australia/Melbourne:20180815T071500
DTEND;TZID=Australia/Melbourne:20180815T074500
DTSTAMP:20260424T062922
CREATED:20180810T042225Z
LAST-MODIFIED:20180810T042237Z
UID:2586-1534317300-1534319100@www.gruc.org.au
SUMMARY:Prayer for Rain (Morning Session)
DESCRIPTION:The Combined Churches of Gympie are hosting a “Pray for Rain” event at Memorial Park. There are two separate 30 minute prayer times i.e.  7:15am and 5:15pm.  Come and join us.
URL:https://www.gruc.org.au/event/prayer-for-rain/
LOCATION:Memorial Park\, Gympie\, Queensland\, Australia
END:VEVENT
BEGIN:VEVENT
DTSTART;TZID=Australia/Melbourne:20180814T093000
DTEND;TZID=Australia/Melbourne:20180814T110000
DTSTAMP:20260424T062922
CREATED:20180709T015710Z
LAST-MODIFIED:20180709T015740Z
UID:2488-1534239000-1534244400@www.gruc.org.au
SUMMARY:Men's Chat ~ Gympie
DESCRIPTION:A great opportunity for our men to gather for great company and conversation.
URL:https://www.gruc.org.au/event/mens-chat-gympie-2/
LOCATION:d’Cafe\, Southside
END:VEVENT
BEGIN:VEVENT
DTSTART;TZID=Australia/Melbourne:20180812T160000
DTEND;TZID=Australia/Melbourne:20180812T180000
DTSTAMP:20260424T062922
CREATED:20180806T003004Z
LAST-MODIFIED:20180806T003033Z
UID:2569-1534089600-1534096800@www.gruc.org.au
SUMMARY:Fish & Chips
DESCRIPTION:Join the gang from our Imbil Church for fresh fish & chips.  Meet at the Red Emperor\, Noosaville at 4pm.
URL:https://www.gruc.org.au/event/fish-chips/
END:VEVENT
BEGIN:VEVENT
DTSTART;TZID=Australia/Melbourne:20180809T080000
DTEND;TZID=Australia/Melbourne:20180809T090000
DTSTAMP:20260424T062922
CREATED:20180729T222308Z
LAST-MODIFIED:20180729T222308Z
UID:2541-1533801600-1533805200@www.gruc.org.au
SUMMARY:Corporate Prayer & Communion
DESCRIPTION:Prayer is Powerful!!  Please join us to pray as church family and share in communion – even if you can stay for only a short time.
URL:https://www.gruc.org.au/event/corporate-prayer-communion-33/
LOCATION:Gympie Uniting Church\, 15 Red Hill Road\, Gympie\, QLD\, 4570\, Australia
END:VEVENT
BEGIN:VEVENT
DTSTART;TZID=Australia/Melbourne:20180806T183000
DTEND;TZID=Australia/Melbourne:20180806T183000
DTSTAMP:20260424T062922
CREATED:20180806T002801Z
LAST-MODIFIED:20180806T002801Z
UID:2567-1533580200-1533580200@www.gruc.org.au
SUMMARY:Leadership Team Meeting
DESCRIPTION:
URL:https://www.gruc.org.au/event/leadership-team-meeting/
LOCATION:CE Room
END:VEVENT
BEGIN:VEVENT
DTSTART;TZID=Australia/Melbourne:20180802T090000
DTEND;TZID=Australia/Melbourne:20180802T110000
DTSTAMP:20260424T062922
CREATED:20180709T015613Z
LAST-MODIFIED:20180709T015613Z
UID:2486-1533200400-1533207600@www.gruc.org.au
SUMMARY:Friendship Circle
DESCRIPTION:All ladies are very welcome. \nIf you haven’t been before\, come along and see what it’s all about!  See Ruth or  Helen. \n 
URL:https://www.gruc.org.au/event/friendship-circle-10/
LOCATION:CE Room
END:VEVENT
BEGIN:VEVENT
DTSTART;TZID=Australia/Melbourne:20180802T080000
DTEND;TZID=Australia/Melbourne:20180802T090000
DTSTAMP:20260424T062922
CREATED:20180729T222224Z
LAST-MODIFIED:20180729T222224Z
UID:2539-1533196800-1533200400@www.gruc.org.au
SUMMARY:Corporate Prayer & Communion
DESCRIPTION:Prayer is Powerful!!  Please join us to pray as church family and share in communion – even if you can stay for only a short time.
URL:https://www.gruc.org.au/event/corporate-prayer-communion-32/
LOCATION:Gympie Uniting Church\, 15 Red Hill Road\, Gympie\, QLD\, 4570\, Australia
END:VEVENT
BEGIN:VEVENT
DTSTART;TZID=Australia/Melbourne:20180729T100000
DTEND;TZID=Australia/Melbourne:20180729T120000
DTSTAMP:20260424T062922
CREATED:20180716T022629Z
LAST-MODIFIED:20180716T022629Z
UID:2503-1532858400-1532865600@www.gruc.org.au
SUMMARY:Gympie Gathering
DESCRIPTION:5th Sunday of the month – combined gathering when we welcome Andy Gourley of Red Frogs as our guest then sharing in morning tea.
URL:https://www.gruc.org.au/event/gympie-gathering/
LOCATION:Gympie Uniting Church\, 15 Red Hill Road\, Gympie\, QLD\, 4570\, Australia
END:VEVENT
BEGIN:VEVENT
DTSTART;TZID=Australia/Melbourne:20180729T090000
DTEND;TZID=Australia/Melbourne:20180729T110000
DTSTAMP:20260424T062922
CREATED:20180716T023142Z
LAST-MODIFIED:20180716T023142Z
UID:2505-1532854800-1532862000@www.gruc.org.au
SUMMARY:Imbil Gathering
DESCRIPTION:Welcoming guests Steve & Margot Biggs of Ministry Aviation Fellowship.  Service at 9am then sharing in morning tea.
URL:https://www.gruc.org.au/event/imbil-gathering/
LOCATION:Imbil Uniting Church\, 3 Elizabeth Street\, Imbil\, Queensland\, 4570\, Australia
END:VEVENT
BEGIN:VEVENT
DTSTART;TZID=Australia/Melbourne:20180725T093000
DTEND;TZID=Australia/Melbourne:20180725T120000
DTSTAMP:20260424T062922
CREATED:20180615T033617Z
LAST-MODIFIED:20180615T035101Z
UID:2433-1532511000-1532520000@www.gruc.org.au
SUMMARY:Trailblazers Fashion Parade
DESCRIPTION:Join us for a wonderful Fashion Parade at our Imbil Uniting Church Hall.  Entertainment will include Songs from Children\, a luscious Morning Tea\, Pick A Box with great Prizes\, Bring & Buy Stall.  $5 entry with all proceeds going to Mary Valley School Chaplaincy.  Contact Judy on 5484 5290 or Helen on 5484 3143.
URL:https://www.gruc.org.au/event/trailblazers-fashion-parade/
LOCATION:Imbil Uniting Church\, 3 Elizabeth Street\, Imbil\, Queensland\, 4570\, Australia
END:VEVENT
BEGIN:VEVENT
DTSTART;TZID=Australia/Melbourne:20180723T183000
DTEND;TZID=Australia/Melbourne:20180723T203000
DTSTAMP:20260424T062922
CREATED:20180709T015251Z
LAST-MODIFIED:20180709T015332Z
UID:2484-1532370600-1532377800@www.gruc.org.au
SUMMARY:Leadership Meeting
DESCRIPTION:
URL:https://www.gruc.org.au/event/leadership-meeting-2/
LOCATION:CE Room
END:VEVENT
BEGIN:VEVENT
DTSTART;TZID=Australia/Melbourne:20180722T160000
DTEND;TZID=Australia/Melbourne:20180722T180000
DTSTAMP:20260424T062922
CREATED:20180528T012116Z
LAST-MODIFIED:20180528T012116Z
UID:2387-1532275200-1532282400@www.gruc.org.au
SUMMARY:Messy Family Fun
DESCRIPTION:Everyone is welcome to join us for some Messy Family Fun where there are activities for all ages\, a 2-course meal and conversation around the table.  There is not cost but if you would like to put something in the bowl\, that would be great.
URL:https://www.gruc.org.au/event/messy-family-fun-10/
LOCATION:Imbil Uniting Church\, 3 Elizabeth Street\, Imbil\, Queensland\, 4570\, Australia
END:VEVENT
BEGIN:VEVENT
DTSTART;TZID=Australia/Melbourne:20180714T160000
DTEND;TZID=Australia/Melbourne:20180714T190000
DTSTAMP:20260424T062922
CREATED:20180709T015015Z
LAST-MODIFIED:20180709T015015Z
UID:2482-1531584000-1531594800@www.gruc.org.au
SUMMARY:Emmaus Gathering in Gympie
DESCRIPTION:The venue of the July Emmaus gathering will be Gympie.  Starting a little earlier than usual (4pm) and please bring a plate to share.  For more information\, go to the Emmaus Brisbane North Coast website.
URL:https://www.gruc.org.au/event/emmaus-gathering-in-gympie/
LOCATION:Gympie Uniting Church\, 15 Red Hill Road\, Gympie\, QLD\, 4570\, Australia
END:VEVENT
BEGIN:VEVENT
DTSTART;TZID=Australia/Melbourne:20180710T093000
DTEND;TZID=Australia/Melbourne:20180710T110000
DTSTAMP:20260424T062922
CREATED:20180709T014556Z
LAST-MODIFIED:20180709T014556Z
UID:2478-1531215000-1531220400@www.gruc.org.au
SUMMARY:Men's Chat ~ Gympie
DESCRIPTION:A great opportunity for our men to gather for great company and conversation.
URL:https://www.gruc.org.au/event/mens-chat-gympie/
LOCATION:d’Cafe\, Southside
END:VEVENT
BEGIN:VEVENT
DTSTART;TZID=Australia/Melbourne:20180705T093000
DTEND;TZID=Australia/Melbourne:20180705T113000
DTSTAMP:20260424T062922
CREATED:20180627T235808Z
LAST-MODIFIED:20180627T235808Z
UID:2456-1530783000-1530790200@www.gruc.org.au
SUMMARY:Friendship Circle
DESCRIPTION:This month we’re going to meet at 9:30am at Grevillea Gardens Aged Care Facility where we will be visiting the residents.  All inquiries to Helen.
URL:https://www.gruc.org.au/event/friendship-circle-9/
LOCATION:Grevillea Gardens\, 23 Ramsay Rd\, Southside
END:VEVENT
BEGIN:VEVENT
DTSTART;TZID=Australia/Melbourne:20180630T080000
DTEND;TZID=Australia/Melbourne:20180630T130000
DTSTAMP:20260424T062922
CREATED:20180615T033034Z
LAST-MODIFIED:20180615T033034Z
UID:2429-1530345600-1530363600@www.gruc.org.au
SUMMARY:91.5 Sausage Sizzle
DESCRIPTION:Please support Cooloola Christian Radio’s Sausage Sizzle from 8am to 1pm at Mitre 10 (Monkland).
URL:https://www.gruc.org.au/event/91-5-sausage-sizzle/
LOCATION:Mitre 10\, 3 Langton Road\, Monkland\, Qld\, 4570\, Australia
END:VEVENT
BEGIN:VEVENT
DTSTART;VALUE=DATE:20180630
DTEND;VALUE=DATE:20180701
DTSTAMP:20260424T062922
CREATED:20180517T021156Z
LAST-MODIFIED:20180517T021156Z
UID:2349-1530316800-1530403199@www.gruc.org.au
SUMMARY:Bush Bash
DESCRIPTION:Meeting at Imbil Uniting Church Hall (Elizabeth Street) at 10am. BYO Lunch\, Afternoon Tea\, Chairs and UHF Radios (if you have them).  Contact John Kropp on 5484 5290
URL:https://www.gruc.org.au/event/bush-bash/
LOCATION:Imbil Uniting Church\, 3 Elizabeth Street\, Imbil\, Queensland\, 4570\, Australia
END:VEVENT
BEGIN:VEVENT
DTSTART;TZID=Australia/Melbourne:20180628T080000
DTEND;TZID=Australia/Melbourne:20180628T090000
DTSTAMP:20260424T062922
CREATED:20180520T230457Z
LAST-MODIFIED:20180520T230457Z
UID:2364-1530172800-1530176400@www.gruc.org.au
SUMMARY:Corporate Prayer & Communion
DESCRIPTION:Prayer is Powerful!!  Please join us to pray as church family and share in communion – even if you can stay for only a short time.
URL:https://www.gruc.org.au/event/corporate-prayer-communion-31/
LOCATION:Gympie Uniting Church\, 15 Red Hill Road\, Gympie\, QLD\, 4570\, Australia
END:VEVENT
BEGIN:VEVENT
DTSTART;TZID=Australia/Melbourne:20180624T160000
DTEND;TZID=Australia/Melbourne:20180624T180000
DTSTAMP:20260424T062922
CREATED:20180528T011741Z
LAST-MODIFIED:20180528T011741Z
UID:2385-1529856000-1529863200@www.gruc.org.au
SUMMARY:Messy Family Fun
DESCRIPTION:Everyone is welcome to join us for some Messy Family Fun where there are activities for all ages\, a 2-course meal and conversation around the table.  There is not cost but if you would like to put something in the bowl\, that would be great.
URL:https://www.gruc.org.au/event/messy-family-fun-9/
LOCATION:Imbil Uniting Church\, 3 Elizabeth Street\, Imbil\, Queensland\, 4570\, Australia
END:VEVENT
BEGIN:VEVENT
DTSTART;TZID=Australia/Melbourne:20180624T114500
DTEND;TZID=Australia/Melbourne:20180624T143000
DTSTAMP:20260424T062922
CREATED:20180615T032637Z
LAST-MODIFIED:20180615T032637Z
UID:2427-1529840700-1529850600@www.gruc.org.au
SUMMARY:Picnic for Our Whole Church Family
DESCRIPTION:Everyone is welcome to our Church Family Picnic at the Duck Ponds (Lake Alford) – Southern end on the highway side.  BYO Picnic lunch.  Meeting from 11:45am.
URL:https://www.gruc.org.au/event/picnic-for-our-whole-church-family/
LOCATION:Duck Ponds\, Lake Alford\, Monkland
END:VEVENT
BEGIN:VEVENT
DTSTART;TZID=Australia/Melbourne:20180622T120000
DTEND;TZID=Australia/Melbourne:20180622T140000
DTSTAMP:20260424T062922
CREATED:20180528T010948Z
LAST-MODIFIED:20180528T010948Z
UID:2380-1529668800-1529676000@www.gruc.org.au
SUMMARY:Bible Society Luncheon
DESCRIPTION:Come and support the Gympie Branch of the Bible Society’s luncheon as we dine over  Delicious Soup and Dessert.  This is the Society’s major fundraiser for the year and\, as well as lunch\, special guests Dean Comerford and Alison Lynch will be there.  The cost is $10 per person but bring some extra cash to spend at the ‘Bring & Buy Stall’.  Venue: St Andrews Hall\, 19 Red Hill Road\, Gympie. \nRSVP by  15th June for catering purposes to Narelle on 5483 2128 \n 
URL:https://www.gruc.org.au/event/bible-society-luncheon/
LOCATION:CE Room
END:VEVENT
BEGIN:VEVENT
DTSTART;TZID=Australia/Melbourne:20180621T180000
DTEND;TZID=Australia/Melbourne:20180621T210000
DTSTAMP:20260424T062922
CREATED:20180615T032308Z
LAST-MODIFIED:20180615T032308Z
UID:2424-1529604000-1529614800@www.gruc.org.au
SUMMARY:Roller Skating
DESCRIPTION:The Skate Rink has been hired out for this Combined Youth Event . . . Christian Music\, Competitions\, Guest Speaker.  6 to 9pm Thursday 21st June at the Gympie Skate Rink.  $10 entry
URL:https://www.gruc.org.au/event/roller-skating/
LOCATION:Gympie Skate Rink\, 15 Dennis Little Drive\, Gympie\, Qld\, 4570\, Australia
END:VEVENT
BEGIN:VEVENT
DTSTART;TZID=Australia/Melbourne:20180621T143000
DTEND;TZID=Australia/Melbourne:20180621T153000
DTSTAMP:20260424T062922
CREATED:20180408T232405Z
LAST-MODIFIED:20180408T232636Z
UID:2241-1529591400-1529595000@www.gruc.org.au
SUMMARY:Picnic in the Park
DESCRIPTION:Join us for afternoon tea at Lake Alford (in the shelter on the highway side). Please bring along your own tea / coffee and something to share.
URL:https://www.gruc.org.au/event/picnic-in-the-park-5/
LOCATION:Duck Ponds\, Lake Alford\, Monkland
END:VEVENT
BEGIN:VEVENT
DTSTART;TZID=Australia/Melbourne:20180621T080000
DTEND;TZID=Australia/Melbourne:20180621T090000
DTSTAMP:20260424T062922
CREATED:20180520T230416Z
LAST-MODIFIED:20180520T230416Z
UID:2362-1529568000-1529571600@www.gruc.org.au
SUMMARY:Corporate Prayer & Communion
DESCRIPTION:Prayer is Powerful!!  Please join us to pray as church family and share in communion – even if you can stay for only a short time.
URL:https://www.gruc.org.au/event/corporate-prayer-communion-30/
LOCATION:Gympie Uniting Church\, 15 Red Hill Road\, Gympie\, QLD\, 4570\, Australia
END:VEVENT
BEGIN:VEVENT
DTSTART;TZID=Australia/Melbourne:20180614T090000
DTEND;TZID=Australia/Melbourne:20180614T100000
DTSTAMP:20260424T062922
CREATED:20180603T235258Z
LAST-MODIFIED:20180603T235258Z
UID:2404-1528966800-1528970400@www.gruc.org.au
SUMMARY:CONTACT Folding
DESCRIPTION:We’ll be folding the next issue of our ‘Contact Magazine’ in St Andrew’s Hall from 9am.  Your help would be appreciated as many hands make light work.  Takes around an hour or so.
URL:https://www.gruc.org.au/event/contact-folding-2/
LOCATION:St Andrews Hall\, 19 Red Hill Road\, Gympie
END:VEVENT
BEGIN:VEVENT
DTSTART;TZID=Australia/Melbourne:20180614T080000
DTEND;TZID=Australia/Melbourne:20180614T090000
DTSTAMP:20260424T062922
CREATED:20180520T230340Z
LAST-MODIFIED:20180520T230340Z
UID:2360-1528963200-1528966800@www.gruc.org.au
SUMMARY:Corporate Prayer & Communion
DESCRIPTION:Prayer is Powerful!!  Please join us to pray as church family and share in communion – even if you can stay for only a short time.
URL:https://www.gruc.org.au/event/corporate-prayer-communion-29/
LOCATION:Gympie Uniting Church\, 15 Red Hill Road\, Gympie\, QLD\, 4570\, Australia
END:VEVENT
BEGIN:VEVENT
DTSTART;TZID=Australia/Melbourne:20180612T093000
DTEND;TZID=Australia/Melbourne:20180612T110000
DTSTAMP:20260424T062922
CREATED:20180408T232119Z
LAST-MODIFIED:20180408T232129Z
UID:2236-1528795800-1528801200@www.gruc.org.au
SUMMARY:Men's Chat
DESCRIPTION:A great opportunity for our men to gather for great company and conversation.
URL:https://www.gruc.org.au/event/menns-chat/
LOCATION:d’Cafe\, Southside
END:VEVENT
END:VCALENDAR