BEGIN:VCALENDAR
VERSION:2.0
PRODID:-//Gympie Regional Uniting Church - ECPv5.8.1//NONSGML v1.0//EN
CALSCALE:GREGORIAN
METHOD:PUBLISH
X-WR-CALNAME:Gympie Regional Uniting Church
X-ORIGINAL-URL:https://www.gruc.org.au
X-WR-CALDESC:Events for Gympie Regional Uniting Church
BEGIN:VTIMEZONE
TZID:Australia/Melbourne
BEGIN:STANDARD
TZOFFSETFROM:+1100
TZOFFSETTO:+1000
TZNAME:AEST
DTSTART:20180331T160000
END:STANDARD
BEGIN:DAYLIGHT
TZOFFSETFROM:+1000
TZOFFSETTO:+1100
TZNAME:AEDT
DTSTART:20181006T160000
END:DAYLIGHT
END:VTIMEZONE
BEGIN:VEVENT
DTSTART;TZID=Australia/Melbourne:20181213T100000
DTEND;TZID=Australia/Melbourne:20181213T113000
DTSTAMP:20260423T214329
CREATED:20181216T230621Z
LAST-MODIFIED:20181216T230621Z
UID:2852-1544695200-1544700600@www.gruc.org.au
SUMMARY:Join Us For A Cuppa
DESCRIPTION:Thursday Mornings … we’d love you to come and enjoy great company and conversation at d’Cafe (Southside).
URL:https://www.gruc.org.au/event/join-us-for-a-cuppa-13/
LOCATION:d’Cafe\, Southside
END:VEVENT
BEGIN:VEVENT
DTSTART;TZID=Australia/Melbourne:20181213T100000
DTEND;TZID=Australia/Melbourne:20181213T113000
DTSTAMP:20260423T214329
CREATED:20181126T030553Z
LAST-MODIFIED:20181126T030553Z
UID:2808-1544695200-1544700600@www.gruc.org.au
SUMMARY:Join Us for a Cuppa
DESCRIPTION:Thursday Mornings … we’d love you to come and enjoy great company and conversation at d’Cafe (Southside).
URL:https://www.gruc.org.au/event/join-us-for-a-cuppa-11/
LOCATION:d’Cafe\, Southside
END:VEVENT
BEGIN:VEVENT
DTSTART;TZID=Australia/Melbourne:20181213T080000
DTEND;TZID=Australia/Melbourne:20181213T090000
DTSTAMP:20260423T214329
CREATED:20181126T025422Z
LAST-MODIFIED:20181126T025805Z
UID:2801-1544688000-1544691600@www.gruc.org.au
SUMMARY:Corporate Prayer & Communion
DESCRIPTION:Prayer is Powerful!!  Please join us to pray as church family and share in communion – even if you can stay for only a short time.
URL:https://www.gruc.org.au/event/corporate-prayer-communion-51/
LOCATION:Gympie Uniting Church\, 15 Red Hill Road\, Gympie\, QLD\, 4570\, Australia
END:VEVENT
BEGIN:VEVENT
DTSTART;TZID=Australia/Melbourne:20181209T100000
DTEND;TZID=Australia/Melbourne:20181209T113000
DTSTAMP:20260423T214329
CREATED:20181126T025231Z
LAST-MODIFIED:20181126T025231Z
UID:2797-1544349600-1544355000@www.gruc.org.au
SUMMARY:Youth Celebration
DESCRIPTION:At our 10am gathering\, we’ll be celebrating our Year 12 Graduates and the end of the year for our Children’s Church.
URL:https://www.gruc.org.au/event/youth-celebration/
LOCATION:Gympie Uniting Church\, 15 Red Hill Road\, Gympie\, QLD\, 4570\, Australia
END:VEVENT
BEGIN:VEVENT
DTSTART;TZID=Australia/Melbourne:20181206T100000
DTEND;TZID=Australia/Melbourne:20181206T113000
DTSTAMP:20260423T214329
CREATED:20181126T030519Z
LAST-MODIFIED:20181126T030519Z
UID:2806-1544090400-1544095800@www.gruc.org.au
SUMMARY:Join Us for a Cuppa
DESCRIPTION:Thursday Mornings … we’d love you to come and enjoy great company and conversation at d’Cafe (Southside).
URL:https://www.gruc.org.au/event/join-us-for-a-cuppa-10/
LOCATION:d’Cafe\, Southside
END:VEVENT
BEGIN:VEVENT
DTSTART;TZID=Australia/Melbourne:20181206T090000
DTEND;TZID=Australia/Melbourne:20181206T120000
DTSTAMP:20260423T214329
CREATED:20181126T030223Z
LAST-MODIFIED:20181126T030259Z
UID:2803-1544086800-1544097600@www.gruc.org.au
SUMMARY:Friendship Circle End-of-Year
DESCRIPTION:To celebrate the end of the year\, the Friendship Circle ladies will be be going out for Morning Tea to “The Packing Shed”  …   a delightful cafe with a delicious menu and beautiful views located at 3360 Mary Valley Road (Imbil). \nMeet at the car park of St Andrews Hall on Red Hill Road at 9am and carpool for the drive.
URL:https://www.gruc.org.au/event/friendship-circle-end-of-year/
LOCATION:Gympie Uniting Church\, 15 Red Hill Road\, Gympie\, QLD\, 4570\, Australia
END:VEVENT
BEGIN:VEVENT
DTSTART;TZID=Australia/Melbourne:20181206T080000
DTEND;TZID=Australia/Melbourne:20181206T090000
DTSTAMP:20260423T214329
CREATED:20181126T025338Z
LAST-MODIFIED:20181126T025338Z
UID:2799-1544083200-1544086800@www.gruc.org.au
SUMMARY:Corporate Prayer & Communion
DESCRIPTION:Prayer is Powerful!!  Please join us to pray as church family and share in communion – even if you can stay for only a short time.
URL:https://www.gruc.org.au/event/corporate-prayer-communion-50/
LOCATION:Gympie Uniting Church\, 15 Red Hill Road\, Gympie\, QLD\, 4570\, Australia
END:VEVENT
BEGIN:VEVENT
DTSTART;TZID=Australia/Melbourne:20181129T100000
DTEND;TZID=Australia/Melbourne:20181129T113000
DTSTAMP:20260423T214329
CREATED:20181015T010925Z
LAST-MODIFIED:20181126T030424Z
UID:2731-1543485600-1543491000@www.gruc.org.au
SUMMARY:Join Us For A cuppa
DESCRIPTION:Thursday Mornings … we’d love you to come and enjoy great company and conversation at d’Cafe (Southside).
URL:https://www.gruc.org.au/event/join-us-for-a-cuppa-9/
LOCATION:d’Cafe\, Southside
END:VEVENT
BEGIN:VEVENT
DTSTART;TZID=Australia/Melbourne:20181129T080000
DTEND;TZID=Australia/Melbourne:20181129T090000
DTSTAMP:20260423T214329
CREATED:20181104T235007Z
LAST-MODIFIED:20181104T235007Z
UID:2765-1543478400-1543482000@www.gruc.org.au
SUMMARY:Corporate Prayer & Communion
DESCRIPTION:Prayer is Powerful!!  Please join us to pray as church family and share in communion – even if you can stay for only a short time.
URL:https://www.gruc.org.au/event/corporate-prayer-communion-49/
LOCATION:Gympie Uniting Church\, 15 Red Hill Road\, Gympie\, QLD\, 4570\, Australia
END:VEVENT
BEGIN:VEVENT
DTSTART;TZID=Australia/Melbourne:20181126T183000
DTEND;TZID=Australia/Melbourne:20181126T183000
DTSTAMP:20260423T214329
CREATED:20181104T235604Z
LAST-MODIFIED:20181104T235604Z
UID:2771-1543257000-1543257000@www.gruc.org.au
SUMMARY:Leadership Team Meeting
DESCRIPTION:
URL:https://www.gruc.org.au/event/leadership-team-meeting-3/
LOCATION:CE Room
END:VEVENT
BEGIN:VEVENT
DTSTART;TZID=Australia/Melbourne:20181125T160000
DTEND;TZID=Australia/Melbourne:20181125T180000
DTSTAMP:20260423T214329
CREATED:20181109T003750Z
LAST-MODIFIED:20181109T003750Z
UID:2776-1543161600-1543168800@www.gruc.org.au
SUMMARY:Messy Family Fun
DESCRIPTION:This will be our last Messy Family Fun get-together for the year and we’ll be celebrating Jesus’ birthday.  Everyone is welcome to join us for some Messy Fun where there are activities for all ages\, a 2-course meal and conversation around the table.  There is not cost but if you would like to put something in the bowl\, that would be great.
URL:https://www.gruc.org.au/event/messy-family-fun-12/
LOCATION:Imbil Uniting Church\, 3 Elizabeth Street\, Imbil\, Queensland\, 4570\, Australia
END:VEVENT
BEGIN:VEVENT
DTSTART;TZID=Australia/Melbourne:20181124T183000
DTEND;TZID=Australia/Melbourne:20181124T183000
DTSTAMP:20260423T214329
CREATED:20181104T235339Z
LAST-MODIFIED:20181104T235339Z
UID:2769-1543084200-1543084200@www.gruc.org.au
SUMMARY:Blokes Shed
DESCRIPTION:BBQ Feast\, great company and stories.  Guest Speaker.  $10 dropped in the tin to help cover costs appreciated and optional.  Please RSVP (see flyer on the home page of our website).
URL:https://www.gruc.org.au/event/blokes-shed-5/
LOCATION:Edwards Transport Depot\, 1021 Old Bruce Hwy\, Kybong\, Queensland\, 4570\, Australia
END:VEVENT
BEGIN:VEVENT
DTSTART;TZID=Australia/Melbourne:20181122T100000
DTEND;TZID=Australia/Melbourne:20181122T110000
DTSTAMP:20260423T214329
CREATED:20181015T010847Z
LAST-MODIFIED:20181015T010847Z
UID:2729-1542880800-1542884400@www.gruc.org.au
SUMMARY:Join Us for A Cuppa
DESCRIPTION:Thursday Mornings … we’d love you to come and enjoy great company and conversation at d’Cafe (Southside).
URL:https://www.gruc.org.au/event/join-us-for-a-cuppa-8/
LOCATION:d’Cafe\, Southside
END:VEVENT
BEGIN:VEVENT
DTSTART;TZID=Australia/Melbourne:20181122T080000
DTEND;TZID=Australia/Melbourne:20181122T090000
DTSTAMP:20260423T214329
CREATED:20181104T234932Z
LAST-MODIFIED:20181104T234932Z
UID:2763-1542873600-1542877200@www.gruc.org.au
SUMMARY:Corporate Prayer & Communion
DESCRIPTION:Prayer is Powerful!!  Please join us to pray as church family and share in communion – even if you can stay for only a short time.
URL:https://www.gruc.org.au/event/corporate-prayer-communion-48/
LOCATION:Gympie Uniting Church\, 15 Red Hill Road\, Gympie\, QLD\, 4570\, Australia
END:VEVENT
BEGIN:VEVENT
DTSTART;TZID=Australia/Melbourne:20181121T100000
DTEND;TZID=Australia/Melbourne:20181121T120000
DTSTAMP:20260423T214329
CREATED:20181104T235114Z
LAST-MODIFIED:20181104T235114Z
UID:2767-1542794400-1542801600@www.gruc.org.au
SUMMARY:Bible Society Meeting
DESCRIPTION:This is the Gympie Branch’s last meeting for 2018.  New members are most welcome.
URL:https://www.gruc.org.au/event/bible-society-meeting-3/
LOCATION:CE Room
END:VEVENT
BEGIN:VEVENT
DTSTART;TZID=Australia/Melbourne:20181115T100000
DTEND;TZID=Australia/Melbourne:20181115T110000
DTSTAMP:20260423T214329
CREATED:20181015T010808Z
LAST-MODIFIED:20181015T010808Z
UID:2727-1542276000-1542279600@www.gruc.org.au
SUMMARY:Join Us For A cuppa
DESCRIPTION:Thursday Mornings … we’d love you to come and enjoy great company and conversation at d’Cafe (Southside).
URL:https://www.gruc.org.au/event/join-us-for-a-cuppa-7/
LOCATION:d’Cafe\, Southside
END:VEVENT
BEGIN:VEVENT
DTSTART;TZID=Australia/Melbourne:20181115T080000
DTEND;TZID=Australia/Melbourne:20181115T090000
DTSTAMP:20260423T214329
CREATED:20181104T234902Z
LAST-MODIFIED:20181104T234902Z
UID:2761-1542268800-1542272400@www.gruc.org.au
SUMMARY:Corporate Prayer & Communion
DESCRIPTION:Prayer is Powerful!!  Please join us to pray as church family and share in communion – even if you can stay for only a short time.
URL:https://www.gruc.org.au/event/corporate-prayer-communion-47/
LOCATION:Gympie Uniting Church\, 15 Red Hill Road\, Gympie\, QLD\, 4570\, Australia
END:VEVENT
BEGIN:VEVENT
DTSTART;TZID=Australia/Melbourne:20181108T100000
DTEND;TZID=Australia/Melbourne:20181108T110000
DTSTAMP:20260423T214329
CREATED:20181015T010511Z
LAST-MODIFIED:20181015T010712Z
UID:2725-1541671200-1541674800@www.gruc.org.au
SUMMARY:Join Us For A Cuppa
DESCRIPTION:Thursday Mornings … we’d love you to come and enjoy great company and conversation at d’Cafe (Southside).
URL:https://www.gruc.org.au/event/join-us-for-a-cuppa-6/
END:VEVENT
BEGIN:VEVENT
DTSTART;TZID=Australia/Melbourne:20181108T080000
DTEND;TZID=Australia/Melbourne:20181108T090000
DTSTAMP:20260423T214329
CREATED:20181104T234821Z
LAST-MODIFIED:20181104T234821Z
UID:2758-1541664000-1541667600@www.gruc.org.au
SUMMARY:Corporate Prayer & Communion
DESCRIPTION:Prayer is Powerful!!  Please join us to pray as church family and share in communion – even if you can stay for only a short time.
URL:https://www.gruc.org.au/event/corporate-prayer-communion-46/
LOCATION:Gympie Uniting Church\, 15 Red Hill Road\, Gympie\, QLD\, 4570\, Australia
END:VEVENT
BEGIN:VEVENT
DTSTART;TZID=Australia/Melbourne:20181101T100000
DTEND;TZID=Australia/Melbourne:20181101T110000
DTSTAMP:20260423T214329
CREATED:20181015T004630Z
LAST-MODIFIED:20181015T010605Z
UID:2721-1541066400-1541070000@www.gruc.org.au
SUMMARY:Join Us for a Cuppa
DESCRIPTION:Thursday Mornings … we’d love you to come and enjoy great company and conversation at d’Cafe (Southside).
URL:https://www.gruc.org.au/event/join-us-for-a-cuppa-5/
LOCATION:d’Cafe\, Southside
END:VEVENT
BEGIN:VEVENT
DTSTART;TZID=Australia/Melbourne:20181101T090000
DTEND;TZID=Australia/Melbourne:20181101T110000
DTSTAMP:20260423T214329
CREATED:20181015T004409Z
LAST-MODIFIED:20181015T004409Z
UID:2718-1541062800-1541070000@www.gruc.org.au
SUMMARY:Friendship Circle
DESCRIPTION:For the ladies …  in November\, the lovely Linda Watt will be our guest speaker.  We’ll also be making Christmas Cards (The Card kits will cost $5 for each person) and we’ll enjoy a cuppa together.  Come along and enjoy the fun!
URL:https://www.gruc.org.au/event/friendship-circle-12/
LOCATION:CE Room
END:VEVENT
BEGIN:VEVENT
DTSTART;TZID=Australia/Melbourne:20181028T160000
DTEND;TZID=Australia/Melbourne:20181028T180000
DTSTAMP:20260423T214329
CREATED:20181002T020313Z
LAST-MODIFIED:20181015T004020Z
UID:2697-1540742400-1540749600@www.gruc.org.au
SUMMARY:Messy Family Fun
DESCRIPTION:Everyone is welcome to join us for some Messy Family Fun where there are activities for all ages\, a 2-course meal and conversation around the table.  There is not cost but if you would like to put something in the bowl\, that would be great.
URL:https://www.gruc.org.au/event/2697/
LOCATION:Imbil Uniting Church\, 3 Elizabeth Street\, Imbil\, Queensland\, 4570\, Australia
END:VEVENT
BEGIN:VEVENT
DTSTART;TZID=Australia/Melbourne:20181025T100000
DTEND;TZID=Australia/Melbourne:20181025T110000
DTSTAMP:20260423T214329
CREATED:20181002T015748Z
LAST-MODIFIED:20181002T015748Z
UID:2695-1540461600-1540465200@www.gruc.org.au
SUMMARY:Join Us for a Cuppa
DESCRIPTION:Thursday Mornings ~ everyone is welcome.
URL:https://www.gruc.org.au/event/join-us-for-a-cuppa-4/
LOCATION:d’Cafe\, Southside
END:VEVENT
BEGIN:VEVENT
DTSTART;TZID=Australia/Melbourne:20181025T080000
DTEND;TZID=Australia/Melbourne:20181025T090000
DTSTAMP:20260423T214329
CREATED:20181002T015403Z
LAST-MODIFIED:20181002T015403Z
UID:2686-1540454400-1540458000@www.gruc.org.au
SUMMARY:Corporate Prayer & Communion
DESCRIPTION:Prayer is Powerful!!  Please join us to pray as church family and share in communion – even if you can stay for only a short time.
URL:https://www.gruc.org.au/event/corporate-prayer-communion-45/
LOCATION:Gympie Uniting Church\, 15 Red Hill Road\, Gympie\, QLD\, 4570\, Australia
END:VEVENT
BEGIN:VEVENT
DTSTART;TZID=Australia/Melbourne:20181021T173000
DTEND;TZID=Australia/Melbourne:20181021T200000
DTSTAMP:20260423T214329
CREATED:20181002T014959Z
LAST-MODIFIED:20181002T014959Z
UID:2677-1540143000-1540152000@www.gruc.org.au
SUMMARY:Rush Festival Combined Churches Service
DESCRIPTION:Sunday 21st October at the Cooloola Christian College’s Stan Baker Hall.  BBQ from 5:30pm.  The service will commence at 6:30pm.  The theme:  “Victory”.  Offering for RI and Chaplaincy.
URL:https://www.gruc.org.au/event/rush-festival-combined-churches-service/
LOCATION:Cooloola Christian College\, 1 college Road\, Southside\, Qld\, 4570\, Australia
END:VEVENT
BEGIN:VEVENT
DTSTART;TZID=Australia/Melbourne:20181021T000000
DTEND;TZID=Australia/Melbourne:20181021T000000
DTSTAMP:20260423T214329
CREATED:20181015T003057Z
LAST-MODIFIED:20181015T003057Z
UID:2715-1540080000-1540080000@www.gruc.org.au
SUMMARY:School Chaplaincy Fundraiser
DESCRIPTION:After the Gympie 8am service Bek & Ronnie will be hosting a morning tea and after the Gympie 10am gathering a lunch of Bacon & Egg Rolls & Fruit Salad will be served. Donation tins will be available on the tables. \n 
URL:https://www.gruc.org.au/event/school-chaplaincy-fundraiser/
LOCATION:Gympie Uniting Church\, 15 Red Hill Road\, Gympie\, QLD\, 4570\, Australia
END:VEVENT
BEGIN:VEVENT
DTSTART;TZID=Australia/Melbourne:20181019T093000
DTEND;TZID=Australia/Melbourne:20181019T110000
DTSTAMP:20260423T214329
CREATED:20181008T014350Z
LAST-MODIFIED:20181008T014350Z
UID:2702-1539941400-1539946800@www.gruc.org.au
SUMMARY:Cuppa at Imbil
DESCRIPTION:You are very welcome to join us for a cuppa and some great conversation at One to One Cafe
URL:https://www.gruc.org.au/event/cuppa-at-imbil/
LOCATION:One 2 One Cafe\, 121 Yabba Raod\, Imbil\, Queensland\, 4570\, Australia
END:VEVENT
BEGIN:VEVENT
DTSTART;TZID=Australia/Melbourne:20181018T143000
DTEND;TZID=Australia/Melbourne:20181018T153000
DTSTAMP:20260423T214329
CREATED:20180408T232541Z
LAST-MODIFIED:20180408T232541Z
UID:2245-1539873000-1539876600@www.gruc.org.au
SUMMARY:Picnic in the Park
DESCRIPTION:Join us for afternoon tea at Lake Alford (in the shelter on the highway side). Please bring along your own tea / coffee and something to share.
URL:https://www.gruc.org.au/event/picnic-in-the-park-7/
LOCATION:Duck Ponds\, Lake Alford\, Monkland
END:VEVENT
BEGIN:VEVENT
DTSTART;TZID=Australia/Melbourne:20181018T100000
DTEND;TZID=Australia/Melbourne:20181018T110000
DTSTAMP:20260423T214329
CREATED:20181002T015717Z
LAST-MODIFIED:20181002T015717Z
UID:2693-1539856800-1539860400@www.gruc.org.au
SUMMARY:Join Us for a Cuppa
DESCRIPTION:Thursday Mornings ~ everyone is welcome.
URL:https://www.gruc.org.au/event/join-us-for-a-cuppa-3/
LOCATION:d’Cafe\, Southside
END:VEVENT
BEGIN:VEVENT
DTSTART;TZID=Australia/Melbourne:20181018T080000
DTEND;TZID=Australia/Melbourne:20181018T090000
DTSTAMP:20260423T214329
CREATED:20181002T015318Z
LAST-MODIFIED:20181015T004459Z
UID:2684-1539849600-1539853200@www.gruc.org.au
SUMMARY:Corporate Prayer & Communion
DESCRIPTION:Prayer is Powerful!!  Please join us to pray as church family and share in communion – even if you can stay for only a short time.  This Thursday we’ll meet in Dave’s office.
URL:https://www.gruc.org.au/event/corporate-prayer-communion-44/
LOCATION:Gympie Uniting Church\, 15 Red Hill Road\, Gympie\, QLD\, 4570\, Australia
END:VEVENT
END:VCALENDAR