BEGIN:VCALENDAR
VERSION:2.0
PRODID:-//Gympie Regional Uniting Church - ECPv5.8.1//NONSGML v1.0//EN
CALSCALE:GREGORIAN
METHOD:PUBLISH
X-WR-CALNAME:Gympie Regional Uniting Church
X-ORIGINAL-URL:https://www.gruc.org.au
X-WR-CALDESC:Events for Gympie Regional Uniting Church
BEGIN:VTIMEZONE
TZID:Australia/Melbourne
BEGIN:STANDARD
TZOFFSETFROM:+1100
TZOFFSETTO:+1000
TZNAME:AEST
DTSTART:20180331T160000
END:STANDARD
BEGIN:DAYLIGHT
TZOFFSETFROM:+1000
TZOFFSETTO:+1100
TZNAME:AEDT
DTSTART:20181006T160000
END:DAYLIGHT
BEGIN:STANDARD
TZOFFSETFROM:+1100
TZOFFSETTO:+1000
TZNAME:AEST
DTSTART:20190406T160000
END:STANDARD
BEGIN:DAYLIGHT
TZOFFSETFROM:+1000
TZOFFSETTO:+1100
TZNAME:AEDT
DTSTART:20191005T160000
END:DAYLIGHT
END:VTIMEZONE
BEGIN:VEVENT
DTSTART;TZID=Australia/Melbourne:20190312T093000
DTEND;TZID=Australia/Melbourne:20190312T093000
DTSTAMP:20260423T192320
CREATED:20190219T000508Z
LAST-MODIFIED:20190219T000508Z
UID:3037-1552383000-1552383000@www.gruc.org.au
SUMMARY:Men's Chat
DESCRIPTION:Join us at Southside (Gympie) for some casual conversation over a cuppa – this one’s just for the fellas (any age).
URL:https://www.gruc.org.au/event/mens-chat-14/
LOCATION:d’Cafe\, Southside
END:VEVENT
BEGIN:VEVENT
DTSTART;TZID=Australia/Melbourne:20190307T100000
DTEND;TZID=Australia/Melbourne:20190307T113000
DTSTAMP:20260423T192320
CREATED:20190219T000816Z
LAST-MODIFIED:20190219T000816Z
UID:3044-1551952800-1551958200@www.gruc.org.au
SUMMARY:Join Us for a Cuppa
DESCRIPTION:Thursday Mornings … we’d love you to come and enjoy great company and conversation at d’Cafe (Southside ~ Gympie).
URL:https://www.gruc.org.au/event/join-us-for-a-cuppa-20/
LOCATION:d’Cafe\, Southside
END:VEVENT
BEGIN:VEVENT
DTSTART;TZID=Australia/Melbourne:20190307T090000
DTEND;TZID=Australia/Melbourne:20190307T110000
DTSTAMP:20260423T192320
CREATED:20190226T001844Z
LAST-MODIFIED:20190226T001844Z
UID:3062-1551949200-1551956400@www.gruc.org.au
SUMMARY:Friendship Circle
DESCRIPTION:Ladies – you are welcome to join our Friendship Circle for fellowship and fun! This month we will ‘Share Something From The Past’.
URL:https://www.gruc.org.au/event/friendship-circle-14/
LOCATION:CE Room
END:VEVENT
BEGIN:VEVENT
DTSTART;TZID=Australia/Melbourne:20190307T080000
DTEND;TZID=Australia/Melbourne:20190307T090000
DTSTAMP:20260423T192320
CREATED:20190218T232645Z
LAST-MODIFIED:20190218T232645Z
UID:3004-1551945600-1551949200@www.gruc.org.au
SUMMARY:Corporate Prayer & Communion
DESCRIPTION:Our world is all about people … We’re a small and powerful group of prayer warriors who spend time on Thursday mornings thanking God and asking for his intervention wherever there is need. We then share in Communion before going about our day. \n1 Timothy 2 verse 1 tells us … “I urge\, then\, first of all\, that requests\, prayers\, intercession and thanksgiving be made by everyone”;  verses 3 & 4 “This is good and pleases God our Saviour\, who wants all men to be saved and to come to a knowledge of the truth”. \nDrop in and join us from time to time … no worries if you can’t stay for the full hour.
URL:https://www.gruc.org.au/event/corporate-prayer-communion-57/
LOCATION:Gympie Uniting Church\, 15 Red Hill Road\, Gympie\, QLD\, 4570\, Australia
END:VEVENT
BEGIN:VEVENT
DTSTART;TZID=Australia/Melbourne:20190228T100000
DTEND;TZID=Australia/Melbourne:20190228T113000
DTSTAMP:20260423T192320
CREATED:20190219T000734Z
LAST-MODIFIED:20190219T000734Z
UID:3042-1551348000-1551353400@www.gruc.org.au
SUMMARY:Join Us for a Cuppa
DESCRIPTION:Thursday Mornings … we’d love you to come and enjoy great company and conversation at d’Cafe (Southside ~ Gympie).
URL:https://www.gruc.org.au/event/join-us-for-a-cuppa-19/
LOCATION:d’Cafe\, Southside
END:VEVENT
BEGIN:VEVENT
DTSTART;TZID=Australia/Melbourne:20190228T080000
DTEND;TZID=Australia/Melbourne:20190228T090000
DTSTAMP:20260423T192320
CREATED:20190218T232609Z
LAST-MODIFIED:20190218T232609Z
UID:3002-1551340800-1551344400@www.gruc.org.au
SUMMARY:Corporate Prayer & Communion
DESCRIPTION:Our world is all about people … We’re a small and powerful group of prayer warriors who spend time on Thursday mornings thanking God and asking for his intervention wherever there is need. We then share in Communion before going about our day. \n1 Timothy 2 verse 1 tells us … “I urge\, then\, first of all\, that requests\, prayers\, intercession and thanksgiving be made by everyone”;  verses 3 & 4 “This is good and pleases God our Saviour\, who wants all men to be saved and to come to a knowledge of the truth”. \nDrop in and join us from time to time … no worries if you can’t stay for the full hour.
URL:https://www.gruc.org.au/event/corporate-prayer-communion-56/
LOCATION:Gympie Uniting Church\, 15 Red Hill Road\, Gympie\, QLD\, 4570\, Australia
END:VEVENT
BEGIN:VEVENT
DTSTART;TZID=Australia/Melbourne:20190224T160000
DTEND;TZID=Australia/Melbourne:20190224T180000
DTSTAMP:20260423T192320
CREATED:20190204T005013Z
LAST-MODIFIED:20190218T234640Z
UID:2969-1551024000-1551031200@www.gruc.org.au
SUMMARY:Messy Family Fun
DESCRIPTION:We’re looking forward to getting back into some Messy Family Fun on the 4th Sunday of the month. Everyone is welcome to join us for fun activities (all ages)\, a 2-course meal and conversation around the table. There is no cost\, but if you’d like to put something in the bowl\, that would be great.
URL:https://www.gruc.org.au/event/messy-family-fun-13/
LOCATION:Imbil Uniting Church Hall\, 3 Elizabeth Street\, Imbil\, Queensland\, 4570\, Australia
END:VEVENT
BEGIN:VEVENT
DTSTART;TZID=Australia/Melbourne:20190223T183000
DTEND;TZID=Australia/Melbourne:20190223T183000
DTSTAMP:20260423T192320
CREATED:20190204T001420Z
LAST-MODIFIED:20190204T001757Z
UID:2952-1550946600-1550946600@www.gruc.org.au
SUMMARY:Blokes Shed
DESCRIPTION:This will be our first get-together for 2019.  All men are welcome as we enjoy each others company\, have great conversations\, listen to our guest speaker and enjoy a tasty BBQ meal.  $10 in the tin for the BBQ if you’re able to. See the flyer on the home page of this website.
URL:https://www.gruc.org.au/event/blokes-shed-6/
LOCATION:Edwards Transport Depot\, 1021 Old Bruce Hwy\, Kybong\, Queensland\, 4570\, Australia
END:VEVENT
BEGIN:VEVENT
DTSTART;TZID=Australia/Melbourne:20190222T080000
DTEND;TZID=Australia/Melbourne:20190222T170000
DTSTAMP:20260423T192320
CREATED:20190204T002634Z
LAST-MODIFIED:20190204T002707Z
UID:2957-1550822400-1550854800@www.gruc.org.au
SUMMARY:Mayoral Prayer Breakfast
DESCRIPTION:Our church has reserved some tables.  This year’s event will feature the dynamic Lisa McInnes-Smith as keynote speaker.  We’ll be entertained\, served breakfast and enjoy some great conversation around the table.  $20 per person.  If you’d like to come along\, please contact our church office to book your seat.
URL:https://www.gruc.org.au/event/mayoral-prayer-breakfast/
LOCATION:Pavilion\, Gympie Showgrounds\, 77 Exhibition Road\, Southside\, Qld\, 4570\, Australia
END:VEVENT
BEGIN:VEVENT
DTSTART;TZID=Australia/Melbourne:20190221T143000
DTEND;TZID=Australia/Melbourne:20190221T143000
DTSTAMP:20260423T192320
CREATED:20190204T004530Z
LAST-MODIFIED:20190204T004530Z
UID:2967-1550759400-1550759400@www.gruc.org.au
SUMMARY:Picnic In The Park
DESCRIPTION:It’s great to get together out of doors. We’ll be getting together for an Afternoon Tea Picnic at Lake Alford (in the shelter on the Highway side). Everyone is welcome. Please bring along your own tea/coffee or preferred drinks and some food to share.
URL:https://www.gruc.org.au/event/picnic-in-the-park-8/
LOCATION:Duck Ponds\, Lake Alford\, Monkland
END:VEVENT
BEGIN:VEVENT
DTSTART;TZID=Australia/Melbourne:20190221T100000
DTEND;TZID=Australia/Melbourne:20190221T113000
DTSTAMP:20260423T192320
CREATED:20190219T000621Z
LAST-MODIFIED:20190219T000650Z
UID:3039-1550743200-1550748600@www.gruc.org.au
SUMMARY:Join Us For A Cuppa
DESCRIPTION:Thursday Mornings … we’d love you to come and enjoy great company and conversation at d’Cafe (Southside ~ Gympie).
URL:https://www.gruc.org.au/event/join-us-for-a-cuppa-18/
LOCATION:d’Cafe\, Southside
END:VEVENT
BEGIN:VEVENT
DTSTART;TZID=Australia/Melbourne:20190221T080000
DTEND;TZID=Australia/Melbourne:20190221T090000
DTSTAMP:20260423T192320
CREATED:20190218T232529Z
LAST-MODIFIED:20190218T232529Z
UID:3000-1550736000-1550739600@www.gruc.org.au
SUMMARY:Corporate Prayer & communion
DESCRIPTION:Our world is all about people … We’re a small and powerful group of prayer warriors who spend time on Thursday mornings thanking God and asking for his intervention wherever there is need. We then share in Communion before going about our day. \n1 Timothy 2 verse 1 tells us … “I urge\, then\, first of all\, that requests\, prayers\, intercession and thanksgiving be made by everyone”;  verses 3 & 4 “This is good and pleases God our Saviour\, who wants all men to be saved and to come to a knowledge of the truth”. \nDrop in and join us from time to time … no worries if you can’t stay for the full hour.
URL:https://www.gruc.org.au/event/corporate-prayer-communion-55/
LOCATION:Gympie Uniting Church\, 15 Red Hill Road\, Gympie\, QLD\, 4570\, Australia
END:VEVENT
BEGIN:VEVENT
DTSTART;TZID=Australia/Melbourne:20190220T100000
DTEND;TZID=Australia/Melbourne:20190220T100000
DTSTAMP:20260423T192320
CREATED:20190204T003907Z
LAST-MODIFIED:20190207T005449Z
UID:2965-1550656800-1550656800@www.gruc.org.au
SUMMARY:Bible Society Meeting
DESCRIPTION:The Gympie Branch is an amazing team.  come along and see what they do – they’d welcome you with open arms.
URL:https://www.gruc.org.au/event/bible-society-meeting-4/
LOCATION:CE Room
END:VEVENT
BEGIN:VEVENT
DTSTART;TZID=Australia/Melbourne:20190215T093000
DTEND;TZID=Australia/Melbourne:20190215T093000
DTSTAMP:20260423T192320
CREATED:20190204T003526Z
LAST-MODIFIED:20190204T003615Z
UID:2962-1550223000-1550223000@www.gruc.org.au
SUMMARY:Valley Cuppa
DESCRIPTION:We all love a chat over a cuppa so come along and join us for some great company.
URL:https://www.gruc.org.au/event/valley-cuppa/
LOCATION:One 2 One Cafe\, 121 Yabba Raod\, Imbil\, Queensland\, 4570\, Australia
END:VEVENT
BEGIN:VEVENT
DTSTART;TZID=Australia/Melbourne:20190214T080000
DTEND;TZID=Australia/Melbourne:20190214T090000
DTSTAMP:20260423T192320
CREATED:20190218T232455Z
LAST-MODIFIED:20190218T232455Z
UID:2998-1550131200-1550134800@www.gruc.org.au
SUMMARY:Corporate Prayer & Communion
DESCRIPTION:Our world is all about people … We’re a small and powerful group of prayer warriors who spend time on Thursday mornings thanking God and asking for his intervention wherever there is need. We then share in Communion before going about our day. \n1 Timothy 2 verse 1 tells us … “I urge\, then\, first of all\, that requests\, prayers\, intercession and thanksgiving be made by everyone”;  verses 3 & 4 “This is good and pleases God our Saviour\, who wants all men to be saved and to come to a knowledge of the truth”. \nDrop in and join us from time to time … no worries if you can’t stay for the full hour.
URL:https://www.gruc.org.au/event/corporate-prayer-communion-54/
LOCATION:Gympie Uniting Church\, 15 Red Hill Road\, Gympie\, QLD\, 4570\, Australia
END:VEVENT
BEGIN:VEVENT
DTSTART;TZID=Australia/Melbourne:20190212T093000
DTEND;TZID=Australia/Melbourne:20190212T093000
DTSTAMP:20260423T192320
CREATED:20190204T003128Z
LAST-MODIFIED:20190204T003128Z
UID:2960-1549963800-1549963800@www.gruc.org.au
SUMMARY:Men's Chat
DESCRIPTION:Join us at Southside for some casual conversation over a cuppa – this one’s just for the fellas (any age).
URL:https://www.gruc.org.au/event/mens-chat-13/
LOCATION:d’Cafe\, Southside
END:VEVENT
BEGIN:VEVENT
DTSTART;TZID=Australia/Melbourne:20190207T090000
DTEND;TZID=Australia/Melbourne:20190207T110000
DTSTAMP:20260423T192320
CREATED:20190204T001622Z
LAST-MODIFIED:20190204T001622Z
UID:2954-1549530000-1549537200@www.gruc.org.au
SUMMARY:Friendship Circle
DESCRIPTION:For the ladies … come along and enjoy each others company as we chat\, sing and enjoy some morning tea. All ladies are very welcome.
URL:https://www.gruc.org.au/event/friendship-circle-13/
LOCATION:CE Room
END:VEVENT
BEGIN:VEVENT
DTSTART;TZID=Australia/Melbourne:20190207T080000
DTEND;TZID=Australia/Melbourne:20190207T090000
DTSTAMP:20260423T192320
CREATED:20181216T232040Z
LAST-MODIFIED:20190204T014300Z
UID:2869-1549526400-1549530000@www.gruc.org.au
SUMMARY:Corporate Prayer & Communion
DESCRIPTION:Our world is all about people … We’re a small and powerful group of prayer warriors who spend time on Thursday mornings thanking God and asking for his intervention wherever there is need. We then share in Communion before going about our day. \n1 Timothy 2 verse 1 tells us … “I urge\, then\, first of all\, that requests\, prayers\, intercession and thanksgiving be made by everyone”;  verses 3 & 4 “This is good and pleases God our Saviour\, who wants all men to be saved and to come to a knowledge of the truth”. \nDrop in and join us from time to time … no worries if you can’t stay for the full hour.
URL:https://www.gruc.org.au/event/corporate-prayer-communion-53/
LOCATION:Gympie Uniting Church\, 15 Red Hill Road\, Gympie\, QLD\, 4570\, Australia
END:VEVENT
BEGIN:VEVENT
DTSTART;TZID=Australia/Melbourne:20190204T180000
DTEND;TZID=Australia/Melbourne:20190204T180000
DTSTAMP:20260423T192320
CREATED:20190204T005123Z
LAST-MODIFIED:20190204T005123Z
UID:2971-1549303200-1549303200@www.gruc.org.au
SUMMARY:Leadership Team Meeting
DESCRIPTION:
URL:https://www.gruc.org.au/event/leadership-team-meeting-4/
LOCATION:CE Room
END:VEVENT
BEGIN:VEVENT
DTSTART;TZID=Australia/Melbourne:20190131T100000
DTEND;TZID=Australia/Melbourne:20190131T113000
DTSTAMP:20260423T192320
CREATED:20181216T231418Z
LAST-MODIFIED:20181216T231418Z
UID:2861-1548928800-1548934200@www.gruc.org.au
SUMMARY:Join Us For A Cuppa
DESCRIPTION:Thursday Mornings … we’d love you to come and enjoy great company and conversation at d’Cafe (Southside).
URL:https://www.gruc.org.au/event/join-us-for-a-cuppa-17/
LOCATION:d’Cafe\, Southside
END:VEVENT
BEGIN:VEVENT
DTSTART;TZID=Australia/Melbourne:20190124T100000
DTEND;TZID=Australia/Melbourne:20190124T113000
DTSTAMP:20260423T192320
CREATED:20181216T231338Z
LAST-MODIFIED:20181216T231338Z
UID:2859-1548324000-1548329400@www.gruc.org.au
SUMMARY:Join Us For A Cuppa
DESCRIPTION:Thursday Mornings … we’d love you to come and enjoy great company and conversation at d’Cafe (Southside).
URL:https://www.gruc.org.au/event/join-us-for-a-cuppa-16/
LOCATION:d’Cafe\, Southside
END:VEVENT
BEGIN:VEVENT
DTSTART;TZID=Australia/Melbourne:20190118T093000
DTEND;TZID=Australia/Melbourne:20190118T113000
DTSTAMP:20260423T192320
CREATED:20181216T231739Z
LAST-MODIFIED:20181216T231739Z
UID:2865-1547803800-1547811000@www.gruc.org.au
SUMMARY:Imbil Coffee
DESCRIPTION:Join us for a cuppa and lively conversation at Imbil.
URL:https://www.gruc.org.au/event/imbil-coffee/
LOCATION:One 2 One Cafe\, 121 Yabba Raod\, Imbil\, Queensland\, 4570\, Australia
END:VEVENT
BEGIN:VEVENT
DTSTART;TZID=Australia/Melbourne:20190117T100000
DTEND;TZID=Australia/Melbourne:20190117T113000
DTSTAMP:20260423T192320
CREATED:20181216T231304Z
LAST-MODIFIED:20181216T231304Z
UID:2857-1547719200-1547724600@www.gruc.org.au
SUMMARY:Join Us For A Cuppa
DESCRIPTION:Thursday Mornings … we’d love you to come and enjoy great company and conversation at d’Cafe (Southside).
URL:https://www.gruc.org.au/event/join-us-for-a-cuppa-15/
LOCATION:d’Cafe\, Southside
END:VEVENT
BEGIN:VEVENT
DTSTART;TZID=Australia/Melbourne:20190113T090000
DTEND;TZID=Australia/Melbourne:20190113T103000
DTSTAMP:20260423T192320
CREATED:20181221T015451Z
LAST-MODIFIED:20181221T015451Z
UID:2884-1547370000-1547375400@www.gruc.org.au
SUMMARY:Church Services After Christmas
DESCRIPTION:There will be one service at 9am in Gympie on each of the Sundays after Christmas i.e. 30th December 2018\, 6th & 13th January 2019.  Normal services will resume on Sunday 20th January.  There will be no change to Imbil’s 9am service during this time.
URL:https://www.gruc.org.au/event/church-services-after-christmas/
LOCATION:Gympie Uniting Church\, 15 Red Hill Road\, Gympie\, QLD\, 4570\, Australia
END:VEVENT
BEGIN:VEVENT
DTSTART;TZID=Australia/Melbourne:20190110T100000
DTEND;TZID=Australia/Melbourne:20190110T113000
DTSTAMP:20260423T192320
CREATED:20181216T230836Z
LAST-MODIFIED:20181216T230836Z
UID:2855-1547114400-1547119800@www.gruc.org.au
SUMMARY:Join Us For A Cuppa
DESCRIPTION:Thursday Mornings … we’d love you to come and enjoy great company and conversation at d’Cafe (Southside).
URL:https://www.gruc.org.au/event/join-us-for-a-cuppa-14/
LOCATION:d’Cafe\, Southside
END:VEVENT
BEGIN:VEVENT
DTSTART;TZID=Australia/Melbourne:20190106T225154
DTEND;TZID=Australia/Melbourne:20190106T225154
DTSTAMP:20260423T192320
CREATED:20181216T231641Z
LAST-MODIFIED:20190106T225154Z
UID:2863-1546815114-1546815114@www.gruc.org.au
SUMMARY:CANCELLED: Men's Chat for January
DESCRIPTION:The January Men’s Chat morning tea has been cancelled. Our apologies for any inconvenience.
URL:https://www.gruc.org.au/event/mens-chat-12/
LOCATION:Queensland
END:VEVENT
BEGIN:VEVENT
DTSTART;TZID=Australia/Melbourne:20190106T090000
DTEND;TZID=Australia/Melbourne:20190106T103000
DTSTAMP:20260423T192320
CREATED:20181221T015412Z
LAST-MODIFIED:20181221T015412Z
UID:2882-1546765200-1546770600@www.gruc.org.au
SUMMARY:Sunday Services After Christmas
DESCRIPTION:There will be one service at 9am in Gympie on each of the Sundays after Christmas i.e. 30th December 2018\, 6th & 13th January 2019.  Normal services will resume on Sunday 20th January.  There will be no change to Imbil’s 9am service during this time.
URL:https://www.gruc.org.au/event/sunday-services-after-christmas/
LOCATION:Gympie Uniting Church\, 15 Red Hill Road\, Gympie\, QLD\, 4570\, Australia
END:VEVENT
BEGIN:VEVENT
DTSTART;TZID=Australia/Melbourne:20190103T100000
DTEND;TZID=Australia/Melbourne:20190103T113000
DTSTAMP:20260423T192320
CREATED:20181216T230534Z
LAST-MODIFIED:20181216T230534Z
UID:2850-1546509600-1546515000@www.gruc.org.au
SUMMARY:Join Us For a Cuppa
DESCRIPTION:Thursday Mornings … we’d love you to come and enjoy great company and conversation at d’Cafe (Southside).
URL:https://www.gruc.org.au/event/join-us-for-a-cuppa-12/
LOCATION:d’Cafe\, Southside
END:VEVENT
BEGIN:VEVENT
DTSTART;TZID=Australia/Melbourne:20181230T090000
DTEND;TZID=Australia/Melbourne:20181230T103000
DTSTAMP:20260423T192320
CREATED:20181221T015316Z
LAST-MODIFIED:20181221T015331Z
UID:2879-1546160400-1546165800@www.gruc.org.au
SUMMARY:Sunday Services After Christmas
DESCRIPTION:There will be one service at 9am in Gympie on each of the Sundays after Christmas i.e. 30th December 2018\, 6th & 13th January 2019.  Normal services will resume on Sunday 20th January.  There will be no change to Imbil’s 9am service during this time.
URL:https://www.gruc.org.au/event/sunday-services/
LOCATION:Gympie Uniting Church\, 15 Red Hill Road\, Gympie\, QLD\, 4570\, Australia
END:VEVENT
BEGIN:VEVENT
DTSTART;TZID=Australia/Melbourne:20181225T080000
DTEND;TZID=Australia/Melbourne:20181225T090000
DTSTAMP:20260423T192320
CREATED:20181224T001919Z
LAST-MODIFIED:20181224T001919Z
UID:2903-1545724800-1545728400@www.gruc.org.au
SUMMARY:Christmas Day Service ~ Gympie
DESCRIPTION:
URL:https://www.gruc.org.au/event/christmas-day-service-gympie/
LOCATION:Gympie Uniting Church\, 15 Red Hill Road\, Gympie\, QLD\, 4570\, Australia
END:VEVENT
END:VCALENDAR