BEGIN:VCALENDAR
VERSION:2.0
PRODID:-//Gympie Regional Uniting Church - ECPv5.8.1//NONSGML v1.0//EN
CALSCALE:GREGORIAN
METHOD:PUBLISH
X-WR-CALNAME:Gympie Regional Uniting Church
X-ORIGINAL-URL:https://www.gruc.org.au
X-WR-CALDESC:Events for Gympie Regional Uniting Church
BEGIN:VTIMEZONE
TZID:Australia/Melbourne
BEGIN:STANDARD
TZOFFSETFROM:+1100
TZOFFSETTO:+1000
TZNAME:AEST
DTSTART:20190406T160000
END:STANDARD
BEGIN:DAYLIGHT
TZOFFSETFROM:+1000
TZOFFSETTO:+1100
TZNAME:AEDT
DTSTART:20191005T160000
END:DAYLIGHT
END:VTIMEZONE
BEGIN:VEVENT
DTSTART;TZID=Australia/Melbourne:20190621T093000
DTEND;TZID=Australia/Melbourne:20190621T110000
DTSTAMP:20260423T085831
CREATED:20190603T025053Z
LAST-MODIFIED:20190603T025053Z
UID:3385-1561109400-1561114800@www.gruc.org.au
SUMMARY:Valley Cuppa
DESCRIPTION:We all love a chat over a cuppa so come along and join us for some great company. We try to catch up on the 3rd Friday of the month.
URL:https://www.gruc.org.au/event/valley-cuppa-3/
LOCATION:One 2 One Cafe\, 121 Yabba Raod\, Imbil\, Queensland\, 4570\, Australia
END:VEVENT
BEGIN:VEVENT
DTSTART;TZID=Australia/Melbourne:20190620T143000
DTEND;TZID=Australia/Melbourne:20190620T153000
DTSTAMP:20260423T085831
CREATED:20190616T231833Z
LAST-MODIFIED:20190616T231833Z
UID:3426-1561041000-1561044600@www.gruc.org.au
SUMMARY:Picnic in the Park
DESCRIPTION:It’s great to get together out of doors. We’ll be getting together for an Afternoon Tea Picnic at Lake Alford (in the shelter on the Highway side). Everyone is welcome. Please bring along your own tea/coffee or preferred drinks and some food to share.
URL:https://www.gruc.org.au/event/picnic-in-the-park-10/
LOCATION:Duck Ponds\, Lake Alford\, Monkland
END:VEVENT
BEGIN:VEVENT
DTSTART;TZID=Australia/Melbourne:20190620T090000
DTEND;TZID=Australia/Melbourne:20190620T100000
DTSTAMP:20260423T085831
CREATED:20190616T232015Z
LAST-MODIFIED:20190616T232015Z
UID:3428-1561021200-1561024800@www.gruc.org.au
SUMMARY:CONTACT Folding
DESCRIPTION:With enough helpers\, we’ll spend about an hour folding our quarterly magazine over great conversation and laughs.
URL:https://www.gruc.org.au/event/contact-folding-5/
LOCATION:St Andrews Hall\, 19 Red Hill Road\, Gympie
END:VEVENT
BEGIN:VEVENT
DTSTART;TZID=Australia/Melbourne:20190620T080000
DTEND;TZID=Australia/Melbourne:20190620T084500
DTSTAMP:20260423T085831
CREATED:20190603T022521Z
LAST-MODIFIED:20190603T022521Z
UID:3363-1561017600-1561020300@www.gruc.org.au
SUMMARY:Praying Together
DESCRIPTION:Our world is all about people … We’re a small and powerful group of prayer warriors who spend time on Thursday mornings thanking God and asking for his intervention wherever there is need. We then share in Communion before going about our day. \n1 Timothy 2 verse 1 tells us … “I urge\, then\, first of all\, that requests\, prayers\, intercession and thanksgiving be made by everyone”;  verses 3 & 4 “This is good and pleases God our Saviour\, who wants all men to be saved and to come to a knowledge of the truth”. \nDrop in and join us from time to time … no worries if you can only stay for a short while.
URL:https://www.gruc.org.au/event/praying-together-8/
LOCATION:Gympie Uniting Church\, 15 Red Hill Road\, Gympie\, QLD\, 4570\, Australia
END:VEVENT
BEGIN:VEVENT
DTSTART;TZID=Australia/Melbourne:20190614T090000
DTEND;TZID=Australia/Melbourne:20190614T113000
DTSTAMP:20260423T085831
CREATED:20190603T023943Z
LAST-MODIFIED:20190603T023943Z
UID:3373-1560502800-1560511800@www.gruc.org.au
SUMMARY:Social Art/Craft Morning
DESCRIPTION:This is about our Valley Community getting creative\, socializing and making friends on the 2nd Friday of each month. Bring your own art/craft projects and enjoy a social get together using the Uniting Church Hall as our venue. We’ll have morning tea (a gold coin donation appreciated). For more info\, contact Leonie on 5484 5842 or Sue on 5417 0490.
URL:https://www.gruc.org.au/event/social-art-craft-morning/
LOCATION:Imbil Uniting Church Hall\, 3 Elizabeth Street\, Imbil\, Queensland\, 4570\, Australia
END:VEVENT
BEGIN:VEVENT
DTSTART;TZID=Australia/Melbourne:20190613T090000
DTEND;TZID=Australia/Melbourne:20190613T103000
DTSTAMP:20260423T085831
CREATED:20190603T023210Z
LAST-MODIFIED:20190603T023210Z
UID:3371-1560416400-1560421800@www.gruc.org.au
SUMMARY:CONTACT Magazine Folding
DESCRIPTION:With enough helpers\, we’ll spend just an hour or so folding and stapling our quarterly magazine over great conversation and laughs.
URL:https://www.gruc.org.au/event/contact-magazine-folding-3/
LOCATION:St Andrews Hall\, 19 Red Hill Road\, Gympie
END:VEVENT
BEGIN:VEVENT
DTSTART;TZID=Australia/Melbourne:20190613T080000
DTEND;TZID=Australia/Melbourne:20190613T084500
DTSTAMP:20260423T085831
CREATED:20190603T022409Z
LAST-MODIFIED:20190603T022409Z
UID:3361-1560412800-1560415500@www.gruc.org.au
SUMMARY:Praying Together
DESCRIPTION:Our world is all about people … We’re a small and powerful group of prayer warriors who spend time on Thursday mornings thanking God and asking for his intervention wherever there is need. We then share in Communion before going about our day. \n1 Timothy 2 verse 1 tells us … “I urge\, then\, first of all\, that requests\, prayers\, intercession and thanksgiving be made by everyone”;  verses 3 & 4 “This is good and pleases God our Saviour\, who wants all men to be saved and to come to a knowledge of the truth”. \nDrop in and join us from time to time … no worries if you can only stay for a short while.
URL:https://www.gruc.org.au/event/praying-together-7/
LOCATION:Gympie Uniting Church\, 15 Red Hill Road\, Gympie\, QLD\, 4570\, Australia
END:VEVENT
BEGIN:VEVENT
DTSTART;TZID=Australia/Melbourne:20190611T093000
DTEND;TZID=Australia/Melbourne:20190611T110000
DTSTAMP:20260423T085831
CREATED:20190603T022917Z
LAST-MODIFIED:20190603T022917Z
UID:3367-1560245400-1560250800@www.gruc.org.au
SUMMARY:Men's Chat
DESCRIPTION:Men of all ages are welcome to join us for some conversation over a cuppa.  We usually meet on the 2nd Tuesday of the month\, 9:30am at d’cafe\, Southside.
URL:https://www.gruc.org.au/event/mens-chat-3/
LOCATION:d’Cafe\, Southside
END:VEVENT
BEGIN:VEVENT
DTSTART;TZID=Australia/Melbourne:20190609T140000
DTEND;TZID=Australia/Melbourne:20190609T150000
DTSTAMP:20260423T085831
CREATED:20190520T005926Z
LAST-MODIFIED:20190520T010222Z
UID:3334-1560088800-1560092400@www.gruc.org.au
SUMMARY:Congregation Conversation
DESCRIPTION:Join us as we meet for another congregation conversation. We’ll discuss our ‘Vision for the Future’ ~ ‘Creating Space’. 
URL:https://www.gruc.org.au/event/congregation-conversation/
LOCATION:CE Room
END:VEVENT
BEGIN:VEVENT
DTSTART;TZID=Australia/Melbourne:20190606T090000
DTEND;TZID=Australia/Melbourne:20190606T113000
DTSTAMP:20260423T085831
CREATED:20190326T014122Z
LAST-MODIFIED:20190326T014122Z
UID:3164-1559811600-1559820600@www.gruc.org.au
SUMMARY:Friendship Circle
DESCRIPTION:A morning of Humourous poems\, guess the name of a popular song\, morning tea and the usual shared fun … for the ladies (any age).
URL:https://www.gruc.org.au/event/friendship-circle-17/
LOCATION:CE Room
END:VEVENT
BEGIN:VEVENT
DTSTART;TZID=Australia/Melbourne:20190606T080000
DTEND;TZID=Australia/Melbourne:20190606T084500
DTSTAMP:20260423T085831
CREATED:20190603T022309Z
LAST-MODIFIED:20190603T022309Z
UID:3358-1559808000-1559810700@www.gruc.org.au
SUMMARY:Praying Together
DESCRIPTION:Our world is all about people … We’re a small and powerful group of prayer warriors who spend time on Thursday mornings thanking God and asking for his intervention wherever there is need. We then share in Communion before going about our day. \n1 Timothy 2 verse 1 tells us … “I urge\, then\, first of all\, that requests\, prayers\, intercession and thanksgiving be made by everyone”;  verses 3 & 4 “This is good and pleases God our Saviour\, who wants all men to be saved and to come to a knowledge of the truth”. \nDrop in and join us from time to time … no worries if you can only stay for a short while.
URL:https://www.gruc.org.au/event/praying-together-6/
LOCATION:Gympie Uniting Church\, 15 Red Hill Road\, Gympie\, QLD\, 4570\, Australia
END:VEVENT
BEGIN:VEVENT
DTSTART;TZID=Australia/Melbourne:20190530T100000
DTEND;TZID=Australia/Melbourne:20190530T113000
DTSTAMP:20260423T085831
CREATED:20190429T232824Z
LAST-MODIFIED:20190429T232824Z
UID:3286-1559210400-1559215800@www.gruc.org.au
SUMMARY:Join Us For A Cuppa
DESCRIPTION:Thursday Mornings … we’d love you to come and enjoy great company and conversation at d’Cafe (Southside ~ Gympie).
URL:https://www.gruc.org.au/event/join-us-for-a-cuppa-31/
LOCATION:d’Cafe\, Southside
END:VEVENT
BEGIN:VEVENT
DTSTART;TZID=Australia/Melbourne:20190530T080000
DTEND;TZID=Australia/Melbourne:20190530T090000
DTSTAMP:20260423T085831
CREATED:20190429T232437Z
LAST-MODIFIED:20190429T232437Z
UID:3276-1559203200-1559206800@www.gruc.org.au
SUMMARY:Praying Together
DESCRIPTION:Our world is all about people … We’re a small and powerful group of prayer warriors who spend time on Thursday mornings thanking God and asking for his intervention wherever there is need. We then share in Communion before going about our day. \n1 Timothy 2 verse 1 tells us … “I urge\, then\, first of all\, that requests\, prayers\, intercession and thanksgiving be made by everyone”;  verses 3 & 4 “This is good and pleases God our Saviour\, who wants all men to be saved and to come to a knowledge of the truth”. \nDrop in and join us from time to time … no worries if you can’t stay for the full hour.
URL:https://www.gruc.org.au/event/praying-together-5/
LOCATION:Gympie Uniting Church\, 15 Red Hill Road\, Gympie\, QLD\, 4570\, Australia
END:VEVENT
BEGIN:VEVENT
DTSTART;TZID=Australia/Melbourne:20190526T160000
DTEND;TZID=Australia/Melbourne:20190526T180000
DTSTAMP:20260423T085831
CREATED:20190218T235130Z
LAST-MODIFIED:20190218T235130Z
UID:3019-1558886400-1558893600@www.gruc.org.au
SUMMARY:Messy Family Fun
DESCRIPTION:We’re looking forward to getting back into some Messy Family Fun on the 4th Sunday of the month. Everyone is welcome to join us for fun activities (all ages)\, a 2-course meal and conversation around the table. There is no cost\, but if you’d like to put something in the bowl\, that would be great.
URL:https://www.gruc.org.au/event/messy-family-fun-16/
LOCATION:Imbil Uniting Church Hall\, 3 Elizabeth Street\, Imbil\, Queensland\, 4570\, Australia
END:VEVENT
BEGIN:VEVENT
DTSTART;TZID=Australia/Melbourne:20190525T070000
DTEND;TZID=Australia/Melbourne:20190525T160000
DTSTAMP:20260423T085831
CREATED:20190326T004718Z
LAST-MODIFIED:20190326T004808Z
UID:3134-1558767600-1558800000@www.gruc.org.au
SUMMARY:Mary Valley Trailblazers Chaplaincy/Charity Horse Rid
DESCRIPTION:Register on line at www.maryvalleytrailblazers.com.au. You can also find them on facebook – Mary Valley TRAILBLAZERS.
URL:https://www.gruc.org.au/event/mary-valley-trailblazers-chaplaincy-charity-horse-rid/
LOCATION:Imbil Show Grounds\, Imbil
END:VEVENT
BEGIN:VEVENT
DTSTART;TZID=Australia/Melbourne:20190523T100000
DTEND;TZID=Australia/Melbourne:20190523T113000
DTSTAMP:20260423T085831
CREATED:20190429T232747Z
LAST-MODIFIED:20190429T232747Z
UID:3284-1558605600-1558611000@www.gruc.org.au
SUMMARY:Join Us For A cuppa
DESCRIPTION:Thursday Mornings … we’d love you to come and enjoy great company and conversation at d’Cafe (Southside ~ Gympie).
URL:https://www.gruc.org.au/event/join-us-for-a-cuppa-30/
LOCATION:d’Cafe\, Southside
END:VEVENT
BEGIN:VEVENT
DTSTART;TZID=Australia/Melbourne:20190523T080000
DTEND;TZID=Australia/Melbourne:20190523T090000
DTSTAMP:20260423T085831
CREATED:20190429T232408Z
LAST-MODIFIED:20190429T232408Z
UID:3274-1558598400-1558602000@www.gruc.org.au
SUMMARY:Praying Together
DESCRIPTION:Our world is all about people … We’re a small and powerful group of prayer warriors who spend time on Thursday mornings thanking God and asking for his intervention wherever there is need. We then share in Communion before going about our day. \n1 Timothy 2 verse 1 tells us … “I urge\, then\, first of all\, that requests\, prayers\, intercession and thanksgiving be made by everyone”;  verses 3 & 4 “This is good and pleases God our Saviour\, who wants all men to be saved and to come to a knowledge of the truth”. \nDrop in and join us from time to time … no worries if you can’t stay for the full hour.
URL:https://www.gruc.org.au/event/praying-together-4/
LOCATION:Gympie Uniting Church\, 15 Red Hill Road\, Gympie\, QLD\, 4570\, Australia
END:VEVENT
BEGIN:VEVENT
DTSTART;TZID=Australia/Melbourne:20190519T090000
DTEND;TZID=Australia/Melbourne:20190519T120000
DTSTAMP:20260423T085831
CREATED:20190218T232312Z
LAST-MODIFIED:20190326T011653Z
UID:2996-1558256400-1558267200@www.gruc.org.au
SUMMARY:Imbil Centenary Service
DESCRIPTION:On Sunday May 19th we’ll be celebrating 100 years of Worship at our Imbil Church with a 9am service followed by a light luncheon.
URL:https://www.gruc.org.au/event/imbil-centenary-service/
LOCATION:Imbil Uniting Church\, 3 Elizabeth Street\, Imbil\, Queensland\, 4570\, Australia
END:VEVENT
BEGIN:VEVENT
DTSTART;TZID=Australia/Melbourne:20190517T173000
DTEND;TZID=Australia/Melbourne:20190517T173000
DTSTAMP:20260423T085831
CREATED:20190326T012234Z
LAST-MODIFIED:20190326T012234Z
UID:3141-1558114200-1558114200@www.gruc.org.au
SUMMARY:Imbil Centenary Dinner
DESCRIPTION:Imbil Uniting Church will be celebrating its centenary with a dinner at the Kandanga Public Hall.  Hot drinks will be served from 5:30pm with dinner at 6:30pm.  Cost of $20 per person paid at the door. Guest speaker will be Rev John Mavor AM. \nRSVP by 10th May 2019 to Margaret Stehbens by phoning (07) 5484 5731 or email mirs@bigpond.com
URL:https://www.gruc.org.au/event/imbil-centenary-dinner/
LOCATION:Kandanga Public Hall\, 81 Main Street\, Kandanga\, Queensland\, 4570\, Australia
END:VEVENT
BEGIN:VEVENT
DTSTART;TZID=Australia/Melbourne:20190516T100000
DTEND;TZID=Australia/Melbourne:20190516T113000
DTSTAMP:20260423T085831
CREATED:20190429T232715Z
LAST-MODIFIED:20190429T232715Z
UID:3282-1558000800-1558006200@www.gruc.org.au
SUMMARY:Join Us For A Cuppa
DESCRIPTION:Thursday Mornings … we’d love you to come and enjoy great company and conversation at d’Cafe (Southside ~ Gympie).
URL:https://www.gruc.org.au/event/join-us-for-a-cuppa-29/
LOCATION:d’Cafe\, Southside
END:VEVENT
BEGIN:VEVENT
DTSTART;TZID=Australia/Melbourne:20190516T080000
DTEND;TZID=Australia/Melbourne:20190516T090000
DTSTAMP:20260423T085831
CREATED:20190429T232335Z
LAST-MODIFIED:20190429T232335Z
UID:3272-1557993600-1557997200@www.gruc.org.au
SUMMARY:Praying Together
DESCRIPTION:Our world is all about people … We’re a small and powerful group of prayer warriors who spend time on Thursday mornings thanking God and asking for his intervention wherever there is need. We then share in Communion before going about our day. \n1 Timothy 2 verse 1 tells us … “I urge\, then\, first of all\, that requests\, prayers\, intercession and thanksgiving be made by everyone”;  verses 3 & 4 “This is good and pleases God our Saviour\, who wants all men to be saved and to come to a knowledge of the truth”. \nDrop in and join us from time to time … no worries if you can’t stay for the full hour.
URL:https://www.gruc.org.au/event/praying-together-3/
LOCATION:Gympie Uniting Church\, 15 Red Hill Road\, Gympie\, QLD\, 4570\, Australia
END:VEVENT
BEGIN:VEVENT
DTSTART;TZID=Australia/Melbourne:20190514T093000
DTEND;TZID=Australia/Melbourne:20190514T113000
DTSTAMP:20260423T085831
CREATED:20190429T233556Z
LAST-MODIFIED:20190429T233556Z
UID:3288-1557826200-1557833400@www.gruc.org.au
SUMMARY:Men's Chat
DESCRIPTION:Join us at Southside (Gympie) for some casual conversation over a cuppa – this one’s just for the fellas (any age).
URL:https://www.gruc.org.au/event/mens-chat-15/
LOCATION:d’Cafe\, Southside
END:VEVENT
BEGIN:VEVENT
DTSTART;TZID=Australia/Melbourne:20190511T183000
DTEND;TZID=Australia/Melbourne:20190511T213000
DTSTAMP:20260423T085831
CREATED:20190423T062654Z
LAST-MODIFIED:20190423T062654Z
UID:3252-1557599400-1557610200@www.gruc.org.au
SUMMARY:Blokes Shed Night
DESCRIPTION:Come along guys and mingle with some great company\, listen to our guest speaker and enjoy a tasty BBQ meal.  $10 in the tin for the BBQ if you’re able to. See the flyer on the home page of this website.
URL:https://www.gruc.org.au/event/blokes-shed-night/
LOCATION:Edwards Transport Depot\, 1021 Old Bruce Hwy\, Kybong\, Queensland\, 4570\, Australia
END:VEVENT
BEGIN:VEVENT
DTSTART;TZID=Australia/Melbourne:20190510T090000
DTEND;TZID=Australia/Melbourne:20190510T113000
DTSTAMP:20260423T085831
CREATED:20190429T231757Z
LAST-MODIFIED:20190429T231830Z
UID:3266-1557478800-1557487800@www.gruc.org.au
SUMMARY:Imbil Social Craft Morning
DESCRIPTION:This is the start of a monthly art / craft morning for ladies and gents where you bring along whatever project you’re  currently working on at home or elsewhere.  We’ll enjoy each other’s company while we’re being creative. Morning tea will be provided. A gold coin donation would be appreciated. Contact Leonie on 5484 5842 or Sue on 5417 0490 or 0423 536 076.
URL:https://www.gruc.org.au/event/imbil-social-craft-morning/
LOCATION:Imbil Uniting Church Hall\, 3 Elizabeth Street\, Imbil\, Queensland\, 4570\, Australia
END:VEVENT
BEGIN:VEVENT
DTSTART;TZID=Australia/Melbourne:20190509T100000
DTEND;TZID=Australia/Melbourne:20190509T113000
DTSTAMP:20260423T085831
CREATED:20190429T232642Z
LAST-MODIFIED:20190429T232642Z
UID:3280-1557396000-1557401400@www.gruc.org.au
SUMMARY:Join Us For A Cuppa
DESCRIPTION:Thursday Mornings … we’d love you to come and enjoy great company and conversation at d’Cafe (Southside ~ Gympie).
URL:https://www.gruc.org.au/event/join-us-for-a-cuppa-28/
LOCATION:d’Cafe\, Southside
END:VEVENT
BEGIN:VEVENT
DTSTART;TZID=Australia/Melbourne:20190509T080000
DTEND;TZID=Australia/Melbourne:20190509T090000
DTSTAMP:20260423T085831
CREATED:20190429T232305Z
LAST-MODIFIED:20190429T232305Z
UID:3270-1557388800-1557392400@www.gruc.org.au
SUMMARY:Praying Together
DESCRIPTION:Our world is all about people … We’re a small and powerful group of prayer warriors who spend time on Thursday mornings thanking God and asking for his intervention wherever there is need. We then share in Communion before going about our day. \n1 Timothy 2 verse 1 tells us … “I urge\, then\, first of all\, that requests\, prayers\, intercession and thanksgiving be made by everyone”;  verses 3 & 4 “This is good and pleases God our Saviour\, who wants all men to be saved and to come to a knowledge of the truth”. \nDrop in and join us from time to time … no worries if you can’t stay for the full hour.
URL:https://www.gruc.org.au/event/praying-together-2/
LOCATION:Gympie Uniting Church\, 15 Red Hill Road\, Gympie\, QLD\, 4570\, Australia
END:VEVENT
BEGIN:VEVENT
DTSTART;TZID=Australia/Melbourne:20190502T100000
DTEND;TZID=Australia/Melbourne:20190502T113000
DTSTAMP:20260423T085831
CREATED:20190429T232606Z
LAST-MODIFIED:20190429T232606Z
UID:3278-1556791200-1556796600@www.gruc.org.au
SUMMARY:Join Us For A Cuppa
DESCRIPTION:Thursday Mornings … we’d love you to come and enjoy great company and conversation at d’Cafe (Southside ~ Gympie).
URL:https://www.gruc.org.au/event/join-us-for-a-cuppa-26/
LOCATION:d’Cafe\, Southside
END:VEVENT
BEGIN:VEVENT
DTSTART;TZID=Australia/Melbourne:20190502T090000
DTEND;TZID=Australia/Melbourne:20190502T113000
DTSTAMP:20260423T085831
CREATED:20190326T013933Z
LAST-MODIFIED:20190326T013933Z
UID:3162-1556787600-1556796600@www.gruc.org.au
SUMMARY:Friendship Circle
DESCRIPTION:Ladies – you are welcome to join us for a fun morning of board games\, fellowship\, laughs and morning tea.
URL:https://www.gruc.org.au/event/friendship-circle-16/
LOCATION:CE Room
END:VEVENT
BEGIN:VEVENT
DTSTART;TZID=Australia/Melbourne:20190502T080000
DTEND;TZID=Australia/Melbourne:20190502T090000
DTSTAMP:20260423T085831
CREATED:20190429T232221Z
LAST-MODIFIED:20190429T232221Z
UID:3268-1556784000-1556787600@www.gruc.org.au
SUMMARY:Praying Together
DESCRIPTION:Our world is all about people … We’re a small and powerful group of prayer warriors who spend time on Thursday mornings thanking God and asking for his intervention wherever there is need. We then share in Communion before going about our day. \n1 Timothy 2 verse 1 tells us … “I urge\, then\, first of all\, that requests\, prayers\, intercession and thanksgiving be made by everyone”;  verses 3 & 4 “This is good and pleases God our Saviour\, who wants all men to be saved and to come to a knowledge of the truth”. \nDrop in and join us from time to time … no worries if you can’t stay for the full hour.
URL:https://www.gruc.org.au/event/praying-together/
LOCATION:Gympie Uniting Church\, 15 Red Hill Road\, Gympie\, QLD\, 4570\, Australia
END:VEVENT
BEGIN:VEVENT
DTSTART;TZID=Australia/Melbourne:20190428T160000
DTEND;TZID=Australia/Melbourne:20190428T180000
DTSTAMP:20260423T085831
CREATED:20190218T235039Z
LAST-MODIFIED:20190218T235039Z
UID:3017-1556467200-1556474400@www.gruc.org.au
SUMMARY:Messy Family Fun
DESCRIPTION:We’re looking forward to getting back into some Messy Family Fun on the 4th Sunday of the month. Everyone is welcome to join us for fun activities (all ages)\, a 2-course meal and conversation around the table. There is no cost\, but if you’d like to put something in the bowl\, that would be great.
URL:https://www.gruc.org.au/event/messy-family-fun-15/
LOCATION:Imbil Uniting Church Hall\, 3 Elizabeth Street\, Imbil\, Queensland\, 4570\, Australia
END:VEVENT
END:VCALENDAR