BEGIN:VCALENDAR
VERSION:2.0
PRODID:-//Gympie Regional Uniting Church - ECPv5.8.1//NONSGML v1.0//EN
CALSCALE:GREGORIAN
METHOD:PUBLISH
X-WR-CALNAME:Gympie Regional Uniting Church
X-ORIGINAL-URL:https://www.gruc.org.au
X-WR-CALDESC:Events for Gympie Regional Uniting Church
BEGIN:VTIMEZONE
TZID:Australia/Melbourne
BEGIN:STANDARD
TZOFFSETFROM:+1100
TZOFFSETTO:+1000
TZNAME:AEST
DTSTART:20190406T160000
END:STANDARD
BEGIN:DAYLIGHT
TZOFFSETFROM:+1000
TZOFFSETTO:+1100
TZNAME:AEDT
DTSTART:20191005T160000
END:DAYLIGHT
END:VTIMEZONE
BEGIN:VEVENT
DTSTART;TZID=Australia/Melbourne:20190922T160000
DTEND;TZID=Australia/Melbourne:20190922T180000
DTSTAMP:20260423T083127
CREATED:20190218T235512Z
LAST-MODIFIED:20190218T235512Z
UID:3027-1569168000-1569175200@www.gruc.org.au
SUMMARY:Messy Family Fun
DESCRIPTION:We’re looking forward to getting back into some Messy Family Fun on the 4th Sunday of the month. Everyone is welcome to join us for fun activities (all ages)\, a 2-course meal and conversation around the table. There is no cost\, but if you’d like to put something in the bowl\, that would be great.
URL:https://www.gruc.org.au/event/messy-family-fun-20/
LOCATION:Imbil Uniting Church Hall\, 3 Elizabeth Street\, Imbil\, Queensland\, 4570\, Australia
END:VEVENT
BEGIN:VEVENT
DTSTART;TZID=Australia/Melbourne:20190920T093000
DTEND;TZID=Australia/Melbourne:20190920T110000
DTSTAMP:20260423T083127
CREATED:20190603T025300Z
LAST-MODIFIED:20190820T013245Z
UID:3391-1568971800-1568977200@www.gruc.org.au
SUMMARY:Valley Cuppa
DESCRIPTION:We all love a chat over a cuppa so come along and join us for some great company. We try to catch up on the 3rd Friday of the month.
URL:https://www.gruc.org.au/event/valley-cuppa-6/
LOCATION:Click Clack Cafe\, 3 Busby Street\, Amamoor\, Queensland\, 4570\, Australia
END:VEVENT
BEGIN:VEVENT
DTSTART;TZID=Australia/Melbourne:20190919T100000
DTEND;TZID=Australia/Melbourne:20190919T113000
DTSTAMP:20260423T083127
CREATED:20190819T234031Z
LAST-MODIFIED:20190819T234031Z
UID:3636-1568887200-1568892600@www.gruc.org.au
SUMMARY:Join Us For A Cuppa
DESCRIPTION:Thursday Mornings … we’d love you to come and enjoy great company and conversation at d’Cafe (Southside ~ Gympie).
URL:https://www.gruc.org.au/event/join-us-for-a-cuppa-40/
LOCATION:d’Cafe\, Southside
END:VEVENT
BEGIN:VEVENT
DTSTART;TZID=Australia/Melbourne:20190919T080000
DTEND;TZID=Australia/Melbourne:20190919T090000
DTSTAMP:20260423T083127
CREATED:20190819T233337Z
LAST-MODIFIED:20190819T233337Z
UID:3618-1568880000-1568883600@www.gruc.org.au
SUMMARY:Prayer Warriors
DESCRIPTION:Our world is all about people … We’re a small and powerful group of prayer warriors who spend time on Thursday mornings thanking God and asking for his intervention wherever there is need. We then share in Communion before going about our day. \n1 Timothy 2 verse 1 tells us … “I urge\, then\, first of all\, that requests\, prayers\, intercession and thanksgiving be made by everyone”;  verses 3 & 4 “This is good and pleases God our Saviour\, who wants all men to be saved and to come to a knowledge of the truth”. \nDrop in and join us from time to time … no worries if you can only stay for a short while.
URL:https://www.gruc.org.au/event/prayer-warriors-12/
LOCATION:Gympie Uniting Church\, 15 Red Hill Road\, Gympie\, QLD\, 4570\, Australia
END:VEVENT
BEGIN:VEVENT
DTSTART;TZID=Australia/Melbourne:20190913T153000
DTEND;TZID=Australia/Melbourne:20190913T173000
DTSTAMP:20260423T083127
CREATED:20190819T232703Z
LAST-MODIFIED:20190819T232703Z
UID:3608-1568388600-1568395800@www.gruc.org.au
SUMMARY:Cedar Pocket Kids' Club
DESCRIPTION:This is a weekly\, after school activity for primary aged children … Fridays during school terms from 3:30 to 5:30pm. Fun\, Games\, Food\, Craft\, Music\, Stories. Parents are encouraged to stay. $2 per child. (An outreach of the Gympie Regional Uniting Church). Coordinator: Ronnie Timperon 0413 135 867
URL:https://www.gruc.org.au/event/cedar-pocket-kids-club-8/
LOCATION:Cedar Pocket Hall\, Lot 376 Cedar Pocket Rd\, Cedar Pocket\, Qld\, 4570\, Australia
END:VEVENT
BEGIN:VEVENT
DTSTART;TZID=Australia/Melbourne:20190913T090000
DTEND;TZID=Australia/Melbourne:20190913T113000
DTSTAMP:20260423T083127
CREATED:20190603T024214Z
LAST-MODIFIED:20190603T024214Z
UID:3379-1568365200-1568374200@www.gruc.org.au
SUMMARY:Social Art/Craft morning
DESCRIPTION:This is about our Valley Community getting creative\, socializing and making friends on the 2nd Friday of each month. Bring your own art/craft projects and enjoy a social get together using the Uniting Church Hall as our venue. We’ll have morning tea (a gold coin donation appreciated). For more info\, contact Leonie on 5484 5842 or Sue on 5417 0490.
URL:https://www.gruc.org.au/event/social-art-craft-morning-4/
LOCATION:Imbil Uniting Church Hall\, 3 Elizabeth Street\, Imbil\, Queensland\, 4570\, Australia
END:VEVENT
BEGIN:VEVENT
DTSTART;TZID=Australia/Melbourne:20190912T100000
DTEND;TZID=Australia/Melbourne:20190912T113000
DTSTAMP:20260423T083127
CREATED:20190819T233959Z
LAST-MODIFIED:20190819T233959Z
UID:3634-1568282400-1568287800@www.gruc.org.au
SUMMARY:Join Us For A Cuppa
DESCRIPTION:Thursday Mornings … we’d love you to come and enjoy great company and conversation at d’Cafe (Southside ~ Gympie).
URL:https://www.gruc.org.au/event/join-us-for-a-cuppa-39/
LOCATION:d’Cafe\, Southside
END:VEVENT
BEGIN:VEVENT
DTSTART;TZID=Australia/Melbourne:20190912T080000
DTEND;TZID=Australia/Melbourne:20190912T090000
DTSTAMP:20260423T083127
CREATED:20190819T233307Z
LAST-MODIFIED:20190819T233307Z
UID:3616-1568275200-1568278800@www.gruc.org.au
SUMMARY:Prayer Warriors
DESCRIPTION:Our world is all about people … We’re a small and powerful group of prayer warriors who spend time on Thursday mornings thanking God and asking for his intervention wherever there is need. We then share in Communion before going about our day. \n1 Timothy 2 verse 1 tells us … “I urge\, then\, first of all\, that requests\, prayers\, intercession and thanksgiving be made by everyone”;  verses 3 & 4 “This is good and pleases God our Saviour\, who wants all men to be saved and to come to a knowledge of the truth”. \nDrop in and join us from time to time … no worries if you can only stay for a short while.
URL:https://www.gruc.org.au/event/prayer-warriors-11/
LOCATION:Gympie Uniting Church\, 15 Red Hill Road\, Gympie\, QLD\, 4570\, Australia
END:VEVENT
BEGIN:VEVENT
DTSTART;TZID=Australia/Melbourne:20190907T183000
DTEND;TZID=Australia/Melbourne:20190907T183000
DTSTAMP:20260423T083127
CREATED:20190819T234858Z
LAST-MODIFIED:20190819T234858Z
UID:3652-1567881000-1567881000@www.gruc.org.au
SUMMARY:Blokes Shed Night
DESCRIPTION:Come along guys and mingle with some great company\, listen to our guest speaker and enjoy a tasty BBQ meal.  $10 in the tin for the BBQ if you’re able to. See the flyer for details.
URL:https://www.gruc.org.au/event/blokes-shed-night-2/
LOCATION:Edwards Transport Depot\, 1021 Old Bruce Hwy\, Kybong\, Queensland\, 4570\, Australia
END:VEVENT
BEGIN:VEVENT
DTSTART;TZID=Australia/Melbourne:20190906T153000
DTEND;TZID=Australia/Melbourne:20190906T173000
DTSTAMP:20260423T083127
CREATED:20190819T232555Z
LAST-MODIFIED:20190819T232738Z
UID:3606-1567783800-1567791000@www.gruc.org.au
SUMMARY:Cedar Pocket Kids' Club
DESCRIPTION:This is a weekly\, after school activity for primary aged children … Fridays during school terms from 3:30 to 5:30pm. Fun\, Games\, Food\, Craft\, Music\, Stories. Parents are encouraged to stay. $2 per child. (An outreach of the Gympie Regional Uniting Church). Coordinator: Ronnie Timperon 0413 135 867
URL:https://www.gruc.org.au/event/cedar-pocket-kids-club-7/
LOCATION:Cedar Pocket Hall\, Lot 376 Cedar Pocket Rd\, Cedar Pocket\, Qld\, 4570\, Australia
END:VEVENT
BEGIN:VEVENT
DTSTART;TZID=Australia/Melbourne:20190905T100000
DTEND;TZID=Australia/Melbourne:20190905T113000
DTSTAMP:20260423T083127
CREATED:20190819T233914Z
LAST-MODIFIED:20190819T233914Z
UID:3632-1567677600-1567683000@www.gruc.org.au
SUMMARY:Join Us For a cuppa
DESCRIPTION:Thursday Mornings … we’d love you to come and enjoy great company and conversation at d’Cafe (Southside ~ Gympie).
URL:https://www.gruc.org.au/event/join-us-for-a-cuppa-38/
LOCATION:d’Cafe\, Southside
END:VEVENT
BEGIN:VEVENT
DTSTART;TZID=Australia/Melbourne:20190905T090000
DTEND;TZID=Australia/Melbourne:20190905T113000
DTSTAMP:20260423T083127
CREATED:20190326T014400Z
LAST-MODIFIED:20190820T012034Z
UID:3168-1567674000-1567683000@www.gruc.org.au
SUMMARY:Friendship Circle
DESCRIPTION:Our Ladies will be meeting at Ruth’s home this month. We’ll be car pooling from St Andew’s Hall\, meeting at 9am sharp.
URL:https://www.gruc.org.au/event/friendship-circle-19/
LOCATION:CE Room
END:VEVENT
BEGIN:VEVENT
DTSTART;TZID=Australia/Melbourne:20190905T080000
DTEND;TZID=Australia/Melbourne:20190905T090000
DTSTAMP:20260423T083127
CREATED:20190819T233233Z
LAST-MODIFIED:20190819T233233Z
UID:3614-1567670400-1567674000@www.gruc.org.au
SUMMARY:Prayer Warriors
DESCRIPTION:Our world is all about people … We’re a small and powerful group of prayer warriors who spend time on Thursday mornings thanking God and asking for his intervention wherever there is need. We then share in Communion before going about our day. \n1 Timothy 2 verse 1 tells us … “I urge\, then\, first of all\, that requests\, prayers\, intercession and thanksgiving be made by everyone”;  verses 3 & 4 “This is good and pleases God our Saviour\, who wants all men to be saved and to come to a knowledge of the truth”. \nDrop in and join us from time to time … no worries if you can only stay for a short while.
URL:https://www.gruc.org.au/event/prayer-warriors-4/
LOCATION:Gympie Uniting Church\, 15 Red Hill Road\, Gympie\, QLD\, 4570\, Australia
END:VEVENT
BEGIN:VEVENT
DTSTART;TZID=Australia/Melbourne:20190903T090000
DTEND;TZID=Australia/Melbourne:20190903T090000
DTSTAMP:20260423T083127
CREATED:20190820T012617Z
LAST-MODIFIED:20190820T012617Z
UID:3657-1567501200-1567501200@www.gruc.org.au
SUMMARY:Pastoral Carers' Meeting
DESCRIPTION:Our Pastoral Care Team will be meeting in the CE Room.
URL:https://www.gruc.org.au/event/pastoral-carers-meeting/
END:VEVENT
BEGIN:VEVENT
DTSTART;TZID=Australia/Melbourne:20190830T153000
DTEND;TZID=Australia/Melbourne:20190830T173000
DTSTAMP:20260423T083127
CREATED:20190819T232508Z
LAST-MODIFIED:20190819T232841Z
UID:3604-1567179000-1567186200@www.gruc.org.au
SUMMARY:Cedar Pocket Kids' Club
DESCRIPTION:This is a weekly\, after school activity for primary aged children … Fridays during school terms from 3:30 to 5:30pm. Fun\, Games\, Food\, Craft\, Music\, Stories. Parents are encouraged to stay. $2 per child. (An outreach of the Gympie Regional Uniting Church). Coordinator: Ronnie Timperon 0413 135 867
URL:https://www.gruc.org.au/event/cedar-pocket-kids-club-6/
LOCATION:Cedar Pocket Hall\, Lot 376 Cedar Pocket Rd\, Cedar Pocket\, Qld\, 4570\, Australia
END:VEVENT
BEGIN:VEVENT
DTSTART;TZID=Australia/Melbourne:20190829T100000
DTEND;TZID=Australia/Melbourne:20190829T113000
DTSTAMP:20260423T083127
CREATED:20190711T030505Z
LAST-MODIFIED:20190711T030505Z
UID:3524-1567072800-1567078200@www.gruc.org.au
SUMMARY:Join Us For A Cuppa
DESCRIPTION:Thursday Mornings … we’d love you to come and enjoy great company and conversation at d’Cafe (Southside ~ Gympie).
URL:https://www.gruc.org.au/event/join-us-for-a-cuppa-37/
LOCATION:d’Cafe\, Southside
END:VEVENT
BEGIN:VEVENT
DTSTART;TZID=Australia/Melbourne:20190829T080000
DTEND;TZID=Australia/Melbourne:20190829T090000
DTSTAMP:20260423T083127
CREATED:20190711T024058Z
LAST-MODIFIED:20190711T024058Z
UID:3510-1567065600-1567069200@www.gruc.org.au
SUMMARY:Prayer Warriors
DESCRIPTION:Our world is all about people … We’re a small and powerful group of prayer warriors who spend time on Thursday mornings thanking God and asking for his intervention wherever there is need. We then share in Communion before going about our day. \n1 Timothy 2 verse 1 tells us … “I urge\, then\, first of all\, that requests\, prayers\, intercession and thanksgiving be made by everyone”;  verses 3 & 4 “This is good and pleases God our Saviour\, who wants all men to be saved and to come to a knowledge of the truth”. \nDrop in and join us from time to time … no worries if you can only stay for a short while.
URL:https://www.gruc.org.au/event/prayer-warriors-10/
LOCATION:Gympie Uniting Church\, 15 Red Hill Road\, Gympie\, QLD\, 4570\, Australia
END:VEVENT
BEGIN:VEVENT
DTSTART;TZID=Australia/Melbourne:20190825T160000
DTEND;TZID=Australia/Melbourne:20190825T180000
DTSTAMP:20260423T083127
CREATED:20190218T235416Z
LAST-MODIFIED:20190218T235416Z
UID:3025-1566748800-1566756000@www.gruc.org.au
SUMMARY:Messy Family Fun
DESCRIPTION:We’re looking forward to getting back into some Messy Family Fun on the 4th Sunday of the month. Everyone is welcome to join us for fun activities (all ages)\, a 2-course meal and conversation around the table. There is no cost\, but if you’d like to put something in the bowl\, that would be great.
URL:https://www.gruc.org.au/event/messy-family-fun-19/
LOCATION:Imbil Uniting Church Hall\, 3 Elizabeth Street\, Imbil\, Queensland\, 4570\, Australia
END:VEVENT
BEGIN:VEVENT
DTSTART;TZID=Australia/Melbourne:20190823T153000
DTEND;TZID=Australia/Melbourne:20190823T173000
DTSTAMP:20260423T083127
CREATED:20190819T232414Z
LAST-MODIFIED:20190819T232825Z
UID:3602-1566574200-1566581400@www.gruc.org.au
SUMMARY:Cedar Pocket Kids' Club
DESCRIPTION:This is a weekly\, after school activity for primary aged children … Fridays during school terms from 3:30 to 5:30pm. Fun\, Games\, Food\, Craft\, Music\, Stories. Parents are encouraged to stay. $2 per child. (An outreach of the Gympie Regional Uniting Church). Coordinator: Ronnie Timperon 0413 135 867
URL:https://www.gruc.org.au/event/cedar-pocket-kids-club-5/
LOCATION:Cedar Pocket Hall\, Lot 376 Cedar Pocket Rd\, Cedar Pocket\, Qld\, 4570\, Australia
END:VEVENT
BEGIN:VEVENT
DTSTART;TZID=Australia/Melbourne:20190822T100000
DTEND;TZID=Australia/Melbourne:20190822T113000
DTSTAMP:20260423T083127
CREATED:20190711T030432Z
LAST-MODIFIED:20190711T030432Z
UID:3522-1566468000-1566473400@www.gruc.org.au
SUMMARY:Join Us For A cuppa
DESCRIPTION:Thursday Mornings … we’d love you to come and enjoy great company and conversation at d’Cafe (Southside ~ Gympie).
URL:https://www.gruc.org.au/event/join-us-for-a-cuppa-36/
LOCATION:d’Cafe\, Southside
END:VEVENT
BEGIN:VEVENT
DTSTART;TZID=Australia/Melbourne:20190822T080000
DTEND;TZID=Australia/Melbourne:20190822T090000
DTSTAMP:20260423T083127
CREATED:20190711T024028Z
LAST-MODIFIED:20190711T024028Z
UID:3508-1566460800-1566464400@www.gruc.org.au
SUMMARY:Prayer Warriors
DESCRIPTION:Our world is all about people … We’re a small and powerful group of prayer warriors who spend time on Thursday mornings thanking God and asking for his intervention wherever there is need. We then share in Communion before going about our day. \n1 Timothy 2 verse 1 tells us … “I urge\, then\, first of all\, that requests\, prayers\, intercession and thanksgiving be made by everyone”;  verses 3 & 4 “This is good and pleases God our Saviour\, who wants all men to be saved and to come to a knowledge of the truth”. \nDrop in and join us from time to time … no worries if you can only stay for a short while.
URL:https://www.gruc.org.au/event/prayer-warriors-9/
LOCATION:Gympie Uniting Church\, 15 Red Hill Road\, Gympie\, QLD\, 4570\, Australia
END:VEVENT
BEGIN:VEVENT
DTSTART;TZID=Australia/Melbourne:20190816T153000
DTEND;TZID=Australia/Melbourne:20190816T173000
DTSTAMP:20260423T083127
CREATED:20190819T233103Z
LAST-MODIFIED:20190819T233103Z
UID:3600-1565969400-1565976600@www.gruc.org.au
SUMMARY:Cedar Pocket Kids Club
DESCRIPTION:This is a weekly\, after school activity for primary aged children … Fridays during school terms from 3:30 to 5:30pm. Fun\, Games\, Food\, Craft\, Music\, Stories. Parents are encouraged to stay. $2 per child. (An outreach of the Gympie Regional Uniting Church). Coordinator: Ronnie Timperon 0413 135 867
URL:https://www.gruc.org.au/event/cedar-pocket-kids-club-9/
LOCATION:Cedar Pocket Hall\, Lot 376 Cedar Pocket Rd\, Cedar Pocket\, Qld\, 4570\, Australia
END:VEVENT
BEGIN:VEVENT
DTSTART;TZID=Australia/Melbourne:20190816T093000
DTEND;TZID=Australia/Melbourne:20190816T110000
DTSTAMP:20260423T083127
CREATED:20190603T025227Z
LAST-MODIFIED:20190815T230544Z
UID:3389-1565947800-1565953200@www.gruc.org.au
SUMMARY:Valley Cuppa
DESCRIPTION:We all love a chat over a cuppa so come along and join us for some great company. We try to catch up on the 3rd Friday of the month.
URL:https://www.gruc.org.au/event/valley-cuppa-5/
LOCATION:Click Clack Cafe\, 3 Busby Street\, Amamoor\, Queensland\, 4570\, Australia
END:VEVENT
BEGIN:VEVENT
DTSTART;TZID=Australia/Melbourne:20190815T100000
DTEND;TZID=Australia/Melbourne:20190815T113000
DTSTAMP:20260423T083127
CREATED:20190711T030402Z
LAST-MODIFIED:20190805T035451Z
UID:3520-1565863200-1565868600@www.gruc.org.au
SUMMARY:Join Us For A Cuppa
DESCRIPTION:Thursday Mornings … we’d love you to come and enjoy great company and conversation at d’Cafe (Southside ~ Gympie).
URL:https://www.gruc.org.au/event/joni-us-for-a-cuppa/
LOCATION:d’Cafe\, Southside
END:VEVENT
BEGIN:VEVENT
DTSTART;TZID=Australia/Melbourne:20190815T080000
DTEND;TZID=Australia/Melbourne:20190815T090000
DTSTAMP:20260423T083127
CREATED:20190711T023959Z
LAST-MODIFIED:20190711T023959Z
UID:3506-1565856000-1565859600@www.gruc.org.au
SUMMARY:Prayer Warriors
DESCRIPTION:Our world is all about people … We’re a small and powerful group of prayer warriors who spend time on Thursday mornings thanking God and asking for his intervention wherever there is need. We then share in Communion before going about our day. \n1 Timothy 2 verse 1 tells us … “I urge\, then\, first of all\, that requests\, prayers\, intercession and thanksgiving be made by everyone”;  verses 3 & 4 “This is good and pleases God our Saviour\, who wants all men to be saved and to come to a knowledge of the truth”. \nDrop in and join us from time to time … no worries if you can only stay for a short while.
URL:https://www.gruc.org.au/event/prayer-warriors-8/
LOCATION:Gympie Uniting Church\, 15 Red Hill Road\, Gympie\, QLD\, 4570\, Australia
END:VEVENT
BEGIN:VEVENT
DTSTART;TZID=Australia/Melbourne:20190809T153000
DTEND;TZID=Australia/Melbourne:20190809T173000
DTSTAMP:20260423T083127
CREATED:20190819T232231Z
LAST-MODIFIED:20190819T232231Z
UID:3598-1565364600-1565371800@www.gruc.org.au
SUMMARY:Cedar Pocket Kids Club
DESCRIPTION:This is a weekly\, after school activity for primary aged children … Fridays during school terms from 3:30 to 5:30pm. Fun\, Games\, Food\, Craft\, Music\, Stories. Parents are encouraged to stay. $2 per child. (An outreach of the Gympie Regional Uniting Church). Coordinator: Ronnie Timperon 0413 135 867
URL:https://www.gruc.org.au/event/cedar-pocket-kids-club-4/
LOCATION:Cedar Pocket Hall\, Lot 376 Cedar Pocket Rd\, Cedar Pocket\, Qld\, 4570\, Australia
END:VEVENT
BEGIN:VEVENT
DTSTART;TZID=Australia/Melbourne:20190809T090000
DTEND;TZID=Australia/Melbourne:20190809T113000
DTSTAMP:20260423T083127
CREATED:20190603T024133Z
LAST-MODIFIED:20190603T024133Z
UID:3377-1565341200-1565350200@www.gruc.org.au
SUMMARY:Social Art/Craft Morning
DESCRIPTION:This is about our Valley Community getting creative\, socializing and making friends on the 2nd Friday of each month. Bring your own art/craft projects and enjoy a social get together using the Uniting Church Hall as our venue. We’ll have morning tea (a gold coin donation appreciated). For more info\, contact Leonie on 5484 5842 or Sue on 5417 0490.
URL:https://www.gruc.org.au/event/social-art-craft-morning-3/
LOCATION:Imbil Uniting Church Hall\, 3 Elizabeth Street\, Imbil\, Queensland\, 4570\, Australia
END:VEVENT
BEGIN:VEVENT
DTSTART;TZID=Australia/Melbourne:20190808T100000
DTEND;TZID=Australia/Melbourne:20190808T113000
DTSTAMP:20260423T083127
CREATED:20190711T030331Z
LAST-MODIFIED:20190711T030331Z
UID:3518-1565258400-1565263800@www.gruc.org.au
SUMMARY:Join Us For A cuppa
DESCRIPTION:Thursday Mornings … we’d love you to come and enjoy great company and conversation at d’Cafe (Southside ~ Gympie).
URL:https://www.gruc.org.au/event/join-us-for-a-cuppa-35/
LOCATION:d’Cafe\, Southside
END:VEVENT
BEGIN:VEVENT
DTSTART;TZID=Australia/Melbourne:20190808T080000
DTEND;TZID=Australia/Melbourne:20190808T090000
DTSTAMP:20260423T083127
CREATED:20190711T023927Z
LAST-MODIFIED:20190711T023927Z
UID:3504-1565251200-1565254800@www.gruc.org.au
SUMMARY:Prayer Warriors
DESCRIPTION:Our world is all about people … We’re a small and powerful group of prayer warriors who spend time on Thursday mornings thanking God and asking for his intervention wherever there is need. We then share in Communion before going about our day. \n1 Timothy 2 verse 1 tells us … “I urge\, then\, first of all\, that requests\, prayers\, intercession and thanksgiving be made by everyone”;  verses 3 & 4 “This is good and pleases God our Saviour\, who wants all men to be saved and to come to a knowledge of the truth”. \nDrop in and join us from time to time … no worries if you can only stay for a short while.
URL:https://www.gruc.org.au/event/prayer-warriors-7/
LOCATION:Gympie Uniting Church\, 15 Red Hill Road\, Gympie\, QLD\, 4570\, Australia
END:VEVENT
BEGIN:VEVENT
DTSTART;TZID=Australia/Melbourne:20190805T080000
DTEND;TZID=Australia/Melbourne:20190805T170000
DTSTAMP:20260423T083127
CREATED:20190805T035847Z
LAST-MODIFIED:20190805T035847Z
UID:3569-1564992000-1565024400@www.gruc.org.au
SUMMARY:Picnic in the Park with a Difference
DESCRIPTION:This month\, we’ll be getting together for an Afternoon Tea Picnic with a difference! Meeting in our Gympie Church’s CE room for a walk down memory lane … looking at some interesting photos on the screen and enjoying great company. Everyone is welcome. Please bring a plate to share.
URL:https://www.gruc.org.au/event/picnic-in-the-park-with-a-difference/
END:VEVENT
END:VCALENDAR