BEGIN:VCALENDAR
VERSION:2.0
PRODID:-//Gympie Regional Uniting Church - ECPv5.8.1//NONSGML v1.0//EN
CALSCALE:GREGORIAN
METHOD:PUBLISH
X-WR-CALNAME:Gympie Regional Uniting Church
X-ORIGINAL-URL:https://www.gruc.org.au
X-WR-CALDESC:Events for Gympie Regional Uniting Church
BEGIN:VTIMEZONE
TZID:Australia/Melbourne
BEGIN:STANDARD
TZOFFSETFROM:+1100
TZOFFSETTO:+1000
TZNAME:AEST
DTSTART:20190406T160000
END:STANDARD
BEGIN:DAYLIGHT
TZOFFSETFROM:+1000
TZOFFSETTO:+1100
TZNAME:AEDT
DTSTART:20191005T160000
END:DAYLIGHT
BEGIN:STANDARD
TZOFFSETFROM:+1100
TZOFFSETTO:+1000
TZNAME:AEST
DTSTART:20200404T160000
END:STANDARD
BEGIN:DAYLIGHT
TZOFFSETFROM:+1000
TZOFFSETTO:+1100
TZNAME:AEDT
DTSTART:20201003T160000
END:DAYLIGHT
END:VTIMEZONE
BEGIN:VEVENT
DTSTART;TZID=Australia/Melbourne:20200206T080000
DTEND;TZID=Australia/Melbourne:20200206T090000
DTSTAMP:20260422T123336
CREATED:20200130T031130Z
LAST-MODIFIED:20200130T031641Z
UID:4027-1580976000-1580979600@www.gruc.org.au
SUMMARY:Come Pray Pray With Us
DESCRIPTION:Drop in and join us in prayer and communion of a Thursday morning … even if you can stay for only a short time.
URL:https://www.gruc.org.au/event/praying-together-10/
LOCATION:Gympie Uniting Church\, 15 Red Hill Road\, Gympie\, QLD\, 4570\, Australia
END:VEVENT
BEGIN:VEVENT
DTSTART;TZID=Australia/Melbourne:20200126T113000
DTEND;TZID=Australia/Melbourne:20200126T113000
DTSTAMP:20260422T123336
CREATED:20200120T020950Z
LAST-MODIFIED:20200120T021006Z
UID:3982-1580038200-1580038200@www.gruc.org.au
SUMMARY:Australia Day BBQ
DESCRIPTION: We’re having an Australia Day BBQ and Children’s Games after our 10am gathering in Gympie … from around 11:30am.  Everyone is welcome.
URL:https://www.gruc.org.au/event/australia-day-bbq/
LOCATION:Gympie Uniting Church\, 15 Red Hill Road\, Gympie\, QLD\, 4570\, Australia
END:VEVENT
BEGIN:VEVENT
DTSTART;TZID=Australia/Melbourne:20200119T080000
DTEND;TZID=Australia/Melbourne:20200119T080000
DTSTAMP:20260422T123336
CREATED:20191117T234635Z
LAST-MODIFIED:20200117T045959Z
UID:3851-1579420800-1579420800@www.gruc.org.au
SUMMARY:Gympie Worship
DESCRIPTION:We will worship in the Church this Sunday\, 19th January\, instead of the hall as earlier planned.
URL:https://www.gruc.org.au/event/gympie-worship-3/
LOCATION:St Andrews Hall\, 19 Red Hill Road\, Gympie
END:VEVENT
BEGIN:VEVENT
DTSTART;TZID=Australia/Melbourne:20200112T080000
DTEND;TZID=Australia/Melbourne:20200112T080000
DTSTAMP:20260422T123336
CREATED:20191117T234454Z
LAST-MODIFIED:20191117T234454Z
UID:3849-1578816000-1578816000@www.gruc.org.au
SUMMARY:Gympie Worship
DESCRIPTION:We will have one Worship Service in Gympie during the peak of the January Holidays. 8am in our Red Hill Church.
URL:https://www.gruc.org.au/event/gympie-worship-2/
LOCATION:Gympie Uniting Church\, 15 Red Hill Road\, Gympie\, QLD\, 4570\, Australia
END:VEVENT
BEGIN:VEVENT
DTSTART;TZID=Australia/Melbourne:20200105T080000
DTEND;TZID=Australia/Melbourne:20200105T080000
DTSTAMP:20260422T123336
CREATED:20191117T234411Z
LAST-MODIFIED:20191117T234411Z
UID:3847-1578211200-1578211200@www.gruc.org.au
SUMMARY:Gympie Worship
DESCRIPTION:We will have one Worship Service in Gympie during the peak of the January Holidays. 8am in our Red Hill Church.
URL:https://www.gruc.org.au/event/gympie-worship/
LOCATION:Gympie Uniting Church\, 15 Red Hill Road\, Gympie\, QLD\, 4570\, Australia
END:VEVENT
BEGIN:VEVENT
DTSTART;TZID=Australia/Melbourne:20191229T093000
DTEND;TZID=Australia/Melbourne:20191229T093000
DTSTAMP:20260422T123336
CREATED:20191114T024947Z
LAST-MODIFIED:20191114T024947Z
UID:3811-1577611800-1577611800@www.gruc.org.au
SUMMARY:Gympie December 5th Sunday
DESCRIPTION:Where there is a fifth Sunday in the month\, we will be worshiping together with a number of our fellow Church Communities. \nOn the 29th December\, we will gather at the Civic Centre\, meeting at 9:30am for light refreshments. Our service will commence at 10am and a Children’s Ministry will run concurrently (in the Senior Citizen’s Centre). There’ll be a sausage sizzle after the service. Tithes and offerings can be made the week before or the week after this community gathering. An offering on the day to assist with expenses would be most appreciated.
URL:https://www.gruc.org.au/event/gympie-december-5th-sunday/
LOCATION:Civic Centre\, 32-34 Mellor Street\, Gympie\, Queensland\, 4570\, Australia
END:VEVENT
BEGIN:VEVENT
DTSTART;TZID=Australia/Melbourne:20191225T080000
DTEND;TZID=Australia/Melbourne:20191225T080000
DTSTAMP:20260422T123336
CREATED:20191114T024454Z
LAST-MODIFIED:20191114T024454Z
UID:3808-1577260800-1577260800@www.gruc.org.au
SUMMARY:Christmas Day Imbil Service
DESCRIPTION:A Family Service at which everyone is welcome.
URL:https://www.gruc.org.au/event/christmas-day-imbil-service/
LOCATION:Imbil Uniting Church\, 3 Elizabeth Street\, Imbil\, Queensland\, 4570\, Australia
END:VEVENT
BEGIN:VEVENT
DTSTART;TZID=Australia/Melbourne:20191225T080000
DTEND;TZID=Australia/Melbourne:20191225T080000
DTSTAMP:20260422T123336
CREATED:20191114T024355Z
LAST-MODIFIED:20191114T024355Z
UID:3806-1577260800-1577260800@www.gruc.org.au
SUMMARY:Christmas Day Gympie Service
DESCRIPTION:A family service to which everyone is welcome.
URL:https://www.gruc.org.au/event/christmas-day-gympie-service/
LOCATION:Gympie Uniting Church\, 15 Red Hill Road\, Gympie\, QLD\, 4570\, Australia
END:VEVENT
BEGIN:VEVENT
DTSTART;TZID=Australia/Melbourne:20191224T190000
DTEND;TZID=Australia/Melbourne:20191224T190000
DTSTAMP:20260422T123336
CREATED:20191114T024205Z
LAST-MODIFIED:20191114T024558Z
UID:3804-1577214000-1577214000@www.gruc.org.au
SUMMARY:Christmas Eve
DESCRIPTION:This will be a contemporary style service at our Gympie Church. Everyone is welcome.
URL:https://www.gruc.org.au/event/christmas-eve/
LOCATION:Gympie Uniting Church\, 15 Red Hill Road\, Gympie\, QLD\, 4570\, Australia
END:VEVENT
BEGIN:VEVENT
DTSTART;TZID=Australia/Melbourne:20191217T173000
DTEND;TZID=Australia/Melbourne:20191217T173000
DTSTAMP:20260422T123336
CREATED:20191117T233948Z
LAST-MODIFIED:20191117T233948Z
UID:3845-1576603800-1576603800@www.gruc.org.au
SUMMARY:Imbil Community Carols
DESCRIPTION:Join us for a social evening … free BBQ at 5:30pm followed by Carols from 6:30pm. Everyone is very welcome.
URL:https://www.gruc.org.au/event/imbil-community-carols/
LOCATION:Imbil Uniting Church Hall\, 3 Elizabeth Street\, Imbil\, Queensland\, 4570\, Australia
END:VEVENT
BEGIN:VEVENT
DTSTART;TZID=Australia/Melbourne:20191215T180000
DTEND;TZID=Australia/Melbourne:20191215T180000
DTSTAMP:20260422T123336
CREATED:20191114T034506Z
LAST-MODIFIED:20191114T034506Z
UID:3830-1576432800-1576432800@www.gruc.org.au
SUMMARY:Carols on The Lawn
DESCRIPTION:We’re going to be singing Carols on the front lawn of our Gympie Church at Red Hill on Sunday 15th December and we’d love you to join us. We’ll start at 6pm with a sausage sizzle and a cuppa or a cold drink. Bring along your folding chairs. Children are very welcome to dress up as a nativity character … e.g.  Shepherd\, Angel.   $2 per person to help with the costs.
URL:https://www.gruc.org.au/event/carols-on-the-lawn/
LOCATION:Gympie Uniting Church\, 15 Red Hill Road\, Gympie\, QLD\, 4570\, Australia
END:VEVENT
BEGIN:VEVENT
DTSTART;TZID=Australia/Melbourne:20191206T153000
DTEND;TZID=Australia/Melbourne:20191206T170000
DTSTAMP:20260422T123336
CREATED:20191114T030238Z
LAST-MODIFIED:20191205T061952Z
UID:3826-1575646200-1575651600@www.gruc.org.au
SUMMARY:Cedar Pocket Kids' Club
DESCRIPTION:Friday after school club run during school terms where all primary-aged children are welcome … Fun / Games / Food / Craft / Music / Stories.  $2 per child.  Coordinator: Ronnie Timperon 0413 135 867  (This is our last Kids’ Club for 2019).
URL:https://www.gruc.org.au/event/cedar-pocket-kids-club-13/
LOCATION:Cedar Pocket Hall\, Lot 376 Cedar Pocket Rd\, Cedar Pocket\, Qld\, 4570\, Australia
END:VEVENT
BEGIN:VEVENT
DTSTART;TZID=Australia/Melbourne:20191205T090000
DTEND;TZID=Australia/Melbourne:20191205T113000
DTSTAMP:20260422T123336
CREATED:20190326T014834Z
LAST-MODIFIED:20190326T014834Z
UID:3174-1575536400-1575545400@www.gruc.org.au
SUMMARY:A Friendship Circle Christmas
DESCRIPTION:It will be a surprise!!
URL:https://www.gruc.org.au/event/a-friendship-circle-christmas/
END:VEVENT
BEGIN:VEVENT
DTSTART;TZID=Australia/Melbourne:20191129T153000
DTEND;TZID=Australia/Melbourne:20191129T170000
DTSTAMP:20260422T123336
CREATED:20191114T030156Z
LAST-MODIFIED:20191114T030156Z
UID:3824-1575041400-1575046800@www.gruc.org.au
SUMMARY:Cedar pocket Kids' Club
DESCRIPTION:This is a Friday after school club run during school terms where all primary-aged children are welcome … Fun / Games / Food / Craft / Music / Stories.  $2 per child.  Coordinator: Ronnie Timperon 0413 135 867
URL:https://www.gruc.org.au/event/cedar-pocket-kids-club-12/
LOCATION:Cedar Pocket Hall\, Lot 376 Cedar Pocket Rd\, Cedar Pocket\, Qld\, 4570\, Australia
END:VEVENT
BEGIN:VEVENT
DTSTART;TZID=Australia/Melbourne:20191127T183000
DTEND;TZID=Australia/Melbourne:20191127T183000
DTSTAMP:20260422T123336
CREATED:20191114T025100Z
LAST-MODIFIED:20191114T025100Z
UID:3814-1574879400-1574879400@www.gruc.org.au
SUMMARY:Leadership Team Meeting
DESCRIPTION:Monthly meeting of our Church Elders and the Leadership Team.
URL:https://www.gruc.org.au/event/leadership-team-meeting-5/
LOCATION:CE Room
END:VEVENT
BEGIN:VEVENT
DTSTART;TZID=Australia/Melbourne:20191124T160000
DTEND;TZID=Australia/Melbourne:20191124T180000
DTSTAMP:20260422T123336
CREATED:20190218T235700Z
LAST-MODIFIED:20191114T023900Z
UID:3031-1574611200-1574618400@www.gruc.org.au
SUMMARY:Messy Family Fun
DESCRIPTION:This will be our last gathering for 2019 and we hope you can join us for some Messy Family Fun. Everyone is welcome to join us for fun activities (all ages)\, a 2-course meal and conversation around the table. There is no cost\, but if you’d like to put something in the bowl\, that would be great.  
URL:https://www.gruc.org.au/event/messy-family-fun-22/
LOCATION:Imbil Uniting Church Hall\, 3 Elizabeth Street\, Imbil\, Queensland\, 4570\, Australia
END:VEVENT
BEGIN:VEVENT
DTSTART;TZID=Australia/Melbourne:20191123T183000
DTEND;TZID=Australia/Melbourne:20191123T183000
DTSTAMP:20260422T123336
CREATED:20191114T022116Z
LAST-MODIFIED:20191114T022209Z
UID:3793-1574533800-1574533800@www.gruc.org.au
SUMMARY:Blokes' Shed Night
DESCRIPTION:Join us for a great Shed Night. There’ll be a BBQ feast\, terrific company and an engaging guest speaker. $10 dropped in the tin will  help cover costs would be appreciated and optional. RSVP to John 0419 823 987  or  Wayne 0411 075 156  or  Don 0427 759 734.
URL:https://www.gruc.org.au/event/blokes-shed-night-3/
LOCATION:Edwards Transport Depot\, 1021 Old Bruce Hwy\, Kybong\, Queensland\, 4570\, Australia
END:VEVENT
BEGIN:VEVENT
DTSTART;TZID=Australia/Melbourne:20191122T153000
DTEND;TZID=Australia/Melbourne:20191122T170000
DTSTAMP:20260422T123336
CREATED:20191114T025916Z
LAST-MODIFIED:20191114T030056Z
UID:3819-1574436600-1574442000@www.gruc.org.au
SUMMARY:Cedar Pocket Kids' Club
DESCRIPTION:This is a Friday after school club run during school terms where all primary-aged children are welcome … Fun / Games / Food / Craft / Music / Stories.  $2 per child.  Coordinator: Ronnie Timperon 0413 135 867
URL:https://www.gruc.org.au/event/cedar-pocket-kids-club-11/
LOCATION:Cedar Pocket Hall\, Lot 376 Cedar Pocket Rd\, Cedar Pocket\, Qld\, 4570\, Australia
END:VEVENT
BEGIN:VEVENT
DTSTART;TZID=Australia/Melbourne:20191120T190000
DTEND;TZID=Australia/Melbourne:20191120T190000
DTSTAMP:20260422T123336
CREATED:20191114T023614Z
LAST-MODIFIED:20191114T023614Z
UID:3798-1574276400-1574276400@www.gruc.org.au
SUMMARY:ALPHA 2020 Vision Night
DESCRIPTION:We getting together to develop our ALPHA vision for next year.  We’d love you to come along with your ideas and passion.  We’ll brainstorm over some supper.
URL:https://www.gruc.org.au/event/alpha-2020-vision-night/
LOCATION:CE Room
END:VEVENT
BEGIN:VEVENT
DTSTART;TZID=Australia/Melbourne:20191120T093000
DTEND;TZID=Australia/Melbourne:20191120T093000
DTSTAMP:20260422T123336
CREATED:20191114T022501Z
LAST-MODIFIED:20191114T022501Z
UID:3796-1574242200-1574242200@www.gruc.org.au
SUMMARY:Bible Society Meeting
DESCRIPTION:Our Gympie branch loves to see new faces so come along as we discuss dispersion of proceeds from our recent dinner and plan other ways of raising our profile in the community. Narelle Towner 0418 729 268
URL:https://www.gruc.org.au/event/bible-society-meeting-5/
LOCATION:CE Room
END:VEVENT
BEGIN:VEVENT
DTSTART;TZID=Australia/Melbourne:20191115T153000
DTEND;TZID=Australia/Melbourne:20191115T170000
DTSTAMP:20260422T123336
CREATED:20191114T025744Z
LAST-MODIFIED:20191114T030122Z
UID:3816-1573831800-1573837200@www.gruc.org.au
SUMMARY:Cedar Pocket Kids' Club
DESCRIPTION:This is a Friday after school club run during school terms where all primary-aged children are welcome … Fun / Games / Food / Craft / Music / Stories.  $2 per child.  Coordinator: Ronnie Timperon 0413 135 867
URL:https://www.gruc.org.au/event/cedar-pocket-kids-club-10/
LOCATION:Cedar Pocket Hall\, Lot 376 Cedar Pocket Rd\, Cedar Pocket\, Qld\, 4570\, Australia
END:VEVENT
BEGIN:VEVENT
DTSTART;TZID=Australia/Melbourne:20191115T093000
DTEND;TZID=Australia/Melbourne:20191115T110000
DTSTAMP:20260422T123336
CREATED:20190603T025428Z
LAST-MODIFIED:20191114T023018Z
UID:3395-1573810200-1573815600@www.gruc.org.au
SUMMARY:Valley Cuppa
DESCRIPTION:We all love a chat over a cuppa so come along and join us for some great company. We try to catch up on the 3rd Friday of the month.
URL:https://www.gruc.org.au/event/valley-cuppa-8/
LOCATION:Click Clack Cafe\, 3 Busby Street\, Amamoor\, Queensland\, 4570\, Australia
END:VEVENT
BEGIN:VEVENT
DTSTART;TZID=Australia/Melbourne:20191108T090000
DTEND;TZID=Australia/Melbourne:20191108T113000
DTSTAMP:20260422T123336
CREATED:20190603T024335Z
LAST-MODIFIED:20190603T024335Z
UID:3383-1573203600-1573212600@www.gruc.org.au
SUMMARY:Social Art/Craft Morning
DESCRIPTION:This is about our Valley Community getting creative\, socializing and making friends on the 2nd Friday of each month. Bring your own art/craft projects and enjoy a social get together using the Uniting Church Hall as our venue. We’ll have morning tea (a gold coin donation appreciated). For more info\, contact Leonie on 5484 5842 or Sue on 5417 0490.
URL:https://www.gruc.org.au/event/social-art-craft-morning-6/
LOCATION:Imbil Uniting Church Hall\, 3 Elizabeth Street\, Imbil\, Queensland\, 4570\, Australia
END:VEVENT
BEGIN:VEVENT
DTSTART;TZID=Australia/Melbourne:20191107T090000
DTEND;TZID=Australia/Melbourne:20191107T090000
DTSTAMP:20260422T123336
CREATED:20190326T014623Z
LAST-MODIFIED:20190326T014739Z
UID:3172-1573117200-1573117200@www.gruc.org.au
SUMMARY:Friendship Circle
DESCRIPTION:November gathering details are currently being organised.
URL:https://www.gruc.org.au/event/friendship-circle-21/
END:VEVENT
BEGIN:VEVENT
DTSTART;TZID=Australia/Melbourne:20191031T100000
DTEND;TZID=Australia/Melbourne:20191031T113000
DTSTAMP:20260422T123336
CREATED:20190819T234402Z
LAST-MODIFIED:20190819T234402Z
UID:3648-1572516000-1572521400@www.gruc.org.au
SUMMARY:Join Us For A Cuppa
DESCRIPTION:Thursday Mornings … we’d love you to come and enjoy great company and conversation at d’Cafe (Southside ~ Gympie).
URL:https://www.gruc.org.au/event/join-us-for-a-cuppa-46/
LOCATION:d’Cafe\, Southside
END:VEVENT
BEGIN:VEVENT
DTSTART;TZID=Australia/Melbourne:20191031T081500
DTEND;TZID=Australia/Melbourne:20191031T084500
DTSTAMP:20260422T123336
CREATED:20190819T233651Z
LAST-MODIFIED:20190930T013612Z
UID:3630-1572509700-1572511500@www.gruc.org.au
SUMMARY:Prayer Warriors
DESCRIPTION:Our world is all about people … We’re a small and powerful group of prayer warriors who spend time on Thursday mornings thanking God and asking for his intervention wherever there is need. We then share in Communion before going about our day. \n1 Timothy 2 verse 1 tells us … “I urge\, then\, first of all\, that requests\, prayers\, intercession and thanksgiving be made by everyone”;  verses 3 & 4 “This is good and pleases God our Saviour\, who wants all men to be saved and to come to a knowledge of the truth”. \nDrop in and join us from time to time … no worries if you can only stay for a short while.
URL:https://www.gruc.org.au/event/prayer-warriors-18/
LOCATION:Gympie Uniting Church\, 15 Red Hill Road\, Gympie\, QLD\, 4570\, Australia
END:VEVENT
BEGIN:VEVENT
DTSTART;TZID=Australia/Melbourne:20191027T160000
DTEND;TZID=Australia/Melbourne:20191027T180000
DTSTAMP:20260422T123336
CREATED:20190218T235601Z
LAST-MODIFIED:20190218T235601Z
UID:3029-1572192000-1572199200@www.gruc.org.au
SUMMARY:Messy Family Fun
DESCRIPTION:We’re looking forward to getting back into some Messy Family Fun on the 4th Sunday of the month. Everyone is welcome to join us for fun activities (all ages)\, a 2-course meal and conversation around the table. There is no cost\, but if you’d like to put something in the bowl\, that would be great.
URL:https://www.gruc.org.au/event/messy-family-fun-21/
LOCATION:Imbil Uniting Church Hall\, 3 Elizabeth Street\, Imbil\, Queensland\, 4570\, Australia
END:VEVENT
BEGIN:VEVENT
DTSTART;TZID=Australia/Melbourne:20191027T120000
DTEND;TZID=Australia/Melbourne:20191027T170000
DTSTAMP:20260422T123336
CREATED:20191015T040224Z
LAST-MODIFIED:20191015T040224Z
UID:3744-1572177600-1572195600@www.gruc.org.au
SUMMARY:Family Fun & Fellowship
DESCRIPTION:Our church family is getting together for a relaxing afternoon at Judy’s & Don’s home.   There’ll be a sausage sizzle\, fun & games and afternoon tea.  Please bring along something to share for afternoon tea\, a camping chair (or a picnic blanket) and a hat.  (Judy & Don have spare chairs it you don’t have a camping chair).  From midday at 6 Willow Grove Road\, Southside. 5482 3128                                                                                            
URL:https://www.gruc.org.au/event/family-fun-fellowship/
END:VEVENT
BEGIN:VEVENT
DTSTART;TZID=Australia/Melbourne:20191024T100000
DTEND;TZID=Australia/Melbourne:20191024T113000
DTSTAMP:20260422T123336
CREATED:20190819T234328Z
LAST-MODIFIED:20190819T234328Z
UID:3646-1571911200-1571916600@www.gruc.org.au
SUMMARY:Join Us For A Cuppa
DESCRIPTION:Thursday Mornings … we’d love you to come and enjoy great company and conversation at d’Cafe (Southside ~ Gympie).
URL:https://www.gruc.org.au/event/join-us-for-a-cuppa-45/
LOCATION:d’Cafe\, Southside
END:VEVENT
BEGIN:VEVENT
DTSTART;TZID=Australia/Melbourne:20191024T081500
DTEND;TZID=Australia/Melbourne:20191024T084500
DTSTAMP:20260422T123336
CREATED:20190819T233624Z
LAST-MODIFIED:20190930T013547Z
UID:3628-1571904900-1571906700@www.gruc.org.au
SUMMARY:Prayer Warriors
DESCRIPTION:Our world is all about people … We’re a small and powerful group of prayer warriors who spend time on Thursday mornings thanking God and asking for his intervention wherever there is need. We then share in Communion before going about our day. \n1 Timothy 2 verse 1 tells us … “I urge\, then\, first of all\, that requests\, prayers\, intercession and thanksgiving be made by everyone”;  verses 3 & 4 “This is good and pleases God our Saviour\, who wants all men to be saved and to come to a knowledge of the truth”. \nDrop in and join us from time to time … no worries if you can only stay for a short while.
URL:https://www.gruc.org.au/event/prayer-warriors-17/
LOCATION:Gympie Uniting Church\, 15 Red Hill Road\, Gympie\, QLD\, 4570\, Australia
END:VEVENT
END:VCALENDAR