BEGIN:VCALENDAR
VERSION:2.0
PRODID:-//Gympie Regional Uniting Church - ECPv5.8.1//NONSGML v1.0//EN
CALSCALE:GREGORIAN
METHOD:PUBLISH
X-WR-CALNAME:Gympie Regional Uniting Church
X-ORIGINAL-URL:https://www.gruc.org.au
X-WR-CALDESC:Events for Gympie Regional Uniting Church
BEGIN:VTIMEZONE
TZID:Australia/Melbourne
BEGIN:STANDARD
TZOFFSETFROM:+1100
TZOFFSETTO:+1000
TZNAME:AEST
DTSTART:20200404T160000
END:STANDARD
BEGIN:DAYLIGHT
TZOFFSETFROM:+1000
TZOFFSETTO:+1100
TZNAME:AEDT
DTSTART:20201003T160000
END:DAYLIGHT
END:VTIMEZONE
BEGIN:VEVENT
DTSTART;TZID=Australia/Melbourne:20201129T093000
DTEND;TZID=Australia/Melbourne:20201129T110000
DTSTAMP:20260422T122807
CREATED:20201127T011015Z
LAST-MODIFIED:20201127T011246Z
UID:4717-1606642200-1606647600@www.gruc.org.au
SUMMARY:Oasis
DESCRIPTION:There will be no 10am service at our Gympie location ~ instead we’ll be worshipping from 9:30am at the Church of Christ on Horseshoe Bend joining with their congregation and the Salvation Army ~ coming together in a sense of oneness.
URL:https://www.gruc.org.au/event/oasis/
LOCATION:Church of Christ\, 57 Horseshoe Bend\, Gympie\, QLD\, 4570\, Australia
END:VEVENT
BEGIN:VEVENT
DTSTART;TZID=Australia/Melbourne:20201126T090000
DTEND;TZID=Australia/Melbourne:20201126T090000
DTSTAMP:20260422T122807
CREATED:20201109T011844Z
LAST-MODIFIED:20201119T235136Z
UID:4667-1606381200-1606381200@www.gruc.org.au
SUMMARY:Friendship Circle
DESCRIPTION:Ladies … Friendship Circle is meeting again after a very length break this year. Currently we are meeting on the last Thursday morning of the month and our November gathering\, a Christmas Theme\, will be the last one for 2020.  We’ll meet in our Gympie Church instead of our meeting room ~ adhering to all covid-19 requirements. We are serving prepackaged morning tea and ask that you bring a cup or mug from home. If you have any queries\, please contact Helen on 5482 3057 or Ruth on 5481 1050.
URL:https://www.gruc.org.au/event/friendship-circle-3/
LOCATION:Gympie Uniting Church\, 15 Red Hill Road\, Gympie\, QLD\, 4570\, Australia
END:VEVENT
BEGIN:VEVENT
DTSTART;TZID=Australia/Melbourne:20201121T183000
DTEND;TZID=Australia/Melbourne:20201121T183000
DTSTAMP:20260422T122807
CREATED:20200116T045309Z
LAST-MODIFIED:20201109T012037Z
UID:3963-1605983400-1605983400@www.gruc.org.au
SUMMARY:Blokes' Shed
DESCRIPTION:For the guys … Great company\, guest speaker and a tasty BBQ meal\, adhering to Covid-19 safety requirements.  If you’re in a position to help cover costs\, $10 in the tin would be appreciated. See the flyer for details.
URL:https://www.gruc.org.au/event/blokes-shed-10/
LOCATION:Edwards Transport Depot\, 1021 Old Bruce Hwy\, Kybong\, Queensland\, 4570\, Australia
END:VEVENT
BEGIN:VEVENT
DTSTART;TZID=Australia/Melbourne:20201118T093000
DTEND;TZID=Australia/Melbourne:20201118T093000
DTSTAMP:20260422T122807
CREATED:20200210T232010Z
LAST-MODIFIED:20201113T032051Z
UID:4087-1605691800-1605691800@www.gruc.org.au
SUMMARY:Bible Society Meeting
DESCRIPTION:This is an amazing ministry and if you haven’t been involved before\, they’d love to see you there and your new ideas are most welcome.  If you have any queries\, please contact Narelle Towner on 5483 2128.
URL:https://www.gruc.org.au/event/bible-society-meeting-7/
LOCATION:CE Room
END:VEVENT
BEGIN:VEVENT
DTSTART;TZID=Australia/Melbourne:20200912T183000
DTEND;TZID=Australia/Melbourne:20200912T183000
DTSTAMP:20260422T122807
CREATED:20200116T045227Z
LAST-MODIFIED:20200831T201702Z
UID:3961-1599935400-1599935400@www.gruc.org.au
SUMMARY:Blokes' Shed
DESCRIPTION:For the guys … Great company\, guest speaker and a tasty BBQ meal.  If you’re in a position to help cover costs\, $10 in the tin would be appreciated. See the flyer for details.
URL:https://www.gruc.org.au/event/blokes-shed-9/
LOCATION:Edwards Transport Depot\, 1021 Old Bruce Hwy\, Kybong\, Queensland\, 4570\, Australia
END:VEVENT
BEGIN:VEVENT
DTSTART;TZID=Australia/Melbourne:20200819T093000
DTEND;TZID=Australia/Melbourne:20200819T093000
DTSTAMP:20260422T122807
CREATED:20200210T231859Z
LAST-MODIFIED:20200210T231859Z
UID:4085-1597829400-1597829400@www.gruc.org.au
SUMMARY:Bible Society AGM
DESCRIPTION:This is an amazing ministry and if you haven’t been involved before\, they’d love to see you there and your new ideas are most welcome.  If you have any queries\, please contact Narelle Towner on 5483 2128.
URL:https://www.gruc.org.au/event/bible-society-agm-3/
LOCATION:CE Room
END:VEVENT
BEGIN:VEVENT
DTSTART;TZID=Australia/Melbourne:20200725T163000
DTEND;TZID=Australia/Melbourne:20200725T163000
DTSTAMP:20260422T122807
CREATED:20200712T235913Z
LAST-MODIFIED:20200712T235913Z
UID:4514-1595694600-1595694600@www.gruc.org.au
SUMMARY:Bunch of Blokes
DESCRIPTION:This will be a great evening for men of all ages from all walks of life. Click on the flyer for details.
URL:https://www.gruc.org.au/event/bunch-of-blokes/
LOCATION:Day Spring Farm\, 201 Calico Creek Road\, Calico Creek\, Qld\, 4570\, Australia
END:VEVENT
BEGIN:VEVENT
DTSTART;TZID=Australia/Melbourne:20200623T183000
DTEND;TZID=Australia/Melbourne:20200623T183000
DTSTAMP:20260422T122807
CREATED:20200316T021155Z
LAST-MODIFIED:20200316T021155Z
UID:4246-1592937000-1592937000@www.gruc.org.au
SUMMARY:Leadership Team Meeting
DESCRIPTION:
URL:https://www.gruc.org.au/event/leadership-team-meeting-9/
LOCATION:CE Room
END:VEVENT
BEGIN:VEVENT
DTSTART;TZID=Australia/Melbourne:20200526T183000
DTEND;TZID=Australia/Melbourne:20200526T183000
DTSTAMP:20260422T122807
CREATED:20200316T021117Z
LAST-MODIFIED:20200316T021224Z
UID:4244-1590517800-1590517800@www.gruc.org.au
SUMMARY:Leadership Team Meeting
DESCRIPTION:
URL:https://www.gruc.org.au/event/leadership-team-meeting-8/
LOCATION:CE Room
END:VEVENT
BEGIN:VEVENT
DTSTART;TZID=Australia/Melbourne:20200428T183000
DTEND;TZID=Australia/Melbourne:20200428T183000
DTSTAMP:20260422T122807
CREATED:20200316T021042Z
LAST-MODIFIED:20200405T232520Z
UID:4242-1588098600-1588098600@www.gruc.org.au
SUMMARY:Leadership Team Meeting
DESCRIPTION:Connecting via Zoom
URL:https://www.gruc.org.au/event/leadership-team-meeting-7/
LOCATION:CE Room
END:VEVENT
BEGIN:VEVENT
DTSTART;TZID=Australia/Melbourne:20200324T183000
DTEND;TZID=Australia/Melbourne:20200324T183000
DTSTAMP:20260422T122807
CREATED:20200316T020952Z
LAST-MODIFIED:20200405T232447Z
UID:4240-1585074600-1585074600@www.gruc.org.au
SUMMARY:Leadership Team Meeting
DESCRIPTION:Connecting via Zoom
URL:https://www.gruc.org.au/event/leadership-team-meeting-6/
LOCATION:CE Room
END:VEVENT
BEGIN:VEVENT
DTSTART;TZID=Australia/Melbourne:20200312T080000
DTEND;TZID=Australia/Melbourne:20200312T090000
DTSTAMP:20260422T122807
CREATED:20200130T031932Z
LAST-MODIFIED:20200130T031932Z
UID:4044-1584000000-1584003600@www.gruc.org.au
SUMMARY:Come Pray With Us
DESCRIPTION:Drop in and join us in prayer and communion of a Thursday morning … even if you can stay for only a short time.
URL:https://www.gruc.org.au/event/come-pray-with-us-5/
LOCATION:Gympie Uniting Church\, 15 Red Hill Road\, Gympie\, QLD\, 4570\, Australia
END:VEVENT
BEGIN:VEVENT
DTSTART;TZID=Australia/Melbourne:20200310T093000
DTEND;TZID=Australia/Melbourne:20200310T093000
DTSTAMP:20260422T122807
CREATED:20200316T020025Z
LAST-MODIFIED:20200316T020025Z
UID:4230-1583832600-1583832600@www.gruc.org.au
SUMMARY:Men's Chat
DESCRIPTION:Our men of all ages get together on the second Tuesday of the month for some casual conversation over a cuppa. If you haven’t come along before\, it would be great if you joined us.
URL:https://www.gruc.org.au/event/mens-chat-21/
LOCATION:d’Cafe\, Southside
END:VEVENT
BEGIN:VEVENT
DTSTART;TZID=Australia/Melbourne:20200307T180000
DTEND;TZID=Australia/Melbourne:20200307T180000
DTSTAMP:20260422T122807
CREATED:20200116T044215Z
LAST-MODIFIED:20200116T044215Z
UID:3952-1583604000-1583604000@www.gruc.org.au
SUMMARY:Trail Blazers Variety Concert
DESCRIPTION:Hosted by Mary Valley Trailblazers supporting Chaplaincy & similar services in the Mary Valley. 6pm Dinner\, 7pm Concert.  See flyer for details.
URL:https://www.gruc.org.au/event/trail-blazers-variety-concert/
LOCATION:Kandanga Public Hall\, 81 Main Street\, Kandanga\, Queensland\, 4570\, Australia
END:VEVENT
BEGIN:VEVENT
DTSTART;TZID=Australia/Melbourne:20200306T153000
DTEND;TZID=Australia/Melbourne:20200306T170000
DTSTAMP:20260422T122807
CREATED:20200130T024053Z
LAST-MODIFIED:20200210T001008Z
UID:4002-1583508600-1583514000@www.gruc.org.au
SUMMARY:Cedar Pocket After School Kids' Club
DESCRIPTION:
URL:https://www.gruc.org.au/event/cedar-pocket-after-school-kids-club-3/
LOCATION:Cedar Pocket Hall\, Lot 376 Cedar Pocket Rd\, Cedar Pocket\, Qld\, 4570\, Australia
END:VEVENT
BEGIN:VEVENT
DTSTART;TZID=Australia/Melbourne:20200305T100000
DTEND;TZID=Australia/Melbourne:20200305T113000
DTSTAMP:20260422T122807
CREATED:20200130T025045Z
LAST-MODIFIED:20200130T025045Z
UID:4017-1583402400-1583407800@www.gruc.org.au
SUMMARY:A cuppa With Friends
DESCRIPTION:We meet of a Thursday morning some entertaining conversation over morning tea. We’d love to see you there.
URL:https://www.gruc.org.au/event/a-cuppa-with-friends-5/
LOCATION:d’Cafe\, Southside
END:VEVENT
BEGIN:VEVENT
DTSTART;TZID=Australia/Melbourne:20200305T090000
DTEND;TZID=Australia/Melbourne:20200305T090000
DTSTAMP:20260422T122807
CREATED:20200316T024016Z
LAST-MODIFIED:20200316T024016Z
UID:4265-1583398800-1583398800@www.gruc.org.au
SUMMARY:Women's Friendship Circle
DESCRIPTION:Ladies of all ages meet on the first Thursday of the month … enjoying good company and morning tea and a different activity each month.
URL:https://www.gruc.org.au/event/womens-friendship-circle/
LOCATION:CE Room
END:VEVENT
BEGIN:VEVENT
DTSTART;TZID=Australia/Melbourne:20200305T080000
DTEND;TZID=Australia/Melbourne:20200305T090000
DTSTAMP:20260422T122807
CREATED:20200130T031902Z
LAST-MODIFIED:20200130T031902Z
UID:4041-1583395200-1583398800@www.gruc.org.au
SUMMARY:Come Pray With Us
DESCRIPTION:Drop in and join us in prayer and communion of a Thursday morning … even if you can stay for only a short time.
URL:https://www.gruc.org.au/event/come-pray-with-us-4/
LOCATION:Gympie Uniting Church\, 15 Red Hill Road\, Gympie\, QLD\, 4570\, Australia
END:VEVENT
BEGIN:VEVENT
DTSTART;TZID=Australia/Melbourne:20200227T100000
DTEND;TZID=Australia/Melbourne:20200227T113000
DTSTAMP:20260422T122807
CREATED:20200130T025008Z
LAST-MODIFIED:20200130T025008Z
UID:4015-1582797600-1582803000@www.gruc.org.au
SUMMARY:A Cuppa With Friends
DESCRIPTION:We meet of a Thursday morning some entertaining conversation over morning tea. We’d love to see you there.
URL:https://www.gruc.org.au/event/a-cuppa-with-friends-4/
LOCATION:d’Cafe\, Southside
END:VEVENT
BEGIN:VEVENT
DTSTART;TZID=Australia/Melbourne:20200227T080000
DTEND;TZID=Australia/Melbourne:20200227T090000
DTSTAMP:20260422T122807
CREATED:20200130T031752Z
LAST-MODIFIED:20200130T031752Z
UID:4039-1582790400-1582794000@www.gruc.org.au
SUMMARY:Come Pray With Us
DESCRIPTION:Drop in and join us in prayer and communion of a Thursday morning … even if you can stay for only a short time.
URL:https://www.gruc.org.au/event/come-pray-with-us-3/
LOCATION:Gympie Uniting Church\, 15 Red Hill Road\, Gympie\, QLD\, 4570\, Australia
END:VEVENT
BEGIN:VEVENT
DTSTART;TZID=Australia/Melbourne:20200221T153000
DTEND;TZID=Australia/Melbourne:20200221T170000
DTSTAMP:20260422T122807
CREATED:20200130T023911Z
LAST-MODIFIED:20200210T001213Z
UID:4000-1582299000-1582304400@www.gruc.org.au
SUMMARY:Cedar Pocket After School Kids' Club
DESCRIPTION:
URL:https://www.gruc.org.au/event/cedar-pocket-after-school-kids-club-2/
LOCATION:Cedar Pocket Hall\, Lot 376 Cedar Pocket Rd\, Cedar Pocket\, Qld\, 4570\, Australia
END:VEVENT
BEGIN:VEVENT
DTSTART;TZID=Australia/Melbourne:20200220T100000
DTEND;TZID=Australia/Melbourne:20200220T113000
DTSTAMP:20260422T122807
CREATED:20200130T024926Z
LAST-MODIFIED:20200130T024926Z
UID:4013-1582192800-1582198200@www.gruc.org.au
SUMMARY:A Cuppa With Friends
DESCRIPTION:We meet of a Thursday morning some entertaining conversation over morning tea. We’d love to see you there.
URL:https://www.gruc.org.au/event/a-cuppa-with-friends-3/
LOCATION:d’Cafe\, Southside
END:VEVENT
BEGIN:VEVENT
DTSTART;TZID=Australia/Melbourne:20200220T080000
DTEND;TZID=Australia/Melbourne:20200220T090000
DTSTAMP:20260422T122807
CREATED:20200130T031710Z
LAST-MODIFIED:20200130T031710Z
UID:4037-1582185600-1582189200@www.gruc.org.au
SUMMARY:Come Pray With Us
DESCRIPTION:Drop in and join us in prayer and communion of a Thursday morning … even if you can stay for only a short time.
URL:https://www.gruc.org.au/event/come-pray-with-us-2/
LOCATION:Gympie Uniting Church\, 15 Red Hill Road\, Gympie\, QLD\, 4570\, Australia
END:VEVENT
BEGIN:VEVENT
DTSTART;TZID=Australia/Melbourne:20200219T093000
DTEND;TZID=Australia/Melbourne:20200219T093000
DTSTAMP:20260422T122807
CREATED:20200210T231700Z
LAST-MODIFIED:20200210T231700Z
UID:4080-1582104600-1582104600@www.gruc.org.au
SUMMARY:Bible Society Meeting
DESCRIPTION:This is the local Bible Society’s first meeting for 2020. This is an amazing ministry and if you haven’t been involved before\, they’d love to see you there and your new ideas are most welcome.  If you have any queries\, please contact Narelle Towner on 5483 2128. \n 
URL:https://www.gruc.org.au/event/bible-society-meeting-6/
LOCATION:CE Room
END:VEVENT
BEGIN:VEVENT
DTSTART;TZID=Australia/Melbourne:20200215T183000
DTEND;TZID=Australia/Melbourne:20200215T183000
DTSTAMP:20260422T122807
CREATED:20200116T044837Z
LAST-MODIFIED:20200116T045036Z
UID:3955-1581791400-1581791400@www.gruc.org.au
SUMMARY:Blokes' Shed
DESCRIPTION:For the guys … Great company\, guest speaker and a tasty BBQ meal.  If you’re in a position to help cover costs\, $10 in the tin would be appreciated. See the flyer for details.
URL:https://www.gruc.org.au/event/blokes-shed-7/
LOCATION:Edwards Transport Depot\, 1021 Old Bruce Hwy\, Kybong\, Queensland\, 4570\, Australia
END:VEVENT
BEGIN:VEVENT
DTSTART;TZID=Australia/Melbourne:20200214T090000
DTEND;TZID=Australia/Melbourne:20200214T113000
DTSTAMP:20260422T122807
CREATED:20200316T012414Z
LAST-MODIFIED:20200316T013009Z
UID:4168-1581670800-1581679800@www.gruc.org.au
SUMMARY:Social Art/Craft Morning
DESCRIPTION:We get creative on the second Friday of the month\, so bring along your art/craft projects and enjoy a social get together. Everyone is welcome.
URL:https://www.gruc.org.au/event/social-art-craft-morning-7/
LOCATION:Imbil Uniting Church Hall\, 3 Elizabeth Street\, Imbil\, Queensland\, 4570\, Australia
END:VEVENT
BEGIN:VEVENT
DTSTART;TZID=Australia/Melbourne:20200213T100000
DTEND;TZID=Australia/Melbourne:20200213T113000
DTSTAMP:20260422T122807
CREATED:20200130T024839Z
LAST-MODIFIED:20200130T024839Z
UID:4011-1581588000-1581593400@www.gruc.org.au
SUMMARY:A Cuppa With Friends
DESCRIPTION:We meet of a Thursday morning some entertaining conversation over morning tea. We’d love to see you there.
URL:https://www.gruc.org.au/event/a-cuppa-with-friends-2/
LOCATION:d’Cafe\, Southside
END:VEVENT
BEGIN:VEVENT
DTSTART;TZID=Australia/Melbourne:20200213T080000
DTEND;TZID=Australia/Melbourne:20200213T090000
DTSTAMP:20260422T122807
CREATED:20200130T031613Z
LAST-MODIFIED:20200130T031613Z
UID:4034-1581580800-1581584400@www.gruc.org.au
SUMMARY:Come Pray With Us
DESCRIPTION:Drop in and join us in prayer and communion of a Thursday morning … even if you can stay for only a short time.
URL:https://www.gruc.org.au/event/come-pray-with-us/
LOCATION:Gympie Uniting Church\, 15 Red Hill Road\, Gympie\, QLD\, 4570\, Australia
END:VEVENT
BEGIN:VEVENT
DTSTART;TZID=Australia/Melbourne:20200211T093000
DTEND;TZID=Australia/Melbourne:20200211T110000
DTSTAMP:20260422T122807
CREATED:20200130T033942Z
LAST-MODIFIED:20200130T033942Z
UID:4050-1581413400-1581418800@www.gruc.org.au
SUMMARY:Men's Chat
DESCRIPTION:Our men of all ages get together on the second Tuesday of the month for some casual conversation over a cuppa. If you haven’t come along before\, it would be great if you joined us.
URL:https://www.gruc.org.au/event/mens-chat-17/
LOCATION:Coffee Barn Cafe\, 17 Edwin Campion Drive\, Monkland\, Qld\, 4570\, Australia
END:VEVENT
BEGIN:VEVENT
DTSTART;TZID=Australia/Melbourne:20200207T153000
DTEND;TZID=Australia/Melbourne:20200207T170000
DTSTAMP:20260422T122807
CREATED:20200130T023734Z
LAST-MODIFIED:20200210T000322Z
UID:3998-1581089400-1581094800@www.gruc.org.au
SUMMARY:Cedar Pocket After School Kids' Club
DESCRIPTION:
URL:https://www.gruc.org.au/event/cedar-pocket-after-school-kids-club/
LOCATION:Cedar Pocket Hall\, Lot 376 Cedar Pocket Rd\, Cedar Pocket\, Qld\, 4570\, Australia
END:VEVENT
END:VCALENDAR