BEGIN:VCALENDAR
VERSION:2.0
PRODID:-//Gympie Regional Uniting Church - ECPv5.8.1//NONSGML v1.0//EN
CALSCALE:GREGORIAN
METHOD:PUBLISH
X-WR-CALNAME:Gympie Regional Uniting Church
X-ORIGINAL-URL:https://www.gruc.org.au
X-WR-CALDESC:Events for Gympie Regional Uniting Church
BEGIN:VTIMEZONE
TZID:Australia/Melbourne
BEGIN:STANDARD
TZOFFSETFROM:+1100
TZOFFSETTO:+1000
TZNAME:AEST
DTSTART:20200404T160000
END:STANDARD
BEGIN:DAYLIGHT
TZOFFSETFROM:+1000
TZOFFSETTO:+1100
TZNAME:AEDT
DTSTART:20201003T160000
END:DAYLIGHT
BEGIN:STANDARD
TZOFFSETFROM:+1100
TZOFFSETTO:+1000
TZNAME:AEST
DTSTART:20210403T160000
END:STANDARD
BEGIN:DAYLIGHT
TZOFFSETFROM:+1000
TZOFFSETTO:+1100
TZNAME:AEDT
DTSTART:20211002T160000
END:DAYLIGHT
END:VTIMEZONE
BEGIN:VEVENT
DTSTART;TZID=Australia/Melbourne:20210410T090000
DTEND;TZID=Australia/Melbourne:20210410T140000
DTSTAMP:20260422T121227
CREATED:20210316T064951Z
LAST-MODIFIED:20210328T233320Z
UID:4929-1618045200-1618063200@www.gruc.org.au
SUMMARY:Chaplaincy River Walk
DESCRIPTION:Along the banks of the Mary River. Raising funds for School Chaplaincy in the Gympie Region. Registration from 9am at Nelson Reserve\, walk commencing at 10am. Cost $10 per person or $30 per family which includes registration\, a bottle of water\, wristband and admission to the concert with Dan Warlow as special guest. To register go to …   https://suqld.eventsair.com/gympie-chaplaincy-river-walk-2021/registration/Site/Register.  for more information contact Chappy Ronnie on 0413 135 867. (If you’re a runner\, you can arrive at 6:30am for a 7am start).
URL:https://www.gruc.org.au/event/chaplaincy-river-walk/
LOCATION:Nelson Reserve\, Gympie\, Cnr Monnkland St & Jaycee Way\, Gympie\, Queensland\, 4570\, Australia
END:VEVENT
BEGIN:VEVENT
DTSTART;TZID=Australia/Melbourne:20210406T093000
DTEND;TZID=Australia/Melbourne:20210406T110000
DTSTAMP:20260422T121227
CREATED:20210328T234033Z
LAST-MODIFIED:20210328T234057Z
UID:4981-1617701400-1617706800@www.gruc.org.au
SUMMARY:Bible Society Favourite Hymns & Morning Tea
DESCRIPTION:This is the first event that our Gympie Branch of the Bible Society has been able to hold since the onset of covid restrictions and it would be wonderful if you could support their ministry by coming along and giving a donation at the door.  Morning Tea will be provided. Please open the flyer for contact information. \n 
URL:https://www.gruc.org.au/event/bible-society-favourite-hymns-morning-tea/
LOCATION:Church of Christ\, 57 Horseshoe Bend\, Gympie\, QLD\, 4570\, Australia
END:VEVENT
BEGIN:VEVENT
DTSTART;TZID=Australia/Melbourne:20210404T090000
DTEND;TZID=Australia/Melbourne:20210404T100000
DTSTAMP:20260422T121227
CREATED:20210325T015915Z
LAST-MODIFIED:20210325T015915Z
UID:4966-1617526800-1617530400@www.gruc.org.au
SUMMARY:Easter Sunday ~ Imbil
DESCRIPTION:He Is Risen!
URL:https://www.gruc.org.au/event/easter-sunday-imbil-2/
LOCATION:Imbil Uniting Church\, 3 Elizabeth Street\, Imbil\, Queensland\, 4570\, Australia
END:VEVENT
BEGIN:VEVENT
DTSTART;TZID=Australia/Melbourne:20210404T080000
DTEND;TZID=Australia/Melbourne:20210404T090000
DTSTAMP:20260422T121227
CREATED:20210325T020008Z
LAST-MODIFIED:20210325T020008Z
UID:4968-1617523200-1617526800@www.gruc.org.au
SUMMARY:Easter Sunday ~ 8am Gympie
DESCRIPTION:He Is Risen!
URL:https://www.gruc.org.au/event/easter-sunday-8am-gympie/
LOCATION:Gympie Uniting Church\, 15 Red Hill Road\, Gympie\, QLD\, 4570\, Australia
END:VEVENT
BEGIN:VEVENT
DTSTART;TZID=Australia/Melbourne:20210403T090000
DTEND;TZID=Australia/Melbourne:20210403T120000
DTSTAMP:20260422T121227
CREATED:20210316T065849Z
LAST-MODIFIED:20210316T070316Z
UID:4933-1617440400-1617451200@www.gruc.org.au
SUMMARY:Imbil Street Stall
DESCRIPTION:Mary Valley Trailblazers are putting on a Street Stall in support of Students\, Families and Similar Services in the Mary Valley. They’ll be located in front of Mary Valley Traders – Imbil Hardware. There’ll be home-baking\, fresh produce\, craft and lots more. Donations of saleable items are welcome. contact Judy 5484 5290 or Helen 5484 3143 for more information.
URL:https://www.gruc.org.au/event/imbil-street-stall/
END:VEVENT
BEGIN:VEVENT
DTSTART;TZID=Australia/Melbourne:20210402T080000
DTEND;TZID=Australia/Melbourne:20210402T090000
DTSTAMP:20260422T121227
CREATED:20210325T015758Z
LAST-MODIFIED:20210325T015758Z
UID:4964-1617350400-1617354000@www.gruc.org.au
SUMMARY:Good Friday ~ Imbil
DESCRIPTION:You are welcome to focus with us on God’s great gift to us\, His sacrifice for us.
URL:https://www.gruc.org.au/event/good-friday-imbil-3/
LOCATION:Imbil Uniting Church\, 3 Elizabeth Street\, Imbil\, Queensland\, 4570\, Australia
END:VEVENT
BEGIN:VEVENT
DTSTART;TZID=Australia/Melbourne:20210402T080000
DTEND;TZID=Australia/Melbourne:20210402T090000
DTSTAMP:20260422T121227
CREATED:20210325T015710Z
LAST-MODIFIED:20210325T015710Z
UID:4962-1617350400-1617354000@www.gruc.org.au
SUMMARY:Gympie ~ Good Friday
DESCRIPTION:You are welcome to focus with us on God’s great gift to us\, His sacrifice for us.
URL:https://www.gruc.org.au/event/gympie-good-friday/
LOCATION:Gympie Uniting Church\, 15 Red Hill Road\, Gympie\, QLD\, 4570\, Australia
END:VEVENT
BEGIN:VEVENT
DTSTART;TZID=Australia/Melbourne:20210401T190000
DTEND;TZID=Australia/Melbourne:20210401T200000
DTSTAMP:20260422T121227
CREATED:20210325T015430Z
LAST-MODIFIED:20210325T015430Z
UID:4960-1617303600-1617307200@www.gruc.org.au
SUMMARY:Maundy Thursday ~ Gympie
DESCRIPTION:You are welcome to join us in our Gympie Church this Maundy Thursday evening.
URL:https://www.gruc.org.au/event/maundy-thursday-gympie-3/
LOCATION:Gympie Uniting Church\, 15 Red Hill Road\, Gympie\, QLD\, 4570\, Australia
END:VEVENT
BEGIN:VEVENT
DTSTART;TZID=Australia/Melbourne:20210328T100000
DTEND;TZID=Australia/Melbourne:20210328T110000
DTSTAMP:20260422T121227
CREATED:20210325T014855Z
LAST-MODIFIED:20210325T014855Z
UID:4956-1616925600-1616929200@www.gruc.org.au
SUMMARY:10am Gympie Palm Sunday
DESCRIPTION:You are welcome to worship with us this Palm Sunday. We have 2 services: 8am (Traditional Family Service) and 10am (Modern Family Service).
URL:https://www.gruc.org.au/event/10am-gympie-palm-sunday/
LOCATION:Gympie Uniting Church\, 15 Red Hill Road\, Gympie\, QLD\, 4570\, Australia
END:VEVENT
BEGIN:VEVENT
DTSTART;TZID=Australia/Melbourne:20210328T090000
DTEND;TZID=Australia/Melbourne:20210328T100000
DTSTAMP:20260422T121227
CREATED:20210325T014943Z
LAST-MODIFIED:20210325T015822Z
UID:4958-1616922000-1616925600@www.gruc.org.au
SUMMARY:9am Imbil Palm Sunday
DESCRIPTION:You are welcome to worship with us this Palm Sunday.
URL:https://www.gruc.org.au/event/9am-imbil-palm-sunday/
LOCATION:Imbil Uniting Church\, 3 Elizabeth Street\, Imbil\, Queensland\, 4570\, Australia
END:VEVENT
BEGIN:VEVENT
DTSTART;TZID=Australia/Melbourne:20210328T080000
DTEND;TZID=Australia/Melbourne:20210328T090000
DTSTAMP:20260422T121227
CREATED:20210325T014534Z
LAST-MODIFIED:20210325T014800Z
UID:4952-1616918400-1616922000@www.gruc.org.au
SUMMARY:8am Gympie Palm Sunday
DESCRIPTION:You are welcome to worship with us this Palm Sunday. We have 2 services: 8am (Traditional Family Service) and 10am (Modern Family Service).
URL:https://www.gruc.org.au/event/palm-sunday-worship/
LOCATION:Gympie Uniting Church\, 15 Red Hill Road\, Gympie\, QLD\, 4570\, Australia
END:VEVENT
BEGIN:VEVENT
DTSTART;TZID=Australia/Melbourne:20210325T090000
DTEND;TZID=Australia/Melbourne:20210325T113000
DTSTAMP:20260422T121227
CREATED:20210316T062057Z
LAST-MODIFIED:20210316T063316Z
UID:4903-1616662800-1616671800@www.gruc.org.au
SUMMARY:Friendship Circle
DESCRIPTION:Ladies of all ages are welcome. Friendship Circle meets on the last Thursday morning of each month. This month’s activity is “What’s In A Name”. Please bring along a coffee mug from home.
URL:https://www.gruc.org.au/event/friendship-circle-23/
LOCATION:CE Room
END:VEVENT
BEGIN:VEVENT
DTSTART;TZID=Australia/Melbourne:20210305T093000
DTEND;TZID=Australia/Melbourne:20210305T103000
DTSTAMP:20260422T121227
CREATED:20210204T041232Z
LAST-MODIFIED:20210204T041640Z
UID:4846-1614936600-1614940200@www.gruc.org.au
SUMMARY:World Day of Prayer - Mary Valley
DESCRIPTION:Mary Valley’s service will be held at the Kandanga Catholic Church. This year’s focus country is Vanuatu and the theme is “Build on a Strong Foundation”.
URL:https://www.gruc.org.au/event/world-day-of-prayer-mary-valley/
LOCATION:Kandanga Catholic Church\, 43-45 Stephen's Street\, Kandanga\, Qld\, 4570\, Australia
END:VEVENT
BEGIN:VEVENT
DTSTART;TZID=Australia/Melbourne:20210305T093000
DTEND;TZID=Australia/Melbourne:20210305T103000
DTSTAMP:20260422T121227
CREATED:20210204T040702Z
LAST-MODIFIED:20210204T041407Z
UID:4844-1614936600-1614940200@www.gruc.org.au
SUMMARY:World Day of Prayer - Gympie
DESCRIPTION:This year\, Gympie’s service will be held here at our own church and it would be great if you could make it. The 2021 focus country is Vanuatu and the theme … “Build on a Strong Foundation”.
URL:https://www.gruc.org.au/event/world-day-of-prayer-gympie/
LOCATION:Gympie Uniting Church\, 15 Red Hill Road\, Gympie\, QLD\, 4570\, Australia
END:VEVENT
BEGIN:VEVENT
DTSTART;TZID=Australia/Melbourne:20210204T183000
DTEND;TZID=Australia/Melbourne:20210204T210000
DTSTAMP:20260422T121227
CREATED:20210204T040010Z
LAST-MODIFIED:20210204T040218Z
UID:4842-1612463400-1612472400@www.gruc.org.au
SUMMARY:Blokes' Shed
DESCRIPTION:Mouth-watering BBQ\, great company and a terrific speaker. An all-round great night – all blokes welcome. $10 in the tin will help cover expenses (optional).
URL:https://www.gruc.org.au/event/blokes-shed-8/
LOCATION:Edwards Transport Depot\, 1021 Old Bruce Hwy\, Kybong\, Queensland\, 4570\, Australia
END:VEVENT
BEGIN:VEVENT
DTSTART;TZID=Australia/Melbourne:20210128T090000
DTEND;TZID=Australia/Melbourne:20210128T110000
DTSTAMP:20260422T121227
CREATED:20201127T011117Z
LAST-MODIFIED:20201127T011508Z
UID:4720-1611824400-1611831600@www.gruc.org.au
SUMMARY:Friendship Circle
DESCRIPTION:This is a great time for ladies to come together for a morning of fun and fellowship with a different theme each month. We are now meeting on the last Thursday of the month.
URL:https://www.gruc.org.au/event/friendship-circle-22/
LOCATION:Gympie Uniting Church\, 15 Red Hill Road\, Gympie\, QLD\, 4570\, Australia
END:VEVENT
BEGIN:VEVENT
DTSTART;TZID=Australia/Melbourne:20210124T104500
DTEND;TZID=Australia/Melbourne:20210124T114500
DTSTAMP:20260422T121227
CREATED:20210106T031837Z
LAST-MODIFIED:20210106T031837Z
UID:4791-1611485100-1611488700@www.gruc.org.au
SUMMARY:Congregational Meeting
DESCRIPTION:Our first Congregational Meeting for the year\, following on from our Gympie Combined 9am Worship Service.
URL:https://www.gruc.org.au/event/congregational-meeting/
LOCATION:Gympie Uniting Church\, 15 Red Hill Road\, Gympie\, QLD\, 4570\, Australia
END:VEVENT
BEGIN:VEVENT
DTSTART;TZID=Australia/Melbourne:20210124T104500
DTEND;TZID=Australia/Melbourne:20210124T113000
DTSTAMP:20260422T121227
CREATED:20210115T045646Z
LAST-MODIFIED:20210115T052131Z
UID:4806-1611485100-1611487800@www.gruc.org.au
SUMMARY:Congregational Meeting
DESCRIPTION:Our first meeting for 2021 will be held on Sunday 24th January in our Gympie Church. There will be a combined Worship Service that morning at 9am (instead of 8am)\, morning tea then the meeting is scheduled to start at 10:45am.  \nImbil will be connecting by Zoom.
URL:https://www.gruc.org.au/event/congregational-meeting-2/
LOCATION:Gympie Uniting Church\, 15 Red Hill Road\, Gympie\, QLD\, 4570\, Australia
END:VEVENT
BEGIN:VEVENT
DTSTART;TZID=Australia/Melbourne:20201225T080000
DTEND;TZID=Australia/Melbourne:20201225T080000
DTSTAMP:20260422T121227
CREATED:20201127T010026Z
LAST-MODIFIED:20201127T010026Z
UID:4715-1608883200-1608883200@www.gruc.org.au
SUMMARY:Christmas Day Service ~ Imbil
DESCRIPTION:Family Service (within covid guidelines)
URL:https://www.gruc.org.au/event/christmas-day-service-imbil-2/
LOCATION:Imbil Uniting Church\, 3 Elizabeth Street\, Imbil\, Queensland\, 4570\, Australia
END:VEVENT
BEGIN:VEVENT
DTSTART;TZID=Australia/Melbourne:20201225T080000
DTEND;TZID=Australia/Melbourne:20201225T080000
DTSTAMP:20260422T121227
CREATED:20201127T005939Z
LAST-MODIFIED:20201127T005939Z
UID:4713-1608883200-1608883200@www.gruc.org.au
SUMMARY:Christmas Day Service ~ Gympie
DESCRIPTION:Family Service (within covid guidelines)
URL:https://www.gruc.org.au/event/christmas-day-service-gympie-2/
LOCATION:Gympie Uniting Church\, 15 Red Hill Road\, Gympie\, QLD\, 4570\, Australia
END:VEVENT
BEGIN:VEVENT
DTSTART;TZID=Australia/Melbourne:20201224T190000
DTEND;TZID=Australia/Melbourne:20201224T190000
DTSTAMP:20260422T121227
CREATED:20201127T005826Z
LAST-MODIFIED:20201127T005826Z
UID:4711-1608836400-1608836400@www.gruc.org.au
SUMMARY:Christmas Eve ~ Gympie
DESCRIPTION:Contemporary Christmas Service (within covid guidelines).
URL:https://www.gruc.org.au/event/christmas-eve-gympie/
LOCATION:Gympie Uniting Church\, 15 Red Hill Road\, Gympie\, QLD\, 4570\, Australia
END:VEVENT
BEGIN:VEVENT
DTSTART;TZID=Australia/Melbourne:20201219T180000
DTEND;TZID=Australia/Melbourne:20201219T203000
DTSTAMP:20260422T121227
CREATED:20201109T012939Z
LAST-MODIFIED:20201211T101105Z
UID:4677-1608400800-1608409800@www.gruc.org.au
SUMMARY:Carols on the Lawn - Gympie
DESCRIPTION:You’re welcome to join us for a sausage sizzle and carols. Free entry. Sausage on bread $2\, cold drinks $1\, complimentary tea and instant coffee. Please bring a camp chair.
URL:https://www.gruc.org.au/event/carols-on-the-lawn-gympie/
LOCATION:Gympie Uniting Church\, 15 Red Hill Road\, Gympie\, QLD\, 4570\, Australia
END:VEVENT
BEGIN:VEVENT
DTSTART;TZID=Australia/Melbourne:20201213T130000
DTEND;TZID=Australia/Melbourne:20201213T150000
DTSTAMP:20260422T121227
CREATED:20201109T012539Z
LAST-MODIFIED:20201127T012142Z
UID:4675-1607864400-1607871600@www.gruc.org.au
SUMMARY:Rev Dave's & Sandy's Closing Service
DESCRIPTION:This will be the official closure of Dave’s and Sandy’s ministry within our church. Phil Smith (of B.E.L.L.S.) will be our guest preacher for this occasion and the Presbytery will officiate the ‘severance of Pastoral ties’ as part of the service. Please RSVP your intention to join us by emailing our office office@gruc.org.au or by phoning 07 5482 2985 ~ we will ask for your contact details for covid contact tracing purposes.
URL:https://www.gruc.org.au/event/rev-daves-closing-service/
LOCATION:Gympie Uniting Church\, 15 Red Hill Road\, Gympie\, QLD\, 4570\, Australia
END:VEVENT
BEGIN:VEVENT
DTSTART;TZID=Australia/Melbourne:20201211T183000
DTEND;TZID=Australia/Melbourne:20201211T183000
DTSTAMP:20260422T121227
CREATED:20201109T012322Z
LAST-MODIFIED:20201119T235656Z
UID:4673-1607711400-1607711400@www.gruc.org.au
SUMMARY:Imbil Christmas Carols
DESCRIPTION:Everyone is welcome to join us for community Carols from 6:30pm.
URL:https://www.gruc.org.au/event/imbil-christmas-carols/
LOCATION:Imbil Uniting Church Hall\, 3 Elizabeth Street\, Imbil\, Queensland\, 4570\, Australia
END:VEVENT
BEGIN:VEVENT
DTSTART;TZID=Australia/Melbourne:20201130T190000
DTEND;TZID=Australia/Melbourne:20201130T203000
DTSTAMP:20260422T121227
CREATED:20201127T012321Z
LAST-MODIFIED:20201127T012730Z
UID:4727-1606762800-1606768200@www.gruc.org.au
SUMMARY:UCCCA AGM
DESCRIPTION:The Uniting Church Child Care Association AGM will be held in our Gympie Church. Everyone with an interest is very welcome.
URL:https://www.gruc.org.au/event/uccca-agm-2/
LOCATION:Gympie Uniting Church\, 15 Red Hill Road\, Gympie\, QLD\, 4570\, Australia
END:VEVENT
BEGIN:VEVENT
DTSTART;TZID=Australia/Melbourne:20201129T093000
DTEND;TZID=Australia/Melbourne:20201129T110000
DTSTAMP:20260422T121227
CREATED:20201127T011015Z
LAST-MODIFIED:20201127T011246Z
UID:4717-1606642200-1606647600@www.gruc.org.au
SUMMARY:Oasis
DESCRIPTION:There will be no 10am service at our Gympie location ~ instead we’ll be worshipping from 9:30am at the Church of Christ on Horseshoe Bend joining with their congregation and the Salvation Army ~ coming together in a sense of oneness.
URL:https://www.gruc.org.au/event/oasis/
LOCATION:Church of Christ\, 57 Horseshoe Bend\, Gympie\, QLD\, 4570\, Australia
END:VEVENT
BEGIN:VEVENT
DTSTART;TZID=Australia/Melbourne:20201126T090000
DTEND;TZID=Australia/Melbourne:20201126T090000
DTSTAMP:20260422T121227
CREATED:20201109T011844Z
LAST-MODIFIED:20201119T235136Z
UID:4667-1606381200-1606381200@www.gruc.org.au
SUMMARY:Friendship Circle
DESCRIPTION:Ladies … Friendship Circle is meeting again after a very length break this year. Currently we are meeting on the last Thursday morning of the month and our November gathering\, a Christmas Theme\, will be the last one for 2020.  We’ll meet in our Gympie Church instead of our meeting room ~ adhering to all covid-19 requirements. We are serving prepackaged morning tea and ask that you bring a cup or mug from home. If you have any queries\, please contact Helen on 5482 3057 or Ruth on 5481 1050.
URL:https://www.gruc.org.au/event/friendship-circle-3/
LOCATION:Gympie Uniting Church\, 15 Red Hill Road\, Gympie\, QLD\, 4570\, Australia
END:VEVENT
BEGIN:VEVENT
DTSTART;TZID=Australia/Melbourne:20201121T183000
DTEND;TZID=Australia/Melbourne:20201121T183000
DTSTAMP:20260422T121227
CREATED:20200116T045309Z
LAST-MODIFIED:20201109T012037Z
UID:3963-1605983400-1605983400@www.gruc.org.au
SUMMARY:Blokes' Shed
DESCRIPTION:For the guys … Great company\, guest speaker and a tasty BBQ meal\, adhering to Covid-19 safety requirements.  If you’re in a position to help cover costs\, $10 in the tin would be appreciated. See the flyer for details.
URL:https://www.gruc.org.au/event/blokes-shed-10/
LOCATION:Edwards Transport Depot\, 1021 Old Bruce Hwy\, Kybong\, Queensland\, 4570\, Australia
END:VEVENT
BEGIN:VEVENT
DTSTART;TZID=Australia/Melbourne:20201118T093000
DTEND;TZID=Australia/Melbourne:20201118T093000
DTSTAMP:20260422T121227
CREATED:20200210T232010Z
LAST-MODIFIED:20201113T032051Z
UID:4087-1605691800-1605691800@www.gruc.org.au
SUMMARY:Bible Society Meeting
DESCRIPTION:This is an amazing ministry and if you haven’t been involved before\, they’d love to see you there and your new ideas are most welcome.  If you have any queries\, please contact Narelle Towner on 5483 2128.
URL:https://www.gruc.org.au/event/bible-society-meeting-7/
LOCATION:CE Room
END:VEVENT
BEGIN:VEVENT
DTSTART;TZID=Australia/Melbourne:20200912T183000
DTEND;TZID=Australia/Melbourne:20200912T183000
DTSTAMP:20260422T121227
CREATED:20200116T045227Z
LAST-MODIFIED:20200831T201702Z
UID:3961-1599935400-1599935400@www.gruc.org.au
SUMMARY:Blokes' Shed
DESCRIPTION:For the guys … Great company\, guest speaker and a tasty BBQ meal.  If you’re in a position to help cover costs\, $10 in the tin would be appreciated. See the flyer for details.
URL:https://www.gruc.org.au/event/blokes-shed-9/
LOCATION:Edwards Transport Depot\, 1021 Old Bruce Hwy\, Kybong\, Queensland\, 4570\, Australia
END:VEVENT
END:VCALENDAR