BEGIN:VCALENDAR
VERSION:2.0
PRODID:-//Gympie Regional Uniting Church - ECPv5.8.1//NONSGML v1.0//EN
CALSCALE:GREGORIAN
METHOD:PUBLISH
X-WR-CALNAME:Gympie Regional Uniting Church
X-ORIGINAL-URL:https://www.gruc.org.au
X-WR-CALDESC:Events for Gympie Regional Uniting Church
BEGIN:VTIMEZONE
TZID:Australia/Melbourne
BEGIN:STANDARD
TZOFFSETFROM:+1100
TZOFFSETTO:+1000
TZNAME:AEST
DTSTART:20210403T160000
END:STANDARD
BEGIN:DAYLIGHT
TZOFFSETFROM:+1000
TZOFFSETTO:+1100
TZNAME:AEDT
DTSTART:20211002T160000
END:DAYLIGHT
BEGIN:STANDARD
TZOFFSETFROM:+1100
TZOFFSETTO:+1000
TZNAME:AEST
DTSTART:20220402T160000
END:STANDARD
BEGIN:DAYLIGHT
TZOFFSETFROM:+1000
TZOFFSETTO:+1100
TZNAME:AEDT
DTSTART:20221001T160000
END:DAYLIGHT
END:VTIMEZONE
BEGIN:VEVENT
DTSTART;TZID=Australia/Melbourne:20220304T093000
DTEND;TZID=Australia/Melbourne:20220304T110000
DTSTAMP:20260422T033246
CREATED:20220221T003327Z
LAST-MODIFIED:20220221T003327Z
UID:5707-1646386200-1646391600@www.gruc.org.au
SUMMARY:World Day of Prayer - Mary Valley
DESCRIPTION:The Mary Valley Wesleyan Methodist Church is hosting this year’s event. This year’s Theme is: I Know The Plans I Have For You and the focus will be on England\, Wales and Northern Ireland.
URL:https://www.gruc.org.au/event/world-day-of-prayer-mary-valley-2/
LOCATION:Mary Valley Wesleyan Methodist Church\, 198 Amamoor-Dagun Rd\, Amamoor\, Qld\, 4570\, Australia
END:VEVENT
BEGIN:VEVENT
DTSTART;TZID=Australia/Melbourne:20220303T093000
DTEND;TZID=Australia/Melbourne:20220303T110000
DTSTAMP:20260422T033246
CREATED:20220220T231827Z
LAST-MODIFIED:20220220T231827Z
UID:5667-1646299800-1646305200@www.gruc.org.au
SUMMARY:Coffee Shop Mornings
DESCRIPTION:We get together on Tuesday and Thursday mornings at D’Café (Southside) for some chat and just an enjoyable morning out. You’re very welcome to join us.
URL:https://www.gruc.org.au/event/coffee-shop-mornings-4/
LOCATION:d’Cafe\, Southside
END:VEVENT
BEGIN:VEVENT
DTSTART;TZID=Australia/Melbourne:20220303T080000
DTEND;TZID=Australia/Melbourne:20220303T090000
DTSTAMP:20260422T033246
CREATED:20220220T235837Z
LAST-MODIFIED:20220220T235837Z
UID:5693-1646294400-1646298000@www.gruc.org.au
SUMMARY:Come Pray Together & Share in Communion
DESCRIPTION:Praying together connects us with the purposes of Christ and He has promised that where 2 or 3 are gathered together in His name\, He will be there with us – Matthew 18:20.  \n“He (Jesus) took with him Peter and John and James and went up on the mountain to pray.” (Luke 9:28b). Praying together is following Jesus’ example – please join us on Thursday mornings at 8am. Praying silently is OK – God hears all prayers.
URL:https://www.gruc.org.au/event/come-pray-together-share-in-communion-2/
LOCATION:Gympie Uniting Church\, 15 Red Hill Road\, Gympie\, QLD\, 4570\, Australia
END:VEVENT
BEGIN:VEVENT
DTSTART;TZID=Australia/Melbourne:20220301T093000
DTEND;TZID=Australia/Melbourne:20220301T110000
DTSTAMP:20260422T033246
CREATED:20220220T231738Z
LAST-MODIFIED:20220220T231738Z
UID:5665-1646127000-1646132400@www.gruc.org.au
SUMMARY:Coffee Shop Mornings
DESCRIPTION:We get together on Tuesday and Thursday mornings at D’Café (Southside) for some chat and just an enjoyable morning out. You’re very welcome to join us.
URL:https://www.gruc.org.au/event/coffee-shop-mornings-3/
LOCATION:d’Cafe\, Southside
END:VEVENT
BEGIN:VEVENT
DTSTART;TZID=Australia/Melbourne:20220224T093000
DTEND;TZID=Australia/Melbourne:20220224T110000
DTSTAMP:20260422T033246
CREATED:20220220T231540Z
LAST-MODIFIED:20220220T231540Z
UID:5663-1645695000-1645700400@www.gruc.org.au
SUMMARY:Coffee Shop Mornings
DESCRIPTION:We get together on Tuesday and Thursday mornings at D’Café (Southside) for some chat and just an enjoyable morning out. You’re very welcome to join us.
URL:https://www.gruc.org.au/event/coffee-shop-mornings-2/
LOCATION:d’Cafe\, Southside
END:VEVENT
BEGIN:VEVENT
DTSTART;TZID=Australia/Melbourne:20220224T090000
DTEND;TZID=Australia/Melbourne:20220224T113000
DTSTAMP:20260422T033246
CREATED:20220220T223016Z
LAST-MODIFIED:20220220T223016Z
UID:5654-1645693200-1645702200@www.gruc.org.au
SUMMARY:Friendship Circle
DESCRIPTION:This is a great time of fellowship for women. This month we’ll be “Guessing That Song” from tunes played on the keyboard. You’re very welcome to join us\, please bring a cup from home and your face mask.
URL:https://www.gruc.org.au/event/friendship-circle-31/
LOCATION:CE Room
END:VEVENT
BEGIN:VEVENT
DTSTART;TZID=Australia/Melbourne:20220224T080000
DTEND;TZID=Australia/Melbourne:20220224T090000
DTSTAMP:20260422T033246
CREATED:20220220T235624Z
LAST-MODIFIED:20220220T235624Z
UID:5691-1645689600-1645693200@www.gruc.org.au
SUMMARY:Come Pray Together & Share in Communion
DESCRIPTION:Praying together connects us with the purposes of Christ and He has promised that where 2 or 3 are gathered together in His name\, He will be there with us – Matthew 18:20.  \n“He (Jesus) took with him Peter and John and James and went up on the mountain to pray.” (Luke 9:28b). Praying together is following Jesus’ example – please join us on Thursday mornings at 8am. Praying silently is OK – God hears all prayers. \n\n 
URL:https://www.gruc.org.au/event/come-pray-together-share-in-communion/
LOCATION:Gympie Uniting Church\, 15 Red Hill Road\, Gympie\, QLD\, 4570\, Australia
END:VEVENT
BEGIN:VEVENT
DTSTART;TZID=Australia/Melbourne:20220222T093000
DTEND;TZID=Australia/Melbourne:20220222T110000
DTSTAMP:20260422T033246
CREATED:20220220T225437Z
LAST-MODIFIED:20220220T225437Z
UID:5659-1645522200-1645527600@www.gruc.org.au
SUMMARY:Coffee Shop Mornings
DESCRIPTION:We get together on Tuesday and Thursday mornings at D’Café (Southside) for some chat and just an enjoyable morning out. You’re very welcome to join us.
URL:https://www.gruc.org.au/event/coffee-shop-mornings/
LOCATION:d’Cafe\, Southside
END:VEVENT
BEGIN:VEVENT
DTSTART;TZID=Australia/Melbourne:20220212T183000
DTEND;TZID=Australia/Melbourne:20220212T210000
DTSTAMP:20260422T033246
CREATED:20220130T234830Z
LAST-MODIFIED:20220130T234830Z
UID:5623-1644690600-1644699600@www.gruc.org.au
SUMMARY:Blokes' Shed
DESCRIPTION:
URL:https://www.gruc.org.au/event/blokes-shed-13/
LOCATION:Edwards Transport Depot\, 1021 Old Bruce Hwy\, Kybong\, Queensland\, 4570\, Australia
END:VEVENT
BEGIN:VEVENT
DTSTART;TZID=Australia/Melbourne:20211225T080000
DTEND;TZID=Australia/Melbourne:20211225T090000
DTSTAMP:20260422T033246
CREATED:20211115T014056Z
LAST-MODIFIED:20211115T014056Z
UID:5524-1640419200-1640422800@www.gruc.org.au
SUMMARY:Christmas Day - Imbil
DESCRIPTION:You’re welcome to join us on Christmas Day as we celebrate the true meaning of Christmas.
URL:https://www.gruc.org.au/event/christmas-day-imbil/
LOCATION:Imbil Uniting Church\, 3 Elizabeth Street\, Imbil\, Queensland\, 4570\, Australia
END:VEVENT
BEGIN:VEVENT
DTSTART;TZID=Australia/Melbourne:20211224T190000
DTEND;TZID=Australia/Melbourne:20211224T200000
DTSTAMP:20260422T033246
CREATED:20211115T013929Z
LAST-MODIFIED:20211115T013929Z
UID:5522-1640372400-1640376000@www.gruc.org.au
SUMMARY:Christmas Eve Candlelight Service
DESCRIPTION:We’re looking forward to celebrating the birth of Jesus at this special service in Gympie. Everyone will be welcome.
URL:https://www.gruc.org.au/event/christmas-eve-candlelight-service/
LOCATION:Gympie Uniting Church\, 15 Red Hill Road\, Gympie\, QLD\, 4570\, Australia
END:VEVENT
BEGIN:VEVENT
DTSTART;TZID=Australia/Melbourne:20211219T090000
DTEND;TZID=Australia/Melbourne:20211219T100000
DTSTAMP:20260422T033246
CREATED:20211116T053743Z
LAST-MODIFIED:20211116T053743Z
UID:5532-1639904400-1639908000@www.gruc.org.au
SUMMARY:Imbil Carol Service
DESCRIPTION:We’d love you to join us.
URL:https://www.gruc.org.au/event/imbil-carol-service/
LOCATION:Imbil Uniting Church\, 3 Elizabeth Street\, Imbil\, Queensland\, 4570\, Australia
END:VEVENT
BEGIN:VEVENT
DTSTART;TZID=Australia/Melbourne:20211219T090000
DTEND;TZID=Australia/Melbourne:20211219T100000
DTSTAMP:20260422T033246
CREATED:20211115T013740Z
LAST-MODIFIED:20211115T013740Z
UID:5520-1639904400-1639908000@www.gruc.org.au
SUMMARY:Gympie Carol Service
DESCRIPTION:We’re having a special Carol Service on the Sunday before Christmas.  As well as carol singing\, there’ll be a presentation for the Uniting Church’s Child Care Centre 2021 graduates and for our Kidz Church children along with a baby’s Thanksgiving – all followed by morning tea. We’d love to see you there\, particularly on this occasion as we support of our children.
URL:https://www.gruc.org.au/event/gympie-carol-service/
LOCATION:Gympie Uniting Church\, 15 Red Hill Road\, Gympie\, QLD\, 4570\, Australia
END:VEVENT
BEGIN:VEVENT
DTSTART;TZID=Australia/Melbourne:20211125T090000
DTEND;TZID=Australia/Melbourne:20211125T113000
DTSTAMP:20260422T033246
CREATED:20210316T063750Z
LAST-MODIFIED:20210316T063835Z
UID:4926-1637830800-1637839800@www.gruc.org.au
SUMMARY:Friendship Circle
DESCRIPTION:Ladies of all ages are welcome. Friendship Circle meets on the last Thursday morning of each month. Early Christmas Sharing this month. Please bring along a coffee mug from home.
URL:https://www.gruc.org.au/event/friendship-circle-30/
LOCATION:CE Room
END:VEVENT
BEGIN:VEVENT
DTSTART;TZID=Australia/Melbourne:20211120T183000
DTEND;TZID=Australia/Melbourne:20211120T203000
DTSTAMP:20260422T033246
CREATED:20211025T024018Z
LAST-MODIFIED:20211025T024018Z
UID:5455-1637433000-1637440200@www.gruc.org.au
SUMMARY:Blokes' Shed
DESCRIPTION:This is a great time to get together with guys\, sharing life and encouraging one another.  $10 in the tin (optional) for a top BBQ feast.  RSVP to John 0419 823 987 or Don 0427 759 734 for catering purposes.
URL:https://www.gruc.org.au/event/blokes-shed-12/
LOCATION:Edwards Transport Depot\, 1021 Old Bruce Hwy\, Kybong\, Queensland\, 4570\, Australia
END:VEVENT
BEGIN:VEVENT
DTSTART;TZID=Australia/Melbourne:20211107T133000
DTEND;TZID=Australia/Melbourne:20211107T150000
DTSTAMP:20260422T033246
CREATED:20210822T235213Z
LAST-MODIFIED:20210823T002636Z
UID:5359-1636291800-1636297200@www.gruc.org.au
SUMMARY:AGM
DESCRIPTION:Our Annual General Meeting is scheduled for Sunday 7 November in our Gympie Church. It will be great to see you there.
URL:https://www.gruc.org.au/event/agm-2/
LOCATION:Gympie Uniting Church\, 15 Red Hill Road\, Gympie\, QLD\, 4570\, Australia
END:VEVENT
BEGIN:VEVENT
DTSTART;TZID=Australia/Melbourne:20211028T090000
DTEND;TZID=Australia/Melbourne:20211028T113000
DTSTAMP:20260422T033246
CREATED:20210316T063715Z
LAST-MODIFIED:20210316T063715Z
UID:4924-1635411600-1635420600@www.gruc.org.au
SUMMARY:Friendship Circle
DESCRIPTION:Ladies of all ages are welcome. Friendship Circle meets on the last Thursday morning of each month. Out topic this month is ‘Mission Aviation Fellowship’. Please bring along a coffee mug from home.
URL:https://www.gruc.org.au/event/friendship-circle-29/
LOCATION:CE Room
END:VEVENT
BEGIN:VEVENT
DTSTART;TZID=Australia/Melbourne:20210930T090000
DTEND;TZID=Australia/Melbourne:20210930T113000
DTSTAMP:20260422T033246
CREATED:20210316T063615Z
LAST-MODIFIED:20210316T063615Z
UID:4922-1632992400-1633001400@www.gruc.org.au
SUMMARY:Friendship Circle
DESCRIPTION:Ladies of all ages are welcome. Friendship Circle meets on the last Thursday morning of each month. This month we’re planning a picnic – details to come. Please bring along a coffee mug from home.
URL:https://www.gruc.org.au/event/friendship-circle-28/
LOCATION:CE Room
END:VEVENT
BEGIN:VEVENT
DTSTART;TZID=Australia/Melbourne:20210926T133000
DTEND;TZID=Australia/Melbourne:20210926T143000
DTSTAMP:20260422T033246
CREATED:20210822T234301Z
LAST-MODIFIED:20210822T234350Z
UID:5356-1632663000-1632666600@www.gruc.org.au
SUMMARY:Congregational Meeting
DESCRIPTION:Sunday 26 September 1.30pm. We encourage you to come.
URL:https://www.gruc.org.au/event/congregational-meeting-3/
LOCATION:Gympie Uniting Church\, 15 Red Hill Road\, Gympie\, QLD\, 4570\, Australia
END:VEVENT
BEGIN:VEVENT
DTSTART;TZID=Australia/Melbourne:20210911T183000
DTEND;TZID=Australia/Melbourne:20210911T203000
DTSTAMP:20260422T033246
CREATED:20210830T041643Z
LAST-MODIFIED:20210830T041950Z
UID:5372-1631385000-1631392200@www.gruc.org.au
SUMMARY:Blokes' Shed
DESCRIPTION:All blokes welcome. Guest speaker is John Collins.
URL:https://www.gruc.org.au/event/blokes-shed-11/
LOCATION:Edwards Transport Depot\, 1021 Old Bruce Hwy\, Kybong\, Queensland\, 4570\, Australia
END:VEVENT
BEGIN:VEVENT
DTSTART;TZID=Australia/Melbourne:20210905T083000
DTEND;TZID=Australia/Melbourne:20210905T103000
DTSTAMP:20260422T033246
CREATED:20210822T233928Z
LAST-MODIFIED:20210822T234053Z
UID:5349-1630830600-1630837800@www.gruc.org.au
SUMMARY:Fathers' Day
DESCRIPTION:  \nWe’re having a very special Fathers’ Day in Gympie this year! \nAll together for Breakfast at 8.30am and Worship at 9.30am. \n 
URL:https://www.gruc.org.au/event/fathers-day/
LOCATION:Gympie Uniting Church\, 15 Red Hill Road\, Gympie\, QLD\, 4570\, Australia
END:VEVENT
BEGIN:VEVENT
DTSTART;TZID=Australia/Melbourne:20210826T090000
DTEND;TZID=Australia/Melbourne:20210826T113000
DTSTAMP:20260422T033246
CREATED:20210316T063456Z
LAST-MODIFIED:20210316T063513Z
UID:4919-1629968400-1629977400@www.gruc.org.au
SUMMARY:Friendship Circle
DESCRIPTION:Ladies of all ages are welcome. Friendship Circle meets on the last Thursday morning of each month. This month’s activity is ‘Show and Share’. Please bring along a coffee mug from home.
URL:https://www.gruc.org.au/event/4919/
LOCATION:CE Room
END:VEVENT
BEGIN:VEVENT
DTSTART;TZID=Australia/Melbourne:20210814T093000
DTEND;TZID=Australia/Melbourne:20210814T153000
DTSTAMP:20260422T033246
CREATED:20210628T021001Z
LAST-MODIFIED:20210628T021930Z
UID:5137-1628933400-1628955000@www.gruc.org.au
SUMMARY:SHINE Women's Conference 2021
DESCRIPTION:‘A Day Designed Just For You’ . . . this year’s theme is ‘Created to Create‘. Worship ♦ Fellowship ♦ Keynote speakers → Jess Le Clerc (Prize-winning Artist); Bronwyn Healy (Hope Foundation Brisbane\, The Lovewell Project and more);  Ann Wojczuk (Lifehouse Gympie ~ Pregnancy Help).  Tea & Coffee breaks\, Healthy Lunch choice and a Market Place supporting the work of women from local and overseas missions. Cost $40 (Early Bird $35 before 16 July). Registrations close 6 August. Book online at www.trybooking.com/BQCTD or email andio@spiderweb.com.au. Pamphlets are available from our church foyers.
URL:https://www.gruc.org.au/event/shine-womens-conference-2021/
LOCATION:Stan Baker Hall (CCC)\, 1 College Rd\, Southside\, Qld\, 4570\, Australia
END:VEVENT
BEGIN:VEVENT
DTSTART;TZID=Australia/Melbourne:20210729T090000
DTEND;TZID=Australia/Melbourne:20210729T113000
DTSTAMP:20260422T033246
CREATED:20210316T063144Z
LAST-MODIFIED:20210726T015055Z
UID:4911-1627549200-1627558200@www.gruc.org.au
SUMMARY:Friendship Circle
DESCRIPTION:Ladies of all ages are welcome. Friendship Circle meets on the last Thursday morning of each month. This month we’ll be catching up with what Mission Aviation Fellowship is doing. Please bring along a coffee mug from home.
URL:https://www.gruc.org.au/event/friendship-circle-27/
LOCATION:CE Room
END:VEVENT
BEGIN:VEVENT
DTSTART;TZID=Australia/Melbourne:20210723T113000
DTEND;TZID=Australia/Melbourne:20210723T140000
DTSTAMP:20260422T033246
CREATED:20210607T010239Z
LAST-MODIFIED:20210628T014427Z
UID:5085-1627039800-1627048800@www.gruc.org.au
SUMMARY:Bible Society Luncheon
DESCRIPTION:A delicious Soup & Dessert Luncheon ~ Guest Speaker ~ Great Company ~ a Bring & Buy Stall.  For $10 entry\, come along for a great time and an even greater cause.  Please refer to the flyer for RSVP details.
URL:https://www.gruc.org.au/event/bible-society-luncheon-3/
LOCATION:Church of Christ\, 57 Horseshoe Bend\, Gympie\, QLD\, 4570\, Australia
END:VEVENT
BEGIN:VEVENT
DTSTART;TZID=Australia/Melbourne:20210624T090000
DTEND;TZID=Australia/Melbourne:20210624T113000
DTSTAMP:20260422T033246
CREATED:20210316T062926Z
LAST-MODIFIED:20210316T063221Z
UID:4909-1624525200-1624534200@www.gruc.org.au
SUMMARY:Friendship Circle
DESCRIPTION:Ladies of all ages are welcome. Friendship Circle meets on the last Thursday morning of each month. This month\, Wayne Sachs of  the Qld Ambulance Service will be our guest speaker. Please bring along a coffee mug from home.
URL:https://www.gruc.org.au/event/friendship-circle-26/
LOCATION:CE Room
END:VEVENT
BEGIN:VEVENT
DTSTART;TZID=Australia/Melbourne:20210619T100000
DTEND;TZID=Australia/Melbourne:20210619T113000
DTSTAMP:20260422T033246
CREATED:20210607T005433Z
LAST-MODIFIED:20210607T005433Z
UID:5082-1624096800-1624102200@www.gruc.org.au
SUMMARY:Service of Induction
DESCRIPTION:We welcome Rev Orrell and Christine Battersby to our church family. If you intend to join us for Orrell’s SErvice of Induction\, please RSVP to our office at office@gruc.org.au or telephone (07) 5482 2985.
URL:https://www.gruc.org.au/event/service-of-induction/
LOCATION:Gympie Uniting Church\, 15 Red Hill Road\, Gympie\, QLD\, 4570\, Australia
END:VEVENT
BEGIN:VEVENT
DTSTART;TZID=Australia/Melbourne:20210527T090000
DTEND;TZID=Australia/Melbourne:20210527T113000
DTSTAMP:20260422T033246
CREATED:20210316T062734Z
LAST-MODIFIED:20210316T063237Z
UID:4907-1622106000-1622115000@www.gruc.org.au
SUMMARY:Friendship Circle
DESCRIPTION:Ladies of all ages are welcome. Friendship Circle meets on the last Thursday morning of each month. This month we’ll be learning about Mercy Ships. Please bring along a coffee mug from home.
URL:https://www.gruc.org.au/event/friendship-circle-25/
LOCATION:CE Room
END:VEVENT
BEGIN:VEVENT
DTSTART;TZID=Australia/Melbourne:20210429T090000
DTEND;TZID=Australia/Melbourne:20210429T113000
DTSTAMP:20260422T033246
CREATED:20210316T062616Z
LAST-MODIFIED:20210316T063254Z
UID:4905-1619686800-1619695800@www.gruc.org.au
SUMMARY:Friendship Circle
DESCRIPTION:Ladies of all ages are welcome. Friendship Circle meets on the last Thursday morning of each month. This month’s we’re having a Team Quiz. Please bring along a coffee mug from home.
URL:https://www.gruc.org.au/event/friendship-circle-24/
LOCATION:CE Room
END:VEVENT
BEGIN:VEVENT
DTSTART;TZID=Australia/Melbourne:20210410T090000
DTEND;TZID=Australia/Melbourne:20210410T140000
DTSTAMP:20260422T033246
CREATED:20210316T064951Z
LAST-MODIFIED:20210328T233320Z
UID:4929-1618045200-1618063200@www.gruc.org.au
SUMMARY:Chaplaincy River Walk
DESCRIPTION:Along the banks of the Mary River. Raising funds for School Chaplaincy in the Gympie Region. Registration from 9am at Nelson Reserve\, walk commencing at 10am. Cost $10 per person or $30 per family which includes registration\, a bottle of water\, wristband and admission to the concert with Dan Warlow as special guest. To register go to …   https://suqld.eventsair.com/gympie-chaplaincy-river-walk-2021/registration/Site/Register.  for more information contact Chappy Ronnie on 0413 135 867. (If you’re a runner\, you can arrive at 6:30am for a 7am start).
URL:https://www.gruc.org.au/event/chaplaincy-river-walk/
LOCATION:Nelson Reserve\, Gympie\, Cnr Monnkland St & Jaycee Way\, Gympie\, Queensland\, 4570\, Australia
END:VEVENT
END:VCALENDAR