BEGIN:VCALENDAR
VERSION:2.0
PRODID:-//Gympie Regional Uniting Church - ECPv5.8.1//NONSGML v1.0//EN
CALSCALE:GREGORIAN
METHOD:PUBLISH
X-WR-CALNAME:Gympie Regional Uniting Church
X-ORIGINAL-URL:https://www.gruc.org.au
X-WR-CALDESC:Events for Gympie Regional Uniting Church
BEGIN:VTIMEZONE
TZID:Australia/Melbourne
BEGIN:STANDARD
TZOFFSETFROM:+1100
TZOFFSETTO:+1000
TZNAME:AEST
DTSTART:20240406T160000
END:STANDARD
BEGIN:DAYLIGHT
TZOFFSETFROM:+1000
TZOFFSETTO:+1100
TZNAME:AEDT
DTSTART:20241005T160000
END:DAYLIGHT
END:VTIMEZONE
BEGIN:VEVENT
DTSTART;TZID=Australia/Melbourne:20241126T080000
DTEND;TZID=Australia/Melbourne:20241126T090000
DTSTAMP:20260420T082128
CREATED:20241027T225622Z
LAST-MODIFIED:20241027T225622Z
UID:7702-1732608000-1732611600@www.gruc.org.au
SUMMARY:Tuesday Prayer
DESCRIPTION:Our Prayer Warriors meet weekly (Tuesday mornings) to pray and share in Communion … we’d love to see you there.
URL:https://www.gruc.org.au/event/tuesday-prayer-35/
LOCATION:CE Room
END:VEVENT
BEGIN:VEVENT
DTSTART;TZID=Australia/Melbourne:20241124T104500
DTEND;TZID=Australia/Melbourne:20241124T111500
DTSTAMP:20260420T082128
CREATED:20241014T002726Z
LAST-MODIFIED:20241014T002726Z
UID:7667-1732445100-1732446900@www.gruc.org.au
SUMMARY:AGM 2024
DESCRIPTION:Our Annual General Meeting will be held after our Worship Services starting at 10:45am – allowing time for a quick morning tea and for our Imbil Church Family to travel here.
URL:https://www.gruc.org.au/event/agm-2024/
LOCATION:Gympie Uniting Church\, 15 Red Hill Road\, Gympie\, QLD\, 4570\, Australia
END:VEVENT
BEGIN:VEVENT
DTSTART;TZID=Australia/Melbourne:20241119T180000
DTEND;TZID=Australia/Melbourne:20241119T183000
DTSTAMP:20260420T082128
CREATED:20241118T012612Z
LAST-MODIFIED:20241118T012612Z
UID:7731-1732039200-1732041000@www.gruc.org.au
SUMMARY:Combined Churches Prayer Meeting
DESCRIPTION:Everyone is welcome to come together to pray at the November gathering of local churches. Prayer topics will be: \n\nPraise and thankfulness for recent blessings\nSalvation in Gympie and surrounding areas\nMiddle East peace
URL:https://www.gruc.org.au/event/combined-churches-prayer-meeting-5/
LOCATION:Gympie Community Church\, cnr Pine and Myall Streets\, Gympie\, QLD\, 4570\, Australia
END:VEVENT
BEGIN:VEVENT
DTSTART;TZID=Australia/Melbourne:20241119T080000
DTEND;TZID=Australia/Melbourne:20241119T090000
DTSTAMP:20260420T082128
CREATED:20241027T225531Z
LAST-MODIFIED:20241027T225531Z
UID:7699-1732003200-1732006800@www.gruc.org.au
SUMMARY:Tuesday Prayer
DESCRIPTION:Our Prayer Warriors meet weekly (Tuesday mornings) to pray and share in Communion … we’d love to see you there.
URL:https://www.gruc.org.au/event/tuesday-prayer-34/
LOCATION:CE Room
END:VEVENT
BEGIN:VEVENT
DTSTART;TZID=Australia/Melbourne:20241112T080000
DTEND;TZID=Australia/Melbourne:20241112T090000
DTSTAMP:20260420T082128
CREATED:20241027T225401Z
LAST-MODIFIED:20241027T225405Z
UID:7696-1731398400-1731402000@www.gruc.org.au
SUMMARY:Tuesday Prayer
DESCRIPTION:Our Prayer Warriors meet weekly (Tuesday mornings) to pray and share in Communion … we’d love to see you there.
URL:https://www.gruc.org.au/event/tuesday-prayer-33/
LOCATION:CE Room
END:VEVENT
BEGIN:VEVENT
DTSTART;TZID=Australia/Melbourne:20241105T080000
DTEND;TZID=Australia/Melbourne:20241105T090000
DTSTAMP:20260420T082128
CREATED:20241027T225212Z
LAST-MODIFIED:20241027T225326Z
UID:7693-1730793600-1730797200@www.gruc.org.au
SUMMARY:Tuesday Prayer
DESCRIPTION:Our Prayer Warriors meet weekly (Tuesday mornings) to pray and share in Communion … we’d love to see you there.
URL:https://www.gruc.org.au/event/tuesday-prayer-32/
LOCATION:CE Room
END:VEVENT
BEGIN:VEVENT
DTSTART;TZID=Australia/Melbourne:20241029T080000
DTEND;TZID=Australia/Melbourne:20241029T090000
DTSTAMP:20260420T082128
CREATED:20240929T233630Z
LAST-MODIFIED:20240929T233706Z
UID:7626-1730188800-1730192400@www.gruc.org.au
SUMMARY:Tuesday Prayer
DESCRIPTION:Our Prayer Warriors meet weekly (Tuesday mornings) to pray and share in Communion … we’d love to see you there.
URL:https://www.gruc.org.au/event/tuesday-prayer-31/
LOCATION:CE Room
END:VEVENT
BEGIN:VEVENT
DTSTART;TZID=Australia/Melbourne:20241022T180000
DTEND;TZID=Australia/Melbourne:20241022T183000
DTSTAMP:20260420T082128
CREATED:20240929T235606Z
LAST-MODIFIED:20240929T235606Z
UID:7632-1729620000-1729621800@www.gruc.org.au
SUMMARY:Combined Churches Prayer Meeting
DESCRIPTION:This is a great opportunity to come together and meet with our brothers and sisters from other churches within our locality. Meeting once a month at different church locations – praying for half an hour followed by some conversation time. This month\, we are hosting this time together in our Gympie Church. We hope you can come.
URL:https://www.gruc.org.au/event/combined-churches-prayer-meeting-4/
LOCATION:Gympie Uniting Church\, 15 Red Hill Road\, Gympie\, QLD\, 4570\, Australia
END:VEVENT
BEGIN:VEVENT
DTSTART;TZID=Australia/Melbourne:20241022T080000
DTEND;TZID=Australia/Melbourne:20241022T090000
DTSTAMP:20260420T082128
CREATED:20240929T233509Z
LAST-MODIFIED:20240929T233541Z
UID:7623-1729584000-1729587600@www.gruc.org.au
SUMMARY:Tuesday Prayer
DESCRIPTION:Our Prayer Warriors meet weekly (Tuesday mornings) to pray and share in Communion … we’d love to see you there.
URL:https://www.gruc.org.au/event/tuesday-prayer-30/
LOCATION:CE Room
END:VEVENT
BEGIN:VEVENT
DTSTART;TZID=Australia/Melbourne:20241015T080000
DTEND;TZID=Australia/Melbourne:20241015T090000
DTSTAMP:20260420T082128
CREATED:20240929T233136Z
LAST-MODIFIED:20240929T233234Z
UID:7617-1728979200-1728982800@www.gruc.org.au
SUMMARY:Tuesday Prayer
DESCRIPTION:Our Prayer Warriors meet weekly (Tuesday mornings) to pray and share in Communion … we’d love to see you there.
URL:https://www.gruc.org.au/event/tuesday-prayer-28/
LOCATION:CE Room
END:VEVENT
BEGIN:VEVENT
DTSTART;TZID=Australia/Melbourne:20241013T143000
DTEND;TZID=Australia/Melbourne:20241013T160000
DTSTAMP:20260420T082128
CREATED:20240926T052512Z
LAST-MODIFIED:20240926T053402Z
UID:7607-1728829800-1728835200@www.gruc.org.au
SUMMARY:Hymnfest
DESCRIPTION:We’ll be singing your favourite hymns and enjoying time together over a cuppa. It would be great if you could bring some afternoon tea to share. Everyone is welcome.
URL:https://www.gruc.org.au/event/hymnfest-3/
LOCATION:Gympie Uniting Church\, 15 Red Hill Road\, Gympie\, QLD\, 4570\, Australia
END:VEVENT
BEGIN:VEVENT
DTSTART;TZID=Australia/Melbourne:20241013T093000
DTEND;TZID=Australia/Melbourne:20241013T110000
DTSTAMP:20260420T082128
CREATED:20240929T234018Z
LAST-MODIFIED:20240929T234033Z
UID:7629-1728811800-1728817200@www.gruc.org.au
SUMMARY:Joy Circle
DESCRIPTION:We look forward to another great time together in October. Each month we do something different and interesting and have some morning tea together. Everyone is welcome and it’s free!
URL:https://www.gruc.org.au/event/joy-circle-11/
LOCATION:CE Room
END:VEVENT
BEGIN:VEVENT
DTSTART;TZID=Australia/Melbourne:20241008T080000
DTEND;TZID=Australia/Melbourne:20241008T090000
DTSTAMP:20260420T082128
CREATED:20240929T233350Z
LAST-MODIFIED:20240929T233439Z
UID:7620-1728374400-1728378000@www.gruc.org.au
SUMMARY:Tuesday Prayer
DESCRIPTION:Our Prayer Warriors meet weekly (Tuesday mornings) to pray and share in Communion … we’d love to see you there.
URL:https://www.gruc.org.au/event/tuesday-prayer-29/
LOCATION:CE Room
END:VEVENT
BEGIN:VEVENT
DTSTART;TZID=Australia/Melbourne:20241001T080000
DTEND;TZID=Australia/Melbourne:20241001T090000
DTSTAMP:20260420T082128
CREATED:20240823T005918Z
LAST-MODIFIED:20240823T010016Z
UID:7547-1727769600-1727773200@www.gruc.org.au
SUMMARY:Tuesday Prayer
DESCRIPTION:Our Prayer Warriors meet weekly (Tuesday mornings) to pray and share in Communion … we’d love to see you there.
URL:https://www.gruc.org.au/event/tuesday-prayer-24/
LOCATION:CE Room
END:VEVENT
BEGIN:VEVENT
DTSTART;TZID=Australia/Melbourne:20240924T080000
DTEND;TZID=Australia/Melbourne:20240924T090000
DTSTAMP:20260420T082128
CREATED:20240823T010341Z
LAST-MODIFIED:20240823T010440Z
UID:7553-1727164800-1727168400@www.gruc.org.au
SUMMARY:Tuesday Prayer
DESCRIPTION:Our Prayer Warriors meet weekly (Tuesday mornings) to pray and share in Communion … we’d love to see you there.
URL:https://www.gruc.org.au/event/tuesday-prayer-26/
LOCATION:CE Room
END:VEVENT
BEGIN:VEVENT
DTSTART;TZID=Australia/Melbourne:20240917T080000
DTEND;TZID=Australia/Melbourne:20240917T090000
DTSTAMP:20260420T082128
CREATED:20240823T010149Z
LAST-MODIFIED:20240823T010306Z
UID:7550-1726560000-1726563600@www.gruc.org.au
SUMMARY:Tuesday Prayer
DESCRIPTION:Our Prayer Warriors meet weekly (Tuesday mornings) to pray and share in Communion … we’d love to see you there.
URL:https://www.gruc.org.au/event/tuesday-prayer-25/
LOCATION:CE Room
END:VEVENT
BEGIN:VEVENT
DTSTART;TZID=Australia/Melbourne:20240911T140000
DTEND;TZID=Australia/Melbourne:20240911T160000
DTSTAMP:20260420T082128
CREATED:20240823T011405Z
LAST-MODIFIED:20240823T011405Z
UID:7562-1726063200-1726070400@www.gruc.org.au
SUMMARY:Shoebox Packing - Can You Help?
DESCRIPTION:We’ve finished collecting donations for the Samaritan’s Purse Shoeboxes for 2024. We’ll be packing them our our Imbil Church Hall – your help would be appreciated. We’ll start at 2pm and have afternoon tea together when it’s all done.
URL:https://www.gruc.org.au/event/shoebox-packing-can-you-help/
LOCATION:Imbil Uniting Church Hall\, 3 Elizabeth Street\, Imbil\, Queensland\, 4570\, Australia
END:VEVENT
BEGIN:VEVENT
DTSTART;TZID=Australia/Melbourne:20240910T080000
DTEND;TZID=Australia/Melbourne:20240910T090000
DTSTAMP:20260420T082129
CREATED:20240823T005803Z
LAST-MODIFIED:20240823T005836Z
UID:7544-1725955200-1725958800@www.gruc.org.au
SUMMARY:Tuesday Prayer
DESCRIPTION:Our Prayer Warriors meet weekly (Tuesday mornings) to pray and share in Communion … we’d love to see you there.
URL:https://www.gruc.org.au/event/tuesday-prayer-23/
LOCATION:CE Room
END:VEVENT
BEGIN:VEVENT
DTSTART;TZID=Australia/Melbourne:20240904T100000
DTEND;TZID=Australia/Melbourne:20240904T113000
DTSTAMP:20260420T082129
CREATED:20240823T011043Z
LAST-MODIFIED:20240823T011043Z
UID:7559-1725444000-1725449400@www.gruc.org.au
SUMMARY:Celebrating Early Childhood Educators
DESCRIPTION:Come\, meet and celebrate our Educators at the Uniting Church Gympie Early Learning Centre\, 17 Cartwright Road.
URL:https://www.gruc.org.au/event/celebrating-early-childhood-educators/
END:VEVENT
BEGIN:VEVENT
DTSTART;TZID=Australia/Melbourne:20240903T080000
DTEND;TZID=Australia/Melbourne:20240903T090000
DTSTAMP:20260420T082129
CREATED:20240823T010516Z
LAST-MODIFIED:20240823T010516Z
UID:7556-1725350400-1725354000@www.gruc.org.au
SUMMARY:Tuesday Prayer
DESCRIPTION:Our Prayer Warriors meet weekly (Tuesday mornings) to pray and share in Communion … we’d love to see you there.
URL:https://www.gruc.org.au/event/tuesday-prayer-27/
LOCATION:CE Room
END:VEVENT
BEGIN:VEVENT
DTSTART;TZID=Australia/Melbourne:20240831T173000
DTEND;TZID=Australia/Melbourne:20240831T213000
DTSTAMP:20260420T082129
CREATED:20240728T235628Z
LAST-MODIFIED:20240728T235628Z
UID:7499-1725125400-1725139800@www.gruc.org.au
SUMMARY:Hope Reins Bush Dance
DESCRIPTION:Are you ready for a nostalgic evening of toe-tappin’ and boot-scootin’?  This will be a great family-friendly\, outdoor event where you can have a lot of fun while helping raise funds for Hope Reins. \nTickets can only be purchased in advance at  www.trybooking.com/1194736 .  $30 Adults\, $25 Adult concession\, $70 family pass (2 adults + 2 children under 17 yrs + $10 for each additional child). Tickets include 1 burger and a drink (sausage available).  Extra drinks and burgers can be purchased on the night. \n 
URL:https://www.gruc.org.au/event/hope-reins-bush-dance/
LOCATION:Hope Reins\, 727 Eel Creek Road\, Langshaw\, Qld\, 4570\, Australia
END:VEVENT
BEGIN:VEVENT
DTSTART;TZID=Australia/Melbourne:20240827T080000
DTEND;TZID=Australia/Melbourne:20240827T090000
DTSTAMP:20260420T082129
CREATED:20240728T233536Z
LAST-MODIFIED:20240728T233602Z
UID:7485-1724745600-1724749200@www.gruc.org.au
SUMMARY:Tuesday Prayer
DESCRIPTION:Our Prayer Warriors meet weekly (Tuesday mornings) to pray and share in Communion … we’d love to see you there.
URL:https://www.gruc.org.au/event/tuesday-prayer-20/
LOCATION:CE Room
END:VEVENT
BEGIN:VEVENT
DTSTART;TZID=Australia/Melbourne:20240821T093000
DTEND;TZID=Australia/Melbourne:20240821T113000
DTSTAMP:20260420T082129
CREATED:20240812T013220Z
LAST-MODIFIED:20240812T013242Z
UID:7522-1724232600-1724239800@www.gruc.org.au
SUMMARY:Friends of The Bible Society Morning Tea
DESCRIPTION:Meeting at ‘The Coffee Club’ (Gympie Central Shopping Centre).
URL:https://www.gruc.org.au/event/friends-of-the-bible-society-morning-tea/
END:VEVENT
BEGIN:VEVENT
DTSTART;TZID=Australia/Melbourne:20240820T180000
DTEND;TZID=Australia/Melbourne:20240820T183000
DTSTAMP:20260420T082129
CREATED:20240728T234425Z
LAST-MODIFIED:20240812T012405Z
UID:7488-1724176800-1724178600@www.gruc.org.au
SUMMARY:Combined Churches Prayer Meeting
DESCRIPTION:This is a great opportunity to come together and meet with our brothers and sisters from other churches within our locality. Meeting once a month at different church locations – praying for half an hour followed by some conversation time. This month\, Armin Tadj is kindly hosting this time together at 34 O’Connell Street\, Gympie.
URL:https://www.gruc.org.au/event/combined-churches-prayer-meeting-3/
END:VEVENT
BEGIN:VEVENT
DTSTART;TZID=Australia/Melbourne:20240820T080000
DTEND;TZID=Australia/Melbourne:20240820T090000
DTSTAMP:20260420T082129
CREATED:20240728T234527Z
LAST-MODIFIED:20240728T234601Z
UID:7490-1724140800-1724144400@www.gruc.org.au
SUMMARY:Tuesday Prayer
DESCRIPTION:Our Prayer Warriors meet weekly (Tuesday mornings) to pray and share in Communion … we’d love to see you there.
URL:https://www.gruc.org.au/event/tuesday-prayer-21/
LOCATION:CE Room
END:VEVENT
BEGIN:VEVENT
DTSTART;TZID=Australia/Melbourne:20240818T110000
DTEND;TZID=Australia/Melbourne:20240818T133000
DTSTAMP:20260420T082129
CREATED:20240728T234925Z
LAST-MODIFIED:20240728T235401Z
UID:7495-1723978800-1723987800@www.gruc.org.au
SUMMARY:BBQ & Games
DESCRIPTION:Sunday 18th August. This is a terrific opportunity to get together for some fun and laughs. We’ll have a light morning tea after our 9am worship service and then roll into a BBQ lunch and games. Hope you can come. \n 
URL:https://www.gruc.org.au/event/bbq-games-4/
LOCATION:Gympie Uniting Church\, 15 Red Hill Road\, Gympie\, QLD\, 4570\, Australia
END:VEVENT
BEGIN:VEVENT
DTSTART;TZID=Australia/Melbourne:20240815T093000
DTEND;TZID=Australia/Melbourne:20240815T113000
DTSTAMP:20260420T082129
CREATED:20240812T013459Z
LAST-MODIFIED:20240812T013514Z
UID:7525-1723714200-1723721400@www.gruc.org.au
SUMMARY:Joy Circle
DESCRIPTION:Everyone is welcome to come along and join us. We usually meet on the 3rd Thursday of the month – a different experience each time.
URL:https://www.gruc.org.au/event/joy-circle-10/
LOCATION:CE Room
END:VEVENT
BEGIN:VEVENT
DTSTART;TZID=Australia/Melbourne:20240813T080000
DTEND;TZID=Australia/Melbourne:20240813T090000
DTSTAMP:20260420T082129
CREATED:20240728T233443Z
LAST-MODIFIED:20240728T233511Z
UID:7482-1723536000-1723539600@www.gruc.org.au
SUMMARY:Tuesday Prayer
DESCRIPTION:Our Prayer Warriors meet weekly (Tuesday mornings) to pray and share in Communion … we’d love to see you there.
URL:https://www.gruc.org.au/event/tuesday-prayer-19/
LOCATION:CE Room
END:VEVENT
BEGIN:VEVENT
DTSTART;TZID=Australia/Melbourne:20240806T080000
DTEND;TZID=Australia/Melbourne:20240806T090000
DTSTAMP:20260420T082129
CREATED:20240728T234724Z
LAST-MODIFIED:20240728T234727Z
UID:7493-1722931200-1722934800@www.gruc.org.au
SUMMARY:Tuesday Prayer
DESCRIPTION:Our Prayer Warriors meet weekly (Tuesday mornings) to pray and share in Communion … we’d love to see you there.
URL:https://www.gruc.org.au/event/tuesday-prayer-22/
LOCATION:CE Room
END:VEVENT
BEGIN:VEVENT
DTSTART;TZID=Australia/Melbourne:20240803T090000
DTEND;TZID=Australia/Melbourne:20240803T150000
DTSTAMP:20260420T082129
CREATED:20240526T234326Z
LAST-MODIFIED:20240527T001426Z
UID:7368-1722675600-1722697200@www.gruc.org.au
SUMMARY:SHINE Women's Conference
DESCRIPTION:This year’s theme is ‘FOREVER FREE’. A celebration of the strength\, courage and resilience of women from different walks of life. Be inspired by the faith of other women and draw close to Christ in worship and prayer. Guest speakers include Donna Savill\, Bernii Godwin and Jenny Savill. \n$40 includes Morning Tea and Lunch (early bird tickets for $35 apply until 27th July). There’ll also be a Market Place with amazing items to buy. Register online at www.shinewomen.com.au \nQueries can be emailed to The SHINE Team (Gympie Church of Christ) at  admin@shinewomen.com.au
URL:https://www.gruc.org.au/event/shine-womens-conference/
LOCATION:Stan Baker Hall (CCC)\, 1 College Rd\, Southside\, Qld\, 4570\, Australia
END:VEVENT
END:VCALENDAR