BEGIN:VCALENDAR
VERSION:2.0
PRODID:-//Gympie Regional Uniting Church - ECPv5.8.1//NONSGML v1.0//EN
CALSCALE:GREGORIAN
METHOD:PUBLISH
X-WR-CALNAME:Gympie Regional Uniting Church
X-ORIGINAL-URL:https://www.gruc.org.au
X-WR-CALDESC:Events for Gympie Regional Uniting Church
BEGIN:VTIMEZONE
TZID:Australia/Melbourne
BEGIN:STANDARD
TZOFFSETFROM:+1100
TZOFFSETTO:+1000
TZNAME:AEST
DTSTART:20240406T160000
END:STANDARD
BEGIN:DAYLIGHT
TZOFFSETFROM:+1000
TZOFFSETTO:+1100
TZNAME:AEDT
DTSTART:20241005T160000
END:DAYLIGHT
END:VTIMEZONE
BEGIN:VEVENT
DTSTART;TZID=Australia/Melbourne:20240820T080000
DTEND;TZID=Australia/Melbourne:20240820T090000
DTSTAMP:20260420T125528
CREATED:20240728T234527Z
LAST-MODIFIED:20240728T234601Z
UID:7490-1724140800-1724144400@www.gruc.org.au
SUMMARY:Tuesday Prayer
DESCRIPTION:Our Prayer Warriors meet weekly (Tuesday mornings) to pray and share in Communion … we’d love to see you there.
URL:https://www.gruc.org.au/event/tuesday-prayer-21/
LOCATION:CE Room
END:VEVENT
BEGIN:VEVENT
DTSTART;TZID=Australia/Melbourne:20240818T110000
DTEND;TZID=Australia/Melbourne:20240818T133000
DTSTAMP:20260420T125528
CREATED:20240728T234925Z
LAST-MODIFIED:20240728T235401Z
UID:7495-1723978800-1723987800@www.gruc.org.au
SUMMARY:BBQ & Games
DESCRIPTION:Sunday 18th August. This is a terrific opportunity to get together for some fun and laughs. We’ll have a light morning tea after our 9am worship service and then roll into a BBQ lunch and games. Hope you can come. \n 
URL:https://www.gruc.org.au/event/bbq-games-4/
LOCATION:Gympie Uniting Church\, 15 Red Hill Road\, Gympie\, QLD\, 4570\, Australia
END:VEVENT
BEGIN:VEVENT
DTSTART;TZID=Australia/Melbourne:20240815T093000
DTEND;TZID=Australia/Melbourne:20240815T113000
DTSTAMP:20260420T125528
CREATED:20240812T013459Z
LAST-MODIFIED:20240812T013514Z
UID:7525-1723714200-1723721400@www.gruc.org.au
SUMMARY:Joy Circle
DESCRIPTION:Everyone is welcome to come along and join us. We usually meet on the 3rd Thursday of the month – a different experience each time.
URL:https://www.gruc.org.au/event/joy-circle-10/
LOCATION:CE Room
END:VEVENT
BEGIN:VEVENT
DTSTART;TZID=Australia/Melbourne:20240813T080000
DTEND;TZID=Australia/Melbourne:20240813T090000
DTSTAMP:20260420T125528
CREATED:20240728T233443Z
LAST-MODIFIED:20240728T233511Z
UID:7482-1723536000-1723539600@www.gruc.org.au
SUMMARY:Tuesday Prayer
DESCRIPTION:Our Prayer Warriors meet weekly (Tuesday mornings) to pray and share in Communion … we’d love to see you there.
URL:https://www.gruc.org.au/event/tuesday-prayer-19/
LOCATION:CE Room
END:VEVENT
BEGIN:VEVENT
DTSTART;TZID=Australia/Melbourne:20240806T080000
DTEND;TZID=Australia/Melbourne:20240806T090000
DTSTAMP:20260420T125528
CREATED:20240728T234724Z
LAST-MODIFIED:20240728T234727Z
UID:7493-1722931200-1722934800@www.gruc.org.au
SUMMARY:Tuesday Prayer
DESCRIPTION:Our Prayer Warriors meet weekly (Tuesday mornings) to pray and share in Communion … we’d love to see you there.
URL:https://www.gruc.org.au/event/tuesday-prayer-22/
LOCATION:CE Room
END:VEVENT
BEGIN:VEVENT
DTSTART;TZID=Australia/Melbourne:20240803T090000
DTEND;TZID=Australia/Melbourne:20240803T150000
DTSTAMP:20260420T125528
CREATED:20240526T234326Z
LAST-MODIFIED:20240527T001426Z
UID:7368-1722675600-1722697200@www.gruc.org.au
SUMMARY:SHINE Women's Conference
DESCRIPTION:This year’s theme is ‘FOREVER FREE’. A celebration of the strength\, courage and resilience of women from different walks of life. Be inspired by the faith of other women and draw close to Christ in worship and prayer. Guest speakers include Donna Savill\, Bernii Godwin and Jenny Savill. \n$40 includes Morning Tea and Lunch (early bird tickets for $35 apply until 27th July). There’ll also be a Market Place with amazing items to buy. Register online at www.shinewomen.com.au \nQueries can be emailed to The SHINE Team (Gympie Church of Christ) at  admin@shinewomen.com.au
URL:https://www.gruc.org.au/event/shine-womens-conference/
LOCATION:Stan Baker Hall (CCC)\, 1 College Rd\, Southside\, Qld\, 4570\, Australia
END:VEVENT
BEGIN:VEVENT
DTSTART;TZID=Australia/Melbourne:20240730T080000
DTEND;TZID=Australia/Melbourne:20240730T090000
DTSTAMP:20260420T125528
CREATED:20240618T040203Z
LAST-MODIFIED:20240618T040252Z
UID:7414-1722326400-1722330000@www.gruc.org.au
SUMMARY:Tuesday Prayer
DESCRIPTION:Our Prayer Warriors meet weekly (Tuesday mornings) to pray and share in Communion … we’d love to see you there.
URL:https://www.gruc.org.au/event/tuesday-prayer-16/
LOCATION:CE Room
END:VEVENT
BEGIN:VEVENT
DTSTART;TZID=Australia/Melbourne:20240723T080000
DTEND;TZID=Australia/Melbourne:20240723T090000
DTSTAMP:20260420T125528
CREATED:20240618T040505Z
LAST-MODIFIED:20240618T040541Z
UID:7417-1721721600-1721725200@www.gruc.org.au
SUMMARY:Tuesday Prayer
DESCRIPTION:Our Prayer Warriors meet weekly (Tuesday mornings) to pray and share in Communion … we’d love to see you there.
URL:https://www.gruc.org.au/event/tuesday-prayer-17/
LOCATION:CE Room
END:VEVENT
BEGIN:VEVENT
DTSTART;TZID=Australia/Melbourne:20240716T080000
DTEND;TZID=Australia/Melbourne:20240716T090000
DTSTAMP:20260420T125528
CREATED:20240618T040050Z
LAST-MODIFIED:20240618T040135Z
UID:7411-1721116800-1721120400@www.gruc.org.au
SUMMARY:Tuesday Prayer
DESCRIPTION:Our Prayer Warriors meet weekly (Tuesday mornings) to pray and share in Communion … we’d love to see you there.
URL:https://www.gruc.org.au/event/tuesday-prayer-15/
LOCATION:CE Room
END:VEVENT
BEGIN:VEVENT
DTSTART;TZID=Australia/Melbourne:20240709T080000
DTEND;TZID=Australia/Melbourne:20240709T090000
DTSTAMP:20260420T125528
CREATED:20240618T040629Z
LAST-MODIFIED:20240618T040632Z
UID:7420-1720512000-1720515600@www.gruc.org.au
SUMMARY:Tuesday Prayer
DESCRIPTION:Our Prayer Warriors meet weekly (Tuesday mornings) to pray and share in Communion … we’d love to see you there.
URL:https://www.gruc.org.au/event/tuesday-prayer-18/
LOCATION:CE Room
END:VEVENT
BEGIN:VEVENT
DTSTART;TZID=Australia/Melbourne:20240705T170000
DTEND;TZID=Australia/Melbourne:20240705T170000
DTSTAMP:20260420T125528
CREATED:20240623T230725Z
LAST-MODIFIED:20240623T230733Z
UID:7436-1720198800-1720198800@www.gruc.org.au
SUMMARY:Christian Music in the Park
DESCRIPTION:Gympie’s Positive 91FIVE radio station is organising this FREE event at Nelson Reserve featuring ‘The Afters’ who are an award-winning Christian band currently visiting Australia. They’ll be performing along with some local bands. There’ll be coffee available at the venue and the Gympie Friday Night Markets will be operating from nearby Reef Street where you can buy from the food vans. So rug-up the family and have a great night out!
URL:https://www.gruc.org.au/event/christian-music-in-the-park/
LOCATION:Nelson Reserve\, Gympie\, Cnr Monnkland St & Jaycee Way\, Gympie\, Queensland\, 4570\, Australia
END:VEVENT
BEGIN:VEVENT
DTSTART;TZID=Australia/Melbourne:20240702T080000
DTEND;TZID=Australia/Melbourne:20240702T090000
DTSTAMP:20260420T125528
CREATED:20240618T035937Z
LAST-MODIFIED:20240618T040014Z
UID:7408-1719907200-1719910800@www.gruc.org.au
SUMMARY:Tuesday Prayer
DESCRIPTION:Our Prayer Warriors meet weekly (Tuesday mornings) to pray and share in Communion … we’d love to see you there.
URL:https://www.gruc.org.au/event/tuesday-prayer-12/
LOCATION:CE Room
END:VEVENT
BEGIN:VEVENT
DTSTART;TZID=Australia/Melbourne:20240629T133000
DTEND;TZID=Australia/Melbourne:20240630T013000
DTSTAMP:20260420T125528
CREATED:20240623T225956Z
LAST-MODIFIED:20240623T230127Z
UID:7434-1719667800-1719711000@www.gruc.org.au
SUMMARY:'LOOKUP' with Will Graham
DESCRIPTION:Will Graham (Billy Graham’s grandson) will be presenting a message of HOPE on Saturday\, 29th June starting at 6pm. This is a free family-friendly event being held at the Gold Coast Convention and Exhibition Centre with award-winning Christian band ‘The Afters’ featuring along with some others. \nGympie Positive91FIVE Radio Station has organised 2 buses leaving the Gympie Expansion Church carpark at 1.30pm. To cover expenses\, there will be a cost involved in taking the coach ($35- per person). To book bus seats\, contact the radio station on 5482 1769 or email them at 91.5fmoffice@gmail.com. The bus is likely to arrive back in Gympie around 1:00 to 1:30am the next morning.
URL:https://www.gruc.org.au/event/lookup-with-will-graham/
END:VEVENT
BEGIN:VEVENT
DTSTART;TZID=Australia/Melbourne:20240625T180000
DTEND;TZID=Australia/Melbourne:20240625T183000
DTSTAMP:20260420T125528
CREATED:20240618T041507Z
LAST-MODIFIED:20240618T041754Z
UID:7423-1719338400-1719340200@www.gruc.org.au
SUMMARY:Combined Local Churches Prayer Meeting
DESCRIPTION:This is a great opportunity to come together and meet with our brothers and sisters from other churches within our locality. meeting once a month at different church locations. This month\, Kingdom City House is hosting … located at 201 Calico Creek Road\, Calico Creek … praying for half an hour followed by some conversation time.
URL:https://www.gruc.org.au/event/combined-local-churches-prayer-meeting/
END:VEVENT
BEGIN:VEVENT
DTSTART;TZID=Australia/Melbourne:20240625T080000
DTEND;TZID=Australia/Melbourne:20240625T090000
DTSTAMP:20260420T125528
CREATED:20240519T231017Z
LAST-MODIFIED:20240519T231017Z
UID:7355-1719302400-1719306000@www.gruc.org.au
SUMMARY:Tuesday Prayer
DESCRIPTION:Our Prayer Warriors meet weekly (Tuesday mornings) to pray and share in Communion … we’d love to see you there.
URL:https://www.gruc.org.au/event/tuesday-prayer-14/
LOCATION:CE Room
END:VEVENT
BEGIN:VEVENT
DTSTART;TZID=Australia/Melbourne:20240620T093000
DTEND;TZID=Australia/Melbourne:20240620T110000
DTSTAMP:20260420T125528
CREATED:20240612T012815Z
LAST-MODIFIED:20240612T013026Z
UID:7398-1718875800-1718881200@www.gruc.org.au
SUMMARY:JOY Circle
DESCRIPTION:Linda has an intriguing activity lined up for this month. Everyone is welcome.
URL:https://www.gruc.org.au/event/joy-circle-9/
LOCATION:CE Room
END:VEVENT
BEGIN:VEVENT
DTSTART;TZID=Australia/Melbourne:20240618T080000
DTEND;TZID=Australia/Melbourne:20240618T090000
DTSTAMP:20260420T125528
CREATED:20240519T224950Z
LAST-MODIFIED:20240519T225050Z
UID:7346-1718697600-1718701200@www.gruc.org.au
SUMMARY:Tuesday Prayer
DESCRIPTION:Our Prayer Warriors meet weekly (Tuesday mornings) to pray and share in Communion … we’d love to see you there.
URL:https://www.gruc.org.au/event/tuesday-prayer-11/
LOCATION:CE Room
END:VEVENT
BEGIN:VEVENT
DTSTART;TZID=Australia/Melbourne:20240611T080000
DTEND;TZID=Australia/Melbourne:20240611T090000
DTSTAMP:20260420T125528
CREATED:20240519T230825Z
LAST-MODIFIED:20240519T230906Z
UID:7352-1718092800-1718096400@www.gruc.org.au
SUMMARY:Tuesday Prayer
DESCRIPTION:Our Prayer Warriors meet weekly (Tuesday mornings) to pray and share in Communion … we’d love to see you there.
URL:https://www.gruc.org.au/event/tuesday-prayer-13/
LOCATION:CE Room
END:VEVENT
BEGIN:VEVENT
DTSTART;TZID=Australia/Melbourne:20240604T080000
DTEND;TZID=Australia/Melbourne:20240604T090000
DTSTAMP:20260420T125528
CREATED:20240519T224855Z
LAST-MODIFIED:20240519T230747Z
UID:7343-1717488000-1717491600@www.gruc.org.au
SUMMARY:Tuesday Prayer
DESCRIPTION:Our Prayer Warriors meet weekly (Tuesday mornings) to pray and share in Communion … we’d love to see you there.
URL:https://www.gruc.org.au/event/tuesday-prayer-10/
LOCATION:CE Room
END:VEVENT
BEGIN:VEVENT
DTSTART;TZID=Australia/Melbourne:20240602T090000
DTEND;TZID=Australia/Melbourne:20240602T103000
DTSTAMP:20260420T125528
CREATED:20240520T005555Z
LAST-MODIFIED:20240520T011353Z
UID:7357-1717318800-1717324200@www.gruc.org.au
SUMMARY:Minister in Placement's Service of Closure
DESCRIPTION:Sadly\, we’ll be saying farewell to Orrell and Christine on Sunday 2nd June 2024. Orrell’s official ‘Service of Closure’ will take place immediately following our 9am worship service and then we’ll enjoy time together over morning tea. 
URL:https://www.gruc.org.au/event/minister-in-placements-service-of-closure/
LOCATION:Gympie Uniting Church\, 15 Red Hill Road\, Gympie\, QLD\, 4570\, Australia
END:VEVENT
BEGIN:VEVENT
DTSTART;TZID=Australia/Melbourne:20240523T093000
DTEND;TZID=Australia/Melbourne:20240523T110000
DTSTAMP:20260420T125528
CREATED:20240507T013605Z
LAST-MODIFIED:20240507T013605Z
UID:7316-1716456600-1716462000@www.gruc.org.au
SUMMARY:Joy Circle
DESCRIPTION:There’s a whole new experience lined up for you this month!  Hope you can come.
URL:https://www.gruc.org.au/event/joy-circle-8/
LOCATION:CE Room
END:VEVENT
BEGIN:VEVENT
DTSTART;TZID=Australia/Melbourne:20240521T180000
DTEND;TZID=Australia/Melbourne:20240521T183000
DTSTAMP:20260420T125528
CREATED:20240407T233211Z
LAST-MODIFIED:20240407T233211Z
UID:7266-1716314400-1716316200@www.gruc.org.au
SUMMARY:Combined Churches Prayer Meeting
DESCRIPTION:We’ll be hosting the May gathering at our Gympie Church. 
URL:https://www.gruc.org.au/event/combined-churches-prayer-meeting-2/
LOCATION:Gympie Uniting Church\, 15 Red Hill Road\, Gympie\, QLD\, 4570\, Australia
END:VEVENT
BEGIN:VEVENT
DTSTART;TZID=Australia/Melbourne:20240521T080000
DTEND;TZID=Australia/Melbourne:20240521T090000
DTSTAMP:20260420T125528
CREATED:20240407T230105Z
LAST-MODIFIED:20240407T230811Z
UID:7260-1716278400-1716282000@www.gruc.org.au
SUMMARY:Tuesday Prayer
DESCRIPTION:Our Prayer Warriors meet weekly (Tuesday mornings) to pray and share in Communion … we’d love to see you there.
URL:https://www.gruc.org.au/event/tuesday-prayer-9/
LOCATION:CE Room
END:VEVENT
BEGIN:VEVENT
DTSTART;TZID=Australia/Melbourne:20240514T080000
DTEND;TZID=Australia/Melbourne:20240514T090000
DTSTAMP:20260420T125528
CREATED:20240407T230018Z
LAST-MODIFIED:20240407T230043Z
UID:7257-1715673600-1715677200@www.gruc.org.au
SUMMARY:Tuesday Prayer
DESCRIPTION:Our Prayer Warriors meet weekly (Tuesday mornings) to pray and share in Communion … we’d love to see you there.
URL:https://www.gruc.org.au/event/tuesday-prayer-8/
LOCATION:CE Room
END:VEVENT
BEGIN:VEVENT
DTSTART;TZID=Australia/Melbourne:20240512T090000
DTEND;TZID=Australia/Melbourne:20240512T113000
DTSTAMP:20260420T125528
CREATED:20240411T015923Z
LAST-MODIFIED:20240411T020103Z
UID:7278-1715504400-1715513400@www.gruc.org.au
SUMMARY:Imbil Mother's Day
DESCRIPTION:
URL:https://www.gruc.org.au/event/imbil-mothers-day/
LOCATION:Imbil Uniting Church\, 3 Elizabeth Street\, Imbil\, Queensland\, 4570\, Australia
END:VEVENT
BEGIN:VEVENT
DTSTART;TZID=Australia/Melbourne:20240512T090000
DTEND;TZID=Australia/Melbourne:20240512T110000
DTSTAMP:20260420T125528
CREATED:20240507T004937Z
LAST-MODIFIED:20240509T024736Z
UID:7314-1715504400-1715511600@www.gruc.org.au
SUMMARY:Gympie Mother's Day
DESCRIPTION:We’ll share a delicious Mother’s Day Morning Tea after our Sunday worship service allowing plenty of time to head off to family festivities. If you can’t stay\, you can take some with you. We hope you can join us.
URL:https://www.gruc.org.au/event/gympie-mothers-day/
LOCATION:Gympie Uniting Church\, 15 Red Hill Road\, Gympie\, QLD\, 4570\, Australia
END:VEVENT
BEGIN:VEVENT
DTSTART;TZID=Australia/Melbourne:20240430T080000
DTEND;TZID=Australia/Melbourne:20240430T090000
DTSTAMP:20260420T125528
CREATED:20240325T003841Z
LAST-MODIFIED:20240325T003908Z
UID:7210-1714464000-1714467600@www.gruc.org.au
SUMMARY:Tuesday Prayer
DESCRIPTION:Calling for Prayer Warriors! We have a small and dedicated group who meet weekly (Tuesday mornings) to pray and share in Communion. Please join us.
URL:https://www.gruc.org.au/event/tuesday-prayer-4/
LOCATION:CE Room
END:VEVENT
BEGIN:VEVENT
DTSTART;TZID=Australia/Melbourne:20240428T104500
DTEND;TZID=Australia/Melbourne:20240428T114500
DTSTAMP:20260420T125528
CREATED:20240407T230838Z
LAST-MODIFIED:20240407T233007Z
UID:7262-1714301100-1714304700@www.gruc.org.au
SUMMARY:Congregational Meeting
DESCRIPTION:We’ll have a quick morning tea after our worship services and then return to the church for our meeting.
URL:https://www.gruc.org.au/event/congregational-meeting-9/
LOCATION:Gympie Uniting Church\, 15 Red Hill Road\, Gympie\, QLD\, 4570\, Australia
END:VEVENT
BEGIN:VEVENT
DTSTART;TZID=Australia/Melbourne:20240423T180000
DTEND;TZID=Australia/Melbourne:20240423T183000
DTSTAMP:20260420T125528
CREATED:20240402T011158Z
LAST-MODIFIED:20240402T011158Z
UID:7246-1713895200-1713897000@www.gruc.org.au
SUMMARY:Combined Churches Prayer Meeting
DESCRIPTION:The Gympie Zion Lutheran Church is hosting this April Prayer Meeting. Prayer topics will be:  Praise and thankfulness to God for recent blessings ~ Salvation in Gympie and the surrounding areas ~  Middle East Peace. Everyone is welcome to stay for fellowship afterwards. (Entry is off O’Connell Street).
URL:https://www.gruc.org.au/event/combined-churches-prayer-meeting/
LOCATION:Lutheran Church\, 9 Nash Street\, Gympie\, QLD\, 4570\, Australia
END:VEVENT
BEGIN:VEVENT
DTSTART;TZID=Australia/Melbourne:20240423T080000
DTEND;TZID=Australia/Melbourne:20240423T090000
DTSTAMP:20260420T125528
CREATED:20240325T004206Z
LAST-MODIFIED:20240325T004206Z
UID:7217-1713859200-1713862800@www.gruc.org.au
SUMMARY:Tuesday Prayer
DESCRIPTION:Calling for Prayer Warriors! We have a small and dedicated group who meet weekly (Tuesday mornings) to pray and share in Communion. Please join us.
URL:https://www.gruc.org.au/event/tuesday-prayer-7/
LOCATION:CE Room
END:VEVENT
END:VCALENDAR