BEGIN:VCALENDAR
VERSION:2.0
PRODID:-//Gympie Regional Uniting Church - ECPv5.8.1//NONSGML v1.0//EN
CALSCALE:GREGORIAN
METHOD:PUBLISH
X-WR-CALNAME:Gympie Regional Uniting Church
X-ORIGINAL-URL:https://www.gruc.org.au
X-WR-CALDESC:Events for Gympie Regional Uniting Church
BEGIN:VTIMEZONE
TZID:Australia/Melbourne
BEGIN:STANDARD
TZOFFSETFROM:+1100
TZOFFSETTO:+1000
TZNAME:AEST
DTSTART:20220402T160000
END:STANDARD
BEGIN:DAYLIGHT
TZOFFSETFROM:+1000
TZOFFSETTO:+1100
TZNAME:AEDT
DTSTART:20221001T160000
END:DAYLIGHT
END:VTIMEZONE
BEGIN:VEVENT
DTSTART;TZID=Australia/Melbourne:20220805T093000
DTEND;TZID=Australia/Melbourne:20220805T110000
DTSTAMP:20260421T132735
CREATED:20220724T222933Z
LAST-MODIFIED:20220724T223104Z
UID:6024-1659691800-1659697200@www.gruc.org.au
SUMMARY:Café Mornings
DESCRIPTION:Join us …  Tuesday and Friday mornings at D’Café (Southside) for some lively chat and an enjoyable morning out. Everyone is welcome!
URL:https://www.gruc.org.au/event/cafe-mornings-2/
LOCATION:d’Cafe\, Southside
END:VEVENT
BEGIN:VEVENT
DTSTART;TZID=Australia/Melbourne:20220802T093000
DTEND;TZID=Australia/Melbourne:20220802T110000
DTSTAMP:20260421T132735
CREATED:20220724T222714Z
LAST-MODIFIED:20220724T222807Z
UID:6021-1659432600-1659438000@www.gruc.org.au
SUMMARY:Café Mornings
DESCRIPTION:Join us …  Tuesday and Friday mornings at D’Café (Southside) for some lively chat and an enjoyable morning out. Everyone is welcome!
URL:https://www.gruc.org.au/event/cafe-mornings/
LOCATION:d’Cafe\, Southside
END:VEVENT
BEGIN:VEVENT
DTSTART;TZID=Australia/Melbourne:20220729T093000
DTEND;TZID=Australia/Melbourne:20220729T110000
DTSTAMP:20260421T132735
CREATED:20220529T231344Z
LAST-MODIFIED:20220529T231344Z
UID:5939-1659087000-1659092400@www.gruc.org.au
SUMMARY:Coffee Shop Mornings
DESCRIPTION:We get together on Tuesday and Friday mornings at D’Café (Southside) for some chat and just an enjoyable morning out. You’re very welcome to join us.
URL:https://www.gruc.org.au/event/coffee-shop-mornings-41/
LOCATION:d’Cafe\, Southside
END:VEVENT
BEGIN:VEVENT
DTSTART;TZID=Australia/Melbourne:20220728T090000
DTEND;TZID=Australia/Melbourne:20220728T110000
DTSTAMP:20260421T132735
CREATED:20220529T231756Z
LAST-MODIFIED:20220529T231856Z
UID:5943-1658998800-1659006000@www.gruc.org.au
SUMMARY:Friendship Circle
DESCRIPTION:Ladies … you’re welcome to join us in a fun morning of fellowship. Our July theme will be “Humorous Poems and Stories”. Please bring along a mug from home for your cuppa at morning tea.
URL:https://www.gruc.org.au/event/friendship-circle-35/
LOCATION:CE Room
END:VEVENT
BEGIN:VEVENT
DTSTART;TZID=Australia/Melbourne:20220728T080000
DTEND;TZID=Australia/Melbourne:20220728T090000
DTSTAMP:20260421T132735
CREATED:20220530T000959Z
LAST-MODIFIED:20220718T001115Z
UID:5967-1658995200-1658998800@www.gruc.org.au
SUMMARY:Come Pray Together
DESCRIPTION:Praying together connects us with the purposes of Christ and He has promised that where 2 or 3 are gathered together in His name\, He will be there with us – Matthew 18:20.  \n“He (Jesus) took with him Peter and John and James and went up on the mountain to pray.” (Luke 9:28b). Praying together is following Jesus’ example – please join us on Thursday mornings at 8am where we’ll also share in Communion. Praying silently is OK.
URL:https://www.gruc.org.au/event/come-pray-togethe/
LOCATION:Gympie Uniting Church\, 15 Red Hill Road\, Gympie\, QLD\, 4570\, Australia
END:VEVENT
BEGIN:VEVENT
DTSTART;TZID=Australia/Melbourne:20220726T093000
DTEND;TZID=Australia/Melbourne:20220726T110000
DTSTAMP:20260421T132735
CREATED:20220529T231312Z
LAST-MODIFIED:20220529T231312Z
UID:5937-1658827800-1658833200@www.gruc.org.au
SUMMARY:Coffee Shop Mornings
DESCRIPTION:We get together on Tuesday and Friday mornings at D’Café (Southside) for some chat and just an enjoyable morning out. You’re very welcome to join us.
URL:https://www.gruc.org.au/event/coffee-shop-mornings-40/
LOCATION:d’Cafe\, Southside
END:VEVENT
BEGIN:VEVENT
DTSTART;TZID=Australia/Melbourne:20220722T093000
DTEND;TZID=Australia/Melbourne:20220722T110000
DTSTAMP:20260421T132735
CREATED:20220529T231242Z
LAST-MODIFIED:20220529T231242Z
UID:5935-1658482200-1658487600@www.gruc.org.au
SUMMARY:Coffee Shop Mornings
DESCRIPTION:We get together on Tuesday and Friday mornings at D’Café (Southside) for some chat and just an enjoyable morning out. You’re very welcome to join us.
URL:https://www.gruc.org.au/event/coffee-shop-mornings-39/
LOCATION:d’Cafe\, Southside
END:VEVENT
BEGIN:VEVENT
DTSTART;TZID=Australia/Melbourne:20220721T080000
DTEND;TZID=Australia/Melbourne:20220721T090000
DTSTAMP:20260421T132735
CREATED:20220530T000928Z
LAST-MODIFIED:20220530T000928Z
UID:5965-1658390400-1658394000@www.gruc.org.au
SUMMARY:Come Pray Together
DESCRIPTION:Praying together connects us with the purposes of Christ and He has promised that where 2 or 3 are gathered together in His name\, He will be there with us – Matthew 18:20.  \n“He (Jesus) took with him Peter and John and James and went up on the mountain to pray.” (Luke 9:28b). Praying together is following Jesus’ example – please join us on Thursday mornings at 8am where we’ll also share in Communion. Praying silently is OK.
URL:https://www.gruc.org.au/event/come-pray-together-13/
LOCATION:Gympie Uniting Church\, 15 Red Hill Road\, Gympie\, QLD\, 4570\, Australia
END:VEVENT
BEGIN:VEVENT
DTSTART;TZID=Australia/Melbourne:20220719T093000
DTEND;TZID=Australia/Melbourne:20220719T110000
DTSTAMP:20260421T132735
CREATED:20220529T231208Z
LAST-MODIFIED:20220529T231208Z
UID:5933-1658223000-1658228400@www.gruc.org.au
SUMMARY:Coffee Shop Mornings
DESCRIPTION:We get together on Tuesday and Friday mornings at D’Café (Southside) for some chat and just an enjoyable morning out. You’re very welcome to join us.
URL:https://www.gruc.org.au/event/coffee-shop-mornings-38/
LOCATION:d’Cafe\, Southside
END:VEVENT
BEGIN:VEVENT
DTSTART;TZID=Australia/Melbourne:20220719T093000
DTEND;TZID=Australia/Melbourne:20220719T110000
DTSTAMP:20260421T132735
CREATED:20220529T231128Z
LAST-MODIFIED:20220529T231128Z
UID:5931-1658223000-1658228400@www.gruc.org.au
SUMMARY:Coffee Shop Mornings
DESCRIPTION:We get together on Tuesday and Friday mornings at D’Café (Southside) for some chat and just an enjoyable morning out. You’re very welcome to join us.
URL:https://www.gruc.org.au/event/coffee-shop-mornings-37/
LOCATION:d’Cafe\, Southside
END:VEVENT
BEGIN:VEVENT
DTSTART;TZID=Australia/Melbourne:20220715T093000
DTEND;TZID=Australia/Melbourne:20220715T110000
DTSTAMP:20260421T132735
CREATED:20220529T231056Z
LAST-MODIFIED:20220529T231056Z
UID:5929-1657877400-1657882800@www.gruc.org.au
SUMMARY:Coffee Shop Mornings
DESCRIPTION:We get together on Tuesday and Friday mornings at D’Café (Southside) for some chat and just an enjoyable morning out. You’re very welcome to join us.
URL:https://www.gruc.org.au/event/coffee-shop-mornings-36/
LOCATION:d’Cafe\, Southside
END:VEVENT
BEGIN:VEVENT
DTSTART;TZID=Australia/Melbourne:20220714T080000
DTEND;TZID=Australia/Melbourne:20220714T090000
DTSTAMP:20260421T132735
CREATED:20220530T000855Z
LAST-MODIFIED:20220530T000855Z
UID:5963-1657785600-1657789200@www.gruc.org.au
SUMMARY:Come Pray Together
DESCRIPTION:Praying together connects us with the purposes of Christ and He has promised that where 2 or 3 are gathered together in His name\, He will be there with us – Matthew 18:20.  \n“He (Jesus) took with him Peter and John and James and went up on the mountain to pray.” (Luke 9:28b). Praying together is following Jesus’ example – please join us on Thursday mornings at 8am where we’ll also share in Communion. Praying silently is OK.
URL:https://www.gruc.org.au/event/come-pray-together-12/
LOCATION:Gympie Uniting Church\, 15 Red Hill Road\, Gympie\, QLD\, 4570\, Australia
END:VEVENT
BEGIN:VEVENT
DTSTART;TZID=Australia/Melbourne:20220712T093000
DTEND;TZID=Australia/Melbourne:20220712T110000
DTSTAMP:20260421T132735
CREATED:20220529T231024Z
LAST-MODIFIED:20220529T231024Z
UID:5927-1657618200-1657623600@www.gruc.org.au
SUMMARY:Coffee Shop Mornings
DESCRIPTION:We get together on Tuesday and Friday mornings at D’Café (Southside) for some chat and just an enjoyable morning out. You’re very welcome to join us.
URL:https://www.gruc.org.au/event/coffee-shop-mornings-35/
LOCATION:d’Cafe\, Southside
END:VEVENT
BEGIN:VEVENT
DTSTART;TZID=Australia/Melbourne:20220708T093000
DTEND;TZID=Australia/Melbourne:20220708T110000
DTSTAMP:20260421T132735
CREATED:20220529T230951Z
LAST-MODIFIED:20220529T230951Z
UID:5925-1657272600-1657278000@www.gruc.org.au
SUMMARY:Coffee Shop Mornings
DESCRIPTION:We get together on Tuesday and Friday mornings at D’Café (Southside) for some chat and just an enjoyable morning out. You’re very welcome to join us.
URL:https://www.gruc.org.au/event/coffee-shop-mornings-34/
LOCATION:d’Cafe\, Southside
END:VEVENT
BEGIN:VEVENT
DTSTART;TZID=Australia/Melbourne:20220707T080000
DTEND;TZID=Australia/Melbourne:20220707T090000
DTSTAMP:20260421T132735
CREATED:20220530T000823Z
LAST-MODIFIED:20220530T000823Z
UID:5961-1657180800-1657184400@www.gruc.org.au
SUMMARY:Come Pray Together
DESCRIPTION:Praying together connects us with the purposes of Christ and He has promised that where 2 or 3 are gathered together in His name\, He will be there with us – Matthew 18:20.  \n“He (Jesus) took with him Peter and John and James and went up on the mountain to pray.” (Luke 9:28b). Praying together is following Jesus’ example – please join us on Thursday mornings at 8am where we’ll also share in Communion. Praying silently is OK.
URL:https://www.gruc.org.au/event/come-pray-together-11/
LOCATION:Gympie Uniting Church\, 15 Red Hill Road\, Gympie\, QLD\, 4570\, Australia
END:VEVENT
BEGIN:VEVENT
DTSTART;TZID=Australia/Melbourne:20220705T093000
DTEND;TZID=Australia/Melbourne:20220705T110000
DTSTAMP:20260421T132735
CREATED:20220529T230919Z
LAST-MODIFIED:20220529T230919Z
UID:5923-1657013400-1657018800@www.gruc.org.au
SUMMARY:Coffee Shop Mornings
DESCRIPTION:We get together on Tuesday and Friday mornings at D’Café (Southside) for some chat and just an enjoyable morning out. You’re very welcome to join us.
URL:https://www.gruc.org.au/event/coffee-shop-mornings-33/
LOCATION:d’Cafe\, Southside
END:VEVENT
BEGIN:VEVENT
DTSTART;TZID=Australia/Melbourne:20220701T093000
DTEND;TZID=Australia/Melbourne:20220701T110000
DTSTAMP:20260421T132735
CREATED:20220529T230847Z
LAST-MODIFIED:20220529T230847Z
UID:5921-1656667800-1656673200@www.gruc.org.au
SUMMARY:Coffee Shop Mornings
DESCRIPTION:We get together on Tuesday and Friday mornings at D’Café (Southside) for some chat and just an enjoyable morning out. You’re very welcome to join us.
URL:https://www.gruc.org.au/event/coffee-shop-mornings-32/
LOCATION:d’Cafe\, Southside
END:VEVENT
BEGIN:VEVENT
DTSTART;TZID=Australia/Melbourne:20220630T090000
DTEND;TZID=Australia/Melbourne:20220630T110000
DTSTAMP:20260421T132735
CREATED:20220529T231657Z
LAST-MODIFIED:20220529T231657Z
UID:5941-1656579600-1656586800@www.gruc.org.au
SUMMARY:Friendship Circle
DESCRIPTION:Ladies … you’re welcome to join us in a fun morning of fellowship. Our June theme will be “The Trip I Enjoyed The Most”. Please bring along a mug from home for your cuppa at morning tea.
URL:https://www.gruc.org.au/event/friendship-circle-34/
LOCATION:CE Room
END:VEVENT
BEGIN:VEVENT
DTSTART;TZID=Australia/Melbourne:20220630T080000
DTEND;TZID=Australia/Melbourne:20220630T090000
DTSTAMP:20260421T132735
CREATED:20220530T000753Z
LAST-MODIFIED:20220530T000753Z
UID:5959-1656576000-1656579600@www.gruc.org.au
SUMMARY:Come Pray Together
DESCRIPTION:Praying together connects us with the purposes of Christ and He has promised that where 2 or 3 are gathered together in His name\, He will be there with us – Matthew 18:20.  \n“He (Jesus) took with him Peter and John and James and went up on the mountain to pray.” (Luke 9:28b). Praying together is following Jesus’ example – please join us on Thursday mornings at 8am where we’ll also share in Communion. Praying silently is OK.
URL:https://www.gruc.org.au/event/come-pray-together-10/
LOCATION:Gympie Uniting Church\, 15 Red Hill Road\, Gympie\, QLD\, 4570\, Australia
END:VEVENT
BEGIN:VEVENT
DTSTART;TZID=Australia/Melbourne:20220628T093000
DTEND;TZID=Australia/Melbourne:20220628T110000
DTSTAMP:20260421T132735
CREATED:20220529T230808Z
LAST-MODIFIED:20220529T230808Z
UID:5919-1656408600-1656414000@www.gruc.org.au
SUMMARY:Coffee Shop Mornings
DESCRIPTION:We get together on Tuesday and Friday mornings at D’Café (Southside) for some chat and just an enjoyable morning out. You’re very welcome to join us.
URL:https://www.gruc.org.au/event/coffee-shop-mornings-31/
LOCATION:d’Cafe\, Southside
END:VEVENT
BEGIN:VEVENT
DTSTART;TZID=Australia/Melbourne:20220624T093000
DTEND;TZID=Australia/Melbourne:20220624T110000
DTSTAMP:20260421T132735
CREATED:20220529T230734Z
LAST-MODIFIED:20220529T230734Z
UID:5917-1656063000-1656068400@www.gruc.org.au
SUMMARY:Coffee Shop Mornings
DESCRIPTION:We get together on Tuesday and Friday mornings at D’Café (Southside) for some chat and just an enjoyable morning out. You’re very welcome to join us.
URL:https://www.gruc.org.au/event/coffee-shop-mornings-30/
LOCATION:d’Cafe\, Southside
END:VEVENT
BEGIN:VEVENT
DTSTART;TZID=Australia/Melbourne:20220623T080000
DTEND;TZID=Australia/Melbourne:20220623T090000
DTSTAMP:20260421T132735
CREATED:20220530T000722Z
LAST-MODIFIED:20220530T000722Z
UID:5957-1655971200-1655974800@www.gruc.org.au
SUMMARY:Come Pray Together
DESCRIPTION:Praying together connects us with the purposes of Christ and He has promised that where 2 or 3 are gathered together in His name\, He will be there with us – Matthew 18:20.  \n“He (Jesus) took with him Peter and John and James and went up on the mountain to pray.” (Luke 9:28b). Praying together is following Jesus’ example – please join us on Thursday mornings at 8am where we’ll also share in Communion. Praying silently is OK.
URL:https://www.gruc.org.au/event/come-pray-together-9/
LOCATION:Gympie Uniting Church\, 15 Red Hill Road\, Gympie\, QLD\, 4570\, Australia
END:VEVENT
BEGIN:VEVENT
DTSTART;TZID=Australia/Melbourne:20220621T093000
DTEND;TZID=Australia/Melbourne:20220621T110000
DTSTAMP:20260421T132735
CREATED:20220529T230659Z
LAST-MODIFIED:20220529T230659Z
UID:5915-1655803800-1655809200@www.gruc.org.au
SUMMARY:Coffee Shop Mornings
DESCRIPTION:We get together on Tuesday and Friday mornings at D’Café (Southside) for some chat and just an enjoyable morning out. You’re very welcome to join us.
URL:https://www.gruc.org.au/event/coffee-shop-mornings-29/
LOCATION:d’Cafe\, Southside
END:VEVENT
BEGIN:VEVENT
DTSTART;TZID=Australia/Melbourne:20220617T093000
DTEND;TZID=Australia/Melbourne:20220617T110000
DTSTAMP:20260421T132735
CREATED:20220529T230619Z
LAST-MODIFIED:20220529T230619Z
UID:5913-1655458200-1655463600@www.gruc.org.au
SUMMARY:Coffee Shop Mornings
DESCRIPTION:We get together on Tuesday and Friday mornings at D’Café (Southside) for some chat and just an enjoyable morning out. You’re very welcome to join us.
URL:https://www.gruc.org.au/event/coffee-shop-mornings-28/
LOCATION:d’Cafe\, Southside
END:VEVENT
BEGIN:VEVENT
DTSTART;TZID=Australia/Melbourne:20220616T080000
DTEND;TZID=Australia/Melbourne:20220616T090000
DTSTAMP:20260421T132735
CREATED:20220530T000642Z
LAST-MODIFIED:20220530T000642Z
UID:5955-1655366400-1655370000@www.gruc.org.au
SUMMARY:Come Pray Together
DESCRIPTION:Praying together connects us with the purposes of Christ and He has promised that where 2 or 3 are gathered together in His name\, He will be there with us – Matthew 18:20.  \n“He (Jesus) took with him Peter and John and James and went up on the mountain to pray.” (Luke 9:28b). Praying together is following Jesus’ example – please join us on Thursday mornings at 8am where we’ll also share in Communion. Praying silently is OK.
URL:https://www.gruc.org.au/event/come-pray-together-8/
LOCATION:Gympie Uniting Church\, 15 Red Hill Road\, Gympie\, QLD\, 4570\, Australia
END:VEVENT
BEGIN:VEVENT
DTSTART;TZID=Australia/Melbourne:20220614T093000
DTEND;TZID=Australia/Melbourne:20220614T110000
DTSTAMP:20260421T132735
CREATED:20220529T230551Z
LAST-MODIFIED:20220529T230551Z
UID:5911-1655199000-1655204400@www.gruc.org.au
SUMMARY:Coffee Shop Mornings
DESCRIPTION:We get together on Tuesday and Friday mornings at D’Café (Southside) for some chat and just an enjoyable morning out. You’re very welcome to join us.
URL:https://www.gruc.org.au/event/coffee-shop-mornings-27/
LOCATION:d’Cafe\, Southside
END:VEVENT
BEGIN:VEVENT
DTSTART;TZID=Australia/Melbourne:20220610T093000
DTEND;TZID=Australia/Melbourne:20220610T110000
DTSTAMP:20260421T132735
CREATED:20220529T230511Z
LAST-MODIFIED:20220529T230511Z
UID:5909-1654853400-1654858800@www.gruc.org.au
SUMMARY:Coffee Shop Mornings
DESCRIPTION:We get together on Tuesday and Friday mornings at D’Café (Southside) for some chat and just an enjoyable morning out. You’re very welcome to join us.
URL:https://www.gruc.org.au/event/coffee-shop-mornings-26/
LOCATION:d’Cafe\, Southside
END:VEVENT
BEGIN:VEVENT
DTSTART;TZID=Australia/Melbourne:20220609T080000
DTEND;TZID=Australia/Melbourne:20220609T090000
DTSTAMP:20260421T132735
CREATED:20220530T000546Z
LAST-MODIFIED:20220530T000546Z
UID:5953-1654761600-1654765200@www.gruc.org.au
SUMMARY:Come Pray Together
DESCRIPTION:Praying together connects us with the purposes of Christ and He has promised that where 2 or 3 are gathered together in His name\, He will be there with us – Matthew 18:20.  \n“He (Jesus) took with him Peter and John and James and went up on the mountain to pray.” (Luke 9:28b). Praying together is following Jesus’ example – please join us on Thursday mornings at 8am where we’ll also share in Communion. Praying silently is OK.
URL:https://www.gruc.org.au/event/come-pray-together-7/
LOCATION:Gympie Uniting Church\, 15 Red Hill Road\, Gympie\, QLD\, 4570\, Australia
END:VEVENT
BEGIN:VEVENT
DTSTART;TZID=Australia/Melbourne:20220607T093000
DTEND;TZID=Australia/Melbourne:20220607T110000
DTSTAMP:20260421T132735
CREATED:20220529T230408Z
LAST-MODIFIED:20220529T230408Z
UID:5907-1654594200-1654599600@www.gruc.org.au
SUMMARY:Coffee Shop Mornings
DESCRIPTION:We get together on Tuesday and Friday mornings at D’Café (Southside) for some chat and just an enjoyable morning out. You’re very welcome to join us.
URL:https://www.gruc.org.au/event/coffee-shop-mornings-25/
LOCATION:d’Cafe\, Southside
END:VEVENT
BEGIN:VEVENT
DTSTART;TZID=Australia/Melbourne:20220605T090000
DTEND;TZID=Australia/Melbourne:20220605T113000
DTSTAMP:20260421T132735
CREATED:20220529T225807Z
LAST-MODIFIED:20220602T005626Z
UID:5899-1654419600-1654428600@www.gruc.org.au
SUMMARY:United Worship Service & Congregational Meeting
DESCRIPTION:Pentecost Sunday: We are calling the WHOLE CHURCH (Imbil and Gympie) together to celebrate the birth of the church.  One Church ~ Once Service ~ Once a Year. \nWe are also calling the whole church to a Congregational Meeting which will flow out of a united worship experience. Worship will commence at 9am and the meeting at 10:30am with morning tea in between.
URL:https://www.gruc.org.au/event/congregational-meeting-4/
LOCATION:Gympie Uniting Church\, 15 Red Hill Road\, Gympie\, QLD\, 4570\, Australia
END:VEVENT
END:VCALENDAR