BEGIN:VCALENDAR
VERSION:2.0
PRODID:-//Gympie Regional Uniting Church - ECPv5.8.1//NONSGML v1.0//EN
CALSCALE:GREGORIAN
METHOD:PUBLISH
X-WR-CALNAME:Gympie Regional Uniting Church
X-ORIGINAL-URL:https://www.gruc.org.au
X-WR-CALDESC:Events for Gympie Regional Uniting Church
BEGIN:VTIMEZONE
TZID:Australia/Melbourne
BEGIN:STANDARD
TZOFFSETFROM:+1100
TZOFFSETTO:+1000
TZNAME:AEST
DTSTART:20230401T160000
END:STANDARD
BEGIN:DAYLIGHT
TZOFFSETFROM:+1000
TZOFFSETTO:+1100
TZNAME:AEDT
DTSTART:20230930T160000
END:DAYLIGHT
END:VTIMEZONE
BEGIN:VEVENT
DTSTART;TZID=Australia/Melbourne:20230718T080000
DTEND;TZID=Australia/Melbourne:20230718T090000
DTSTAMP:20260420T172522
CREATED:20230618T234156Z
LAST-MODIFIED:20230618T234156Z
UID:6644-1689667200-1689670800@www.gruc.org.au
SUMMARY:Praying Together
DESCRIPTION:Tuesday mornings for an hour from 8am. Why pray together? Because .. “Wherever prayer focuses the power of God falls” (2 Chronicles 7:14). This is a great time to come together in Fellowship\, Corporate Prayer and Holy Communion. Come along and join us for the hour or pop in for however long you can stay.
URL:https://www.gruc.org.au/event/praying-together-45/
LOCATION:Gympie Uniting Church\, 15 Red Hill Road\, Gympie\, QLD\, 4570\, Australia
END:VEVENT
BEGIN:VEVENT
DTSTART;TZID=Australia/Melbourne:20230711T080000
DTEND;TZID=Australia/Melbourne:20230711T090000
DTSTAMP:20260420T172522
CREATED:20230618T234122Z
LAST-MODIFIED:20230618T234122Z
UID:6642-1689062400-1689066000@www.gruc.org.au
SUMMARY:Praying Together
DESCRIPTION:Tuesday mornings for an hour from 8am. Why pray together? Because .. “Wherever prayer focuses the power of God falls” (2 Chronicles 7:14). This is a great time to come together in Fellowship\, Corporate Prayer and Holy Communion. Come along and join us for the hour or pop in for however long you can stay.
URL:https://www.gruc.org.au/event/praying-together-44/
LOCATION:Gympie Uniting Church\, 15 Red Hill Road\, Gympie\, QLD\, 4570\, Australia
END:VEVENT
BEGIN:VEVENT
DTSTART;TZID=Australia/Melbourne:20230704T080000
DTEND;TZID=Australia/Melbourne:20230704T090000
DTSTAMP:20260420T172522
CREATED:20230618T234056Z
LAST-MODIFIED:20230618T234056Z
UID:6640-1688457600-1688461200@www.gruc.org.au
SUMMARY:Praying Together
DESCRIPTION:Tuesday mornings for an hour from 8am. Why pray together? Because .. “Wherever prayer focuses the power of God falls” (2 Chronicles 7:14). This is a great time to come together in Fellowship\, Corporate Prayer and Holy Communion. Come along and join us for the hour or pop in for however long you can stay.
URL:https://www.gruc.org.au/event/praying-together-43/
LOCATION:Gympie Uniting Church\, 15 Red Hill Road\, Gympie\, QLD\, 4570\, Australia
END:VEVENT
BEGIN:VEVENT
DTSTART;TZID=Australia/Melbourne:20230627T080000
DTEND;TZID=Australia/Melbourne:20230627T090000
DTSTAMP:20260420T172522
CREATED:20230521T233044Z
LAST-MODIFIED:20230521T233044Z
UID:6608-1687852800-1687856400@www.gruc.org.au
SUMMARY:Praying Together
DESCRIPTION:Tuesday mornings for an hour from 8am. Why pray together? Because .. “Wherever prayer focuses the power of God falls” (2 Chronicles 7:14). This is a great time to come together in Fellowship\, Corporate Prayer and Holy Communion. Come along and join us for the hour or pop in for however long you can stay.
URL:https://www.gruc.org.au/event/praying-together-42/
LOCATION:Gympie Uniting Church\, 15 Red Hill Road\, Gympie\, QLD\, 4570\, Australia
END:VEVENT
BEGIN:VEVENT
DTSTART;TZID=Australia/Melbourne:20230620T080000
DTEND;TZID=Australia/Melbourne:20230620T090000
DTSTAMP:20260420T172522
CREATED:20230521T233018Z
LAST-MODIFIED:20230521T233018Z
UID:6606-1687248000-1687251600@www.gruc.org.au
SUMMARY:Praying Together
DESCRIPTION:Tuesday mornings for an hour from 8am. Why pray together? Because .. “Wherever prayer focuses the power of God falls” (2 Chronicles 7:14). This is a great time to come together in Fellowship\, Corporate Prayer and Holy Communion. Come along and join us for the hour or pop in for however long you can stay.
URL:https://www.gruc.org.au/event/praying-together-41/
LOCATION:Gympie Uniting Church\, 15 Red Hill Road\, Gympie\, QLD\, 4570\, Australia
END:VEVENT
BEGIN:VEVENT
DTSTART;TZID=Australia/Melbourne:20230613T080000
DTEND;TZID=Australia/Melbourne:20230613T090000
DTSTAMP:20260420T172522
CREATED:20230521T232947Z
LAST-MODIFIED:20230521T232947Z
UID:6604-1686643200-1686646800@www.gruc.org.au
SUMMARY:Praying Together
DESCRIPTION:Tuesday mornings for an hour from 8am. Why pray together? Because .. “Wherever prayer focuses the power of God falls” (2 Chronicles 7:14). This is a great time to come together in Fellowship\, Corporate Prayer and Holy Communion. Come along and join us for the hour or pop in for however long you can stay.
URL:https://www.gruc.org.au/event/praying-together-40/
LOCATION:Gympie Uniting Church\, 15 Red Hill Road\, Gympie\, QLD\, 4570\, Australia
END:VEVENT
BEGIN:VEVENT
DTSTART;TZID=Australia/Melbourne:20230606T080000
DTEND;TZID=Australia/Melbourne:20230606T090000
DTSTAMP:20260420T172522
CREATED:20230521T232918Z
LAST-MODIFIED:20230521T232918Z
UID:6602-1686038400-1686042000@www.gruc.org.au
SUMMARY:Praying Together
DESCRIPTION:Tuesday mornings for an hour from 8am. Why pray together? Because .. “Wherever prayer focuses the power of God falls” (2 Chronicles 7:14). This is a great time to come together in Fellowship\, Corporate Prayer and Holy Communion. Come along and join us for the hour or pop in for however long you can stay.
URL:https://www.gruc.org.au/event/praying-together-34/
LOCATION:Gympie Uniting Church\, 15 Red Hill Road\, Gympie\, QLD\, 4570\, Australia
END:VEVENT
BEGIN:VEVENT
DTSTART;TZID=Australia/Melbourne:20230530T080000
DTEND;TZID=Australia/Melbourne:20230530T090000
DTSTAMP:20260420T172522
CREATED:20230417T000402Z
LAST-MODIFIED:20230417T000420Z
UID:6546-1685433600-1685437200@www.gruc.org.au
SUMMARY:Praying Together
DESCRIPTION:Tuesday mornings for an hour from 8am. Why pray together? Because .. “Wherever prayer focuses the power of God falls” (2 Chronicles 7:14). This is a great time to come together in Fellowship\, Corporate Prayer and Holy Communion. Come along and join us for the hour or pop in for however long you can stay.
URL:https://www.gruc.org.au/event/praying-together-39/
LOCATION:Gympie Uniting Church\, 15 Red Hill Road\, Gympie\, QLD\, 4570\, Australia
END:VEVENT
BEGIN:VEVENT
DTSTART;TZID=Australia/Melbourne:20230528T100000
DTEND;TZID=Australia/Melbourne:20230528T123000
DTSTAMP:20260420T172522
CREATED:20230514T233034Z
LAST-MODIFIED:20230521T232819Z
UID:6590-1685268000-1685277000@www.gruc.org.au
SUMMARY:BBQ & Games
DESCRIPTION:After worship\, we’re going to have a BBQ and play games … Indoor and Outdoor games\, games for all ages! There’ll be loads of fun and laughs and delicious food\, so we hope you can stay for a while.
URL:https://www.gruc.org.au/event/bbq-games-3/
LOCATION:Gympie Uniting Church\, 15 Red Hill Road\, Gympie\, QLD\, 4570\, Australia
END:VEVENT
BEGIN:VEVENT
DTSTART;TZID=Australia/Melbourne:20230525T090000
DTEND;TZID=Australia/Melbourne:20230525T110000
DTSTAMP:20260420T172522
CREATED:20230507T223934Z
LAST-MODIFIED:20230521T232750Z
UID:6575-1685005200-1685012400@www.gruc.org.au
SUMMARY:JOY Circle
DESCRIPTION:‘Joy Circle‘ has been a great hit!  Men and women of all ages spending time together in Joy\, Fellowship\, Mission and\, of course\, a delicious morning tea on the last Thursday of each month. This month\, we Orrell will be serving his signature dish! Come and try.
URL:https://www.gruc.org.au/event/joy-circle-3/
LOCATION:CE Room
END:VEVENT
BEGIN:VEVENT
DTSTART;TZID=Australia/Melbourne:20230523T080000
DTEND;TZID=Australia/Melbourne:20230523T090000
DTSTAMP:20260420T172522
CREATED:20230417T000336Z
LAST-MODIFIED:20230417T000336Z
UID:6544-1684828800-1684832400@www.gruc.org.au
SUMMARY:Praying Together
DESCRIPTION:Tuesday mornings for an hour from 8am. Why pray together? Because .. “Wherever prayer focuses the power of God falls” (2 Chronicles 7:14). This is a great time to come together in Fellowship\, Corporate Prayer and Holy Communion. Come along and join us for the hour or pop in for however long you can stay.
URL:https://www.gruc.org.au/event/praying-together-38/
LOCATION:Gympie Uniting Church\, 15 Red Hill Road\, Gympie\, QLD\, 4570\, Australia
END:VEVENT
BEGIN:VEVENT
DTSTART;TZID=Australia/Melbourne:20230517T093000
DTEND;TZID=Australia/Melbourne:20230517T110000
DTSTAMP:20260420T172522
CREATED:20230507T225742Z
LAST-MODIFIED:20230507T225742Z
UID:6578-1684315800-1684321200@www.gruc.org.au
SUMMARY:Bible Society Meeting
DESCRIPTION:The Gympie Branch of the Bible Society (Australia) will be meeting in our CE Room. The society’s aim is to “Open the Bible to all people everywhere by all means possible’ and have been doing so for more than 200 years!  Would you like to get involved? Come along to the meeting or contact Narelle on 0418 729 268.
URL:https://www.gruc.org.au/event/bible-society-meeting-10/
LOCATION:CE Room
END:VEVENT
BEGIN:VEVENT
DTSTART;TZID=Australia/Melbourne:20230516T080000
DTEND;TZID=Australia/Melbourne:20230516T090000
DTSTAMP:20260420T172522
CREATED:20230417T000308Z
LAST-MODIFIED:20230417T000308Z
UID:6542-1684224000-1684227600@www.gruc.org.au
SUMMARY:Praying Together
DESCRIPTION:Tuesday mornings for an hour from 8am. Why pray together? Because .. “Wherever prayer focuses the power of God falls” (2 Chronicles 7:14). This is a great time to come together in Fellowship\, Corporate Prayer and Holy Communion. Come along and join us for the hour or pop in for however long you can stay.
URL:https://www.gruc.org.au/event/praying-together-37/
LOCATION:Gympie Uniting Church\, 15 Red Hill Road\, Gympie\, QLD\, 4570\, Australia
END:VEVENT
BEGIN:VEVENT
DTSTART;TZID=Australia/Melbourne:20230509T080000
DTEND;TZID=Australia/Melbourne:20230509T090000
DTSTAMP:20260420T172522
CREATED:20230417T000244Z
LAST-MODIFIED:20230417T000244Z
UID:6540-1683619200-1683622800@www.gruc.org.au
SUMMARY:Praying Together
DESCRIPTION:Tuesday mornings for an hour from 8am. Why pray together? Because .. “Wherever prayer focuses the power of God falls” (2 Chronicles 7:14). This is a great time to come together in Fellowship\, Corporate Prayer and Holy Communion. Come along and join us for the hour or pop in for however long you can stay.
URL:https://www.gruc.org.au/event/praying-together-36/
LOCATION:Gympie Uniting Church\, 15 Red Hill Road\, Gympie\, QLD\, 4570\, Australia
END:VEVENT
BEGIN:VEVENT
DTSTART;TZID=Australia/Melbourne:20230502T080000
DTEND;TZID=Australia/Melbourne:20230502T090000
DTSTAMP:20260420T172522
CREATED:20230417T000212Z
LAST-MODIFIED:20230417T000212Z
UID:6538-1683014400-1683018000@www.gruc.org.au
SUMMARY:Praying Together
DESCRIPTION:Tuesday mornings for an hour from 8am. Why pray together? Because .. “Wherever prayer focuses the power of God falls” (2 Chronicles 7:14). This is a great time to come together in Fellowship\, Corporate Prayer and Holy Communion. Come along and join us for the hour or pop in for however long you can stay.
URL:https://www.gruc.org.au/event/praying-together-35/
LOCATION:Gympie Uniting Church\, 15 Red Hill Road\, Gympie\, QLD\, 4570\, Australia
END:VEVENT
BEGIN:VEVENT
DTSTART;TZID=Australia/Melbourne:20230427T090000
DTEND;TZID=Australia/Melbourne:20230427T110000
DTSTAMP:20260420T172522
CREATED:20230417T000007Z
LAST-MODIFIED:20230423T225124Z
UID:6534-1682586000-1682593200@www.gruc.org.au
SUMMARY:JOY Circle
DESCRIPTION:JOY Circle’s Jillaroos have expanded to include Jackaroos!  All ages are welcome from both inside and outside our church family! Come and enjoy some Country Music this month with John and Iris Shillito; enjoy a country taste of warm damper with butter and & and a cup of Billy Tea; and explore ‘Learning Circles’ with us.
URL:https://www.gruc.org.au/event/joy-circle-2/
LOCATION:CE Room
END:VEVENT
BEGIN:VEVENT
DTSTART;TZID=Australia/Melbourne:20230418T080000
DTEND;TZID=Australia/Melbourne:20230418T090000
DTSTAMP:20260420T172522
CREATED:20230327T011557Z
LAST-MODIFIED:20230327T011557Z
UID:6479-1681804800-1681808400@www.gruc.org.au
SUMMARY:Praying Together
DESCRIPTION:Tuesday mornings for an hour from 8am. Why pray together? Because .. “Wherever prayer focuses the power of God falls” (2 Chronicles 7:14). This is a great time to come together in Fellowship\, Corporate Prayer and Holy Communion. Come along and join us for the hour or pop in for however long you can stay.
URL:https://www.gruc.org.au/event/praying-together-33/
LOCATION:Gympie Uniting Church\, 15 Red Hill Road\, Gympie\, QLD\, 4570\, Australia
END:VEVENT
BEGIN:VEVENT
DTSTART;TZID=Australia/Melbourne:20230411T080000
DTEND;TZID=Australia/Melbourne:20230411T090000
DTSTAMP:20260420T172522
CREATED:20230327T011526Z
LAST-MODIFIED:20230327T011526Z
UID:6477-1681200000-1681203600@www.gruc.org.au
SUMMARY:Praying Together
DESCRIPTION:Tuesday mornings for an hour from 8am. Why pray together? Because .. “Wherever prayer focuses the power of God falls” (2 Chronicles 7:14). This is a great time to come together in Fellowship\, Corporate Prayer and Holy Communion. Come along and join us for the hour or pop in for however long you can stay.
URL:https://www.gruc.org.au/event/praying-together-32/
LOCATION:Gympie Uniting Church\, 15 Red Hill Road\, Gympie\, QLD\, 4570\, Australia
END:VEVENT
BEGIN:VEVENT
DTSTART;TZID=Australia/Melbourne:20230409T090000
DTEND;TZID=Australia/Melbourne:20230409T100000
DTSTAMP:20260420T172522
CREATED:20230327T004549Z
LAST-MODIFIED:20230327T004549Z
UID:6465-1681030800-1681034400@www.gruc.org.au
SUMMARY:Resurrection Sunday at Imbil
DESCRIPTION:Please join us this Easter Sunday at 9am and for morning tea after the worship service.
URL:https://www.gruc.org.au/event/resurrection-sunday-at-imbil/
LOCATION:Imbil Uniting Church\, 3 Elizabeth Street\, Imbil\, Queensland\, 4570\, Australia
END:VEVENT
BEGIN:VEVENT
DTSTART;TZID=Australia/Melbourne:20230407T090000
DTEND;TZID=Australia/Melbourne:20230407T110000
DTSTAMP:20260420T172522
CREATED:20230327T004934Z
LAST-MODIFIED:20230327T022351Z
UID:6467-1680858000-1680865200@www.gruc.org.au
SUMMARY:Resurrection Sunday in Gympie
DESCRIPTION:Please join us this Easter Sunday for worship at 9am. A number of our church family will be baptized or reaffirming infant baptismal vows – we’re looking forward to a special morning together. Stay on for great conversations over morning tea.
URL:https://www.gruc.org.au/event/resurrection-sunday-in-gympie/
LOCATION:Gympie Uniting Church\, 15 Red Hill Road\, Gympie\, QLD\, 4570\, Australia
END:VEVENT
BEGIN:VEVENT
DTSTART;TZID=Australia/Melbourne:20230407T080000
DTEND;TZID=Australia/Melbourne:20230407T090000
DTSTAMP:20260420T172522
CREATED:20230327T004400Z
LAST-MODIFIED:20230327T004400Z
UID:6463-1680854400-1680858000@www.gruc.org.au
SUMMARY:Good Friday in Gympie
DESCRIPTION:Please join us at 8am.
URL:https://www.gruc.org.au/event/good-friday-in-gympie/
LOCATION:Gympie Uniting Church\, 15 Red Hill Road\, Gympie\, QLD\, 4570\, Australia
END:VEVENT
BEGIN:VEVENT
DTSTART;TZID=Australia/Melbourne:20230407T080000
DTEND;TZID=Australia/Melbourne:20230407T090000
DTSTAMP:20260420T172522
CREATED:20230327T004327Z
LAST-MODIFIED:20230327T004327Z
UID:6461-1680854400-1680858000@www.gruc.org.au
SUMMARY:Good Friday at Imbil
DESCRIPTION:Please join us at 8am.
URL:https://www.gruc.org.au/event/good-friday-at-imbil/
LOCATION:Imbil Uniting Church\, 3 Elizabeth Street\, Imbil\, Queensland\, 4570\, Australia
END:VEVENT
BEGIN:VEVENT
DTSTART;TZID=Australia/Melbourne:20230404T080000
DTEND;TZID=Australia/Melbourne:20230404T090000
DTSTAMP:20260420T172522
CREATED:20230327T011450Z
LAST-MODIFIED:20230327T011450Z
UID:6475-1680595200-1680598800@www.gruc.org.au
SUMMARY:Praying Together
DESCRIPTION:Tuesday mornings for an hour from 8am. Why pray together? Because .. “Wherever prayer focuses the power of God falls” (2 Chronicles 7:14). This is a great time to come together in Fellowship\, Corporate Prayer and Holy Communion. Come along and join us for the hour or pop in for however long you can stay.
URL:https://www.gruc.org.au/event/praying-together-31/
LOCATION:Gympie Uniting Church\, 15 Red Hill Road\, Gympie\, QLD\, 4570\, Australia
END:VEVENT
BEGIN:VEVENT
DTSTART;TZID=Australia/Melbourne:20230330T090000
DTEND;TZID=Australia/Melbourne:20230330T110000
DTSTAMP:20260420T172522
CREATED:20230303T014553Z
LAST-MODIFIED:20230327T004133Z
UID:6428-1680166800-1680174000@www.gruc.org.au
SUMMARY:JOY Circle
DESCRIPTION:Friendship Circle is expanding to include men and\, with a new name →  ‘Joy Circle‘.  Joy and Friendship both develop when Jesus is at the centre.  On the 30th March\, we’ll be having a delicious Devonshire Tea\, a Guest Speaker: Eve Wood\, great fellowship and we will spend some time sharing ideas around what sort of activities the ‘JOY Circle’ would like to do as we make plans going forward. We hope you can join us for this first get together.
URL:https://www.gruc.org.au/event/joy-circle/
LOCATION:CE Room
END:VEVENT
BEGIN:VEVENT
DTSTART;TZID=Australia/Melbourne:20230328T080000
DTEND;TZID=Australia/Melbourne:20230328T090000
DTSTAMP:20260420T172522
CREATED:20230327T011406Z
LAST-MODIFIED:20230327T011621Z
UID:6473-1679990400-1679994000@www.gruc.org.au
SUMMARY:Praying Together
DESCRIPTION:Tuesday mornings for an hour from 8am. Why pray together? Because .. “Wherever prayer focuses the power of God falls” (2 Chronicles 7:14). This is a great time to come together in Fellowship\, Corporate Prayer and Holy Communion. Come along and join us for the hour or pop in for however long you can stay.
URL:https://www.gruc.org.au/event/corporate-prayer-3/
LOCATION:Gympie Uniting Church\, 15 Red Hill Road\, Gympie\, QLD\, 4570\, Australia
END:VEVENT
BEGIN:VEVENT
DTSTART;TZID=Australia/Melbourne:20230327T170000
DTEND;TZID=Australia/Melbourne:20230327T210000
DTSTAMP:20260420T172522
CREATED:20230327T011242Z
LAST-MODIFIED:20230327T011242Z
UID:6471-1679936400-1679950800@www.gruc.org.au
SUMMARY:Bush Dance 'Horse Ride for Hope'
DESCRIPTION:Hope Reins is organising ‘Horse Ride for Hope’ – a 1200km ride leaving Gympie on 2nd April and riding to Longreach over 10 weeks. The ride will have a mental health focus with a goal of ‘Connecting Communities\, Strengthening Lives’ seeking to capture and celebrate stories of peoples struggles and their strength in overcoming adversity. Help them reach their fundraising goal of $100 per km. For more information go to the ride’s website:     https://hopereins.org.au/ride-for-hope/ \nTo kick off the event\, there’s going to be a Bush Dance fundraiser the evening before they set out. Tickets cost $25 for 12 years and older; $60 family pass (2 adults & 2 children); $10 each additional child\, A drink and a hamburger included with each ticket. Book at:  www.trybooking.com/CGAVT
URL:https://www.gruc.org.au/event/bush-dance-horse-ride-for-hope/
LOCATION:Hope Reins\, 727 Eel Creek Road\, Langshaw\, Qld\, 4570\, Australia
END:VEVENT
BEGIN:VEVENT
DTSTART;TZID=Australia/Melbourne:20230321T080000
DTEND;TZID=Australia/Melbourne:20230321T090000
DTSTAMP:20260420T172522
CREATED:20230130T235151Z
LAST-MODIFIED:20230130T235151Z
UID:6370-1679385600-1679389200@www.gruc.org.au
SUMMARY:Praying Together
DESCRIPTION:Tuesday mornings for an hour from 8am. Why pray together? Because .. “Wherever prayer focuses the power of God falls” (2 Chronicles 7:14). This is a great time to come together in Fellowship\, Corporate Prayer and Holy Communion. Come along and join us for the hour or pop in for however long you can stay.
URL:https://www.gruc.org.au/event/praying-together-29/
LOCATION:Gympie Uniting Church\, 15 Red Hill Road\, Gympie\, QLD\, 4570\, Australia
END:VEVENT
BEGIN:VEVENT
DTSTART;TZID=Australia/Melbourne:20230319T104500
DTEND;TZID=Australia/Melbourne:20230319T120000
DTSTAMP:20260420T172522
CREATED:20230219T234331Z
LAST-MODIFIED:20230219T234331Z
UID:6413-1679222700-1679227200@www.gruc.org.au
SUMMARY:Congregational Meeting
DESCRIPTION:We hope many of our church family can join us at our first Congregational Meeting for 2023. We’ll have a quick morning tea after the Gympie service with the meeting commencing at 10:45am. 
URL:https://www.gruc.org.au/event/congregational-meeting-6/
LOCATION:Gympie Uniting Church\, 15 Red Hill Road\, Gympie\, QLD\, 4570\, Australia
END:VEVENT
BEGIN:VEVENT
DTSTART;TZID=Australia/Melbourne:20230314T080000
DTEND;TZID=Australia/Melbourne:20230314T090000
DTSTAMP:20260420T172522
CREATED:20230130T235125Z
LAST-MODIFIED:20230130T235125Z
UID:6368-1678780800-1678784400@www.gruc.org.au
SUMMARY:Praying Together
DESCRIPTION:Tuesday mornings for an hour from 8am. Why pray together? Because .. “Wherever prayer focuses the power of God falls” (2 Chronicles 7:14). This is a great time to come together in Fellowship\, Corporate Prayer and Holy Communion. Come along and join us for the hour or pop in for however long you can stay.
URL:https://www.gruc.org.au/event/praying-together-28/
LOCATION:Gympie Uniting Church\, 15 Red Hill Road\, Gympie\, QLD\, 4570\, Australia
END:VEVENT
BEGIN:VEVENT
DTSTART;TZID=Australia/Melbourne:20230307T080000
DTEND;TZID=Australia/Melbourne:20230307T090000
DTSTAMP:20260420T172522
CREATED:20230130T235028Z
LAST-MODIFIED:20230130T235057Z
UID:6366-1678176000-1678179600@www.gruc.org.au
SUMMARY:Praying Together
DESCRIPTION:Tuesday mornings for an hour from 8am. Why pray together? Because .. “Wherever prayer focuses the power of God falls” (2 Chronicles 7:14). This is a great time to come together in Fellowship\, Corporate Prayer and Holy Communion. Come along and join us for the hour or pop in for however long you can stay.
URL:https://www.gruc.org.au/event/praying-together-27/
LOCATION:Gympie Uniting Church\, 15 Red Hill Road\, Gympie\, QLD\, 4570\, Australia
END:VEVENT
END:VCALENDAR