BEGIN:VCALENDAR
VERSION:2.0
PRODID:-//Gympie Regional Uniting Church - ECPv5.8.1//NONSGML v1.0//EN
CALSCALE:GREGORIAN
METHOD:PUBLISH
X-WR-CALNAME:Gympie Regional Uniting Church
X-ORIGINAL-URL:https://www.gruc.org.au
X-WR-CALDESC:Events for Gympie Regional Uniting Church
BEGIN:VTIMEZONE
TZID:Australia/Melbourne
BEGIN:STANDARD
TZOFFSETFROM:+1100
TZOFFSETTO:+1000
TZNAME:AEST
DTSTART:20220402T160000
END:STANDARD
BEGIN:DAYLIGHT
TZOFFSETFROM:+1000
TZOFFSETTO:+1100
TZNAME:AEDT
DTSTART:20221001T160000
END:DAYLIGHT
END:VTIMEZONE
BEGIN:VEVENT
DTSTART;TZID=Australia/Melbourne:20221211T110000
DTEND;TZID=Australia/Melbourne:20221211T150000
DTSTAMP:20260421T145755
CREATED:20221118T010705Z
LAST-MODIFIED:20221121T025951Z
UID:6229-1670756400-1670770800@www.gruc.org.au
SUMMARY:BBQ & GAMES
DESCRIPTION:BBQ\, Bocce & Board Games  …  after our end-of-year Children’s Worship Service / Morning Tea. Last time we had lots of fun – hope you can come. RSVP to the office for catering (there’ll be no cost).
URL:https://www.gruc.org.au/event/bbq-games-2/
LOCATION:Gympie Uniting Church\, 15 Red Hill Road\, Gympie\, QLD\, 4570\, Australia
END:VEVENT
BEGIN:VEVENT
DTSTART;TZID=Australia/Melbourne:20221211T090000
DTEND;TZID=Australia/Melbourne:20221211T113000
DTSTAMP:20260421T145755
CREATED:20221113T223108Z
LAST-MODIFIED:20221113T223108Z
UID:6209-1670749200-1670758200@www.gruc.org.au
SUMMARY:Children's Service 2022
DESCRIPTION:This will be a very special worship service celebrating our children … Kidz Church and those children from our UC Child Care Association who will be graduating to big school in 2023. This will be a great morning with lots of children and their families\, UCCCA Staff & Educators\, Presentations\, Carols & Morning Tea. What a great opportunity to welcome these families and celebrate together!
URL:https://www.gruc.org.au/event/childrens-service-2022/
LOCATION:Gympie Uniting Church\, 15 Red Hill Road\, Gympie\, QLD\, 4570\, Australia
END:VEVENT
BEGIN:VEVENT
DTSTART;TZID=Australia/Melbourne:20221206T080000
DTEND;TZID=Australia/Melbourne:20221206T090000
DTSTAMP:20260421T145755
CREATED:20221113T224533Z
LAST-MODIFIED:20221113T224533Z
UID:6222-1670313600-1670317200@www.gruc.org.au
SUMMARY:Praying Together
DESCRIPTION:Why pray together? Because .. “Wherever prayer focuses the power of God falls” (2 Chronicles 7:14). This is a great time to come together in Fellowship\, Corporate Prayer and Holy Communion. Come along and join us for the hour or pop in for however long you can stay. 
URL:https://www.gruc.org.au/event/praying-together-15/
LOCATION:Gympie Uniting Church\, 15 Red Hill Road\, Gympie\, QLD\, 4570\, Australia
END:VEVENT
BEGIN:VEVENT
DTSTART;TZID=Australia/Melbourne:20221203T160000
DTEND;TZID=Australia/Melbourne:20221203T203000
DTSTAMP:20260421T145755
CREATED:20221127T233009Z
LAST-MODIFIED:20221127T233009Z
UID:6247-1670083200-1670099400@www.gruc.org.au
SUMMARY:Christmas in The Park
DESCRIPTION:A community event with lots of fun for the whole family.
URL:https://www.gruc.org.au/event/christmas-in-the-park-2/
LOCATION:Nelson Reserve\, Gympie\, Cnr Monnkland St & Jaycee Way\, Gympie\, Queensland\, 4570\, Australia
END:VEVENT
BEGIN:VEVENT
DTSTART;TZID=Australia/Melbourne:20221130T180000
DTEND;TZID=Australia/Melbourne:20221130T203000
DTSTAMP:20260421T145755
CREATED:20221118T005449Z
LAST-MODIFIED:20221118T010747Z
UID:6227-1669831200-1669840200@www.gruc.org.au
SUMMARY:Ladies' Social Night
DESCRIPTION:This will be a good opportunity to spend some time together in a casual and relaxed space over a simple meal. RSVP to the office …  $10 to cover costs. 
URL:https://www.gruc.org.au/event/ladies-social-night/
LOCATION:CE Room
END:VEVENT
BEGIN:VEVENT
DTSTART;TZID=Australia/Melbourne:20221129T080000
DTEND;TZID=Australia/Melbourne:20221129T090000
DTSTAMP:20260421T145755
CREATED:20221113T224358Z
LAST-MODIFIED:20221113T224358Z
UID:6220-1669708800-1669712400@www.gruc.org.au
SUMMARY:Praying Together
DESCRIPTION:We’re now meeting on Tuesday mornings for an hour from 8am. Why pray together? Because .. “Wherever prayer focuses the power of God falls” (2 Chronicles 7:14). This is a great time to come together in Fellowship\, Corporate Prayer and Holy Communion. Come along and join us for the hour or pop in for however long you can stay. 
URL:https://www.gruc.org.au/event/praying-together-16/
LOCATION:Gympie Uniting Church\, 15 Red Hill Road\, Gympie\, QLD\, 4570\, Australia
END:VEVENT
BEGIN:VEVENT
DTSTART;TZID=Australia/Melbourne:20221124T090000
DTEND;TZID=Australia/Melbourne:20221124T110000
DTSTAMP:20260421T145755
CREATED:20221027T045655Z
LAST-MODIFIED:20221113T223531Z
UID:6174-1669280400-1669287600@www.gruc.org.au
SUMMARY:Friendship Circle
DESCRIPTION:This is a ladies’ group who meet on the last Thursday of the month. In November\, we’ll be having a special end-of-year morning tea – can you bring some food to share? We’ll be singing Carols and watching a short Max Lucado Christmas video. All ladies are very welcome. \n 
URL:https://www.gruc.org.au/event/friendship-circle-37/
LOCATION:CE Room
END:VEVENT
BEGIN:VEVENT
DTSTART;TZID=Australia/Melbourne:20221122T080000
DTEND;TZID=Australia/Melbourne:20221122T090000
DTSTAMP:20260421T145755
CREATED:20221027T045259Z
LAST-MODIFIED:20221113T224210Z
UID:6170-1669104000-1669107600@www.gruc.org.au
SUMMARY:Praying Together
DESCRIPTION:We’re now meeting on Tuesday mornings for an hour from 8am. Why pray together? Because .. “Wherever prayer focuses the power of God falls” (2 Chronicles 7:14). This is a great time to come together in Fellowship\, Corporate Prayer and Holy Communion. Come along and join us for the hour or pop in for however long you can stay.  \n 
URL:https://www.gruc.org.au/event/praying-together-14/
LOCATION:Gympie Uniting Church\, 15 Red Hill Road\, Gympie\, QLD\, 4570\, Australia
END:VEVENT
BEGIN:VEVENT
DTSTART;TZID=Australia/Melbourne:20221120T133000
DTEND;TZID=Australia/Melbourne:20221120T143000
DTSTAMP:20260421T145755
CREATED:20221113T223339Z
LAST-MODIFIED:20221113T223339Z
UID:6211-1668951000-1668954600@www.gruc.org.au
SUMMARY:AGM 2022
DESCRIPTION:We hope you can make our 2022 Annual General Meeting. Annual reports are available – it would be helpful if you could read the reports in advance.
URL:https://www.gruc.org.au/event/agm-2022/
LOCATION:Gympie Uniting Church\, 15 Red Hill Road\, Gympie\, QLD\, 4570\, Australia
END:VEVENT
BEGIN:VEVENT
DTSTART;TZID=Australia/Melbourne:20221116T090000
DTEND;TZID=Australia/Melbourne:20221116T103000
DTSTAMP:20260421T145755
CREATED:20221113T222541Z
LAST-MODIFIED:20221113T222541Z
UID:6207-1668589200-1668594600@www.gruc.org.au
SUMMARY:Bible Society Meeting
DESCRIPTION:The Gympie Branch of the bible Society in Australia – last meeting for 2022. ‘The society’s mission is to make the Bible accessible to all people everywhere by whatever means possible’. Would you like to be a part of this mission? Come along to this meeting – youi’d be most welcome.
URL:https://www.gruc.org.au/event/bible-society-meeting-8/
LOCATION:CE Room
END:VEVENT
BEGIN:VEVENT
DTSTART;TZID=Australia/Melbourne:20221115T080000
DTEND;TZID=Australia/Melbourne:20221115T090000
DTSTAMP:20260421T145755
CREATED:20221027T045227Z
LAST-MODIFIED:20221027T045227Z
UID:6168-1668499200-1668502800@www.gruc.org.au
SUMMARY:Praying Together
DESCRIPTION:We’re now meeting on Tuesday mornings for an hour from 8am. This is a great time to come together in Fellowship\, Corporate Prayer and Holy Communion. Come along and join us for the hour or pop in for however long you can stay. 
URL:https://www.gruc.org.au/event/praying-together-13/
LOCATION:Gympie Uniting Church\, 15 Red Hill Road\, Gympie\, QLD\, 4570\, Australia
END:VEVENT
BEGIN:VEVENT
DTSTART;TZID=Australia/Melbourne:20221108T080000
DTEND;TZID=Australia/Melbourne:20221108T090000
DTSTAMP:20260421T145755
CREATED:20221027T045032Z
LAST-MODIFIED:20221027T045156Z
UID:6164-1667894400-1667898000@www.gruc.org.au
SUMMARY:Praying Together
DESCRIPTION:We’re now meeting on Tuesday mornings for an hour from 8am. This is a great time to come together in Fellowship\, Corporate Prayer and Holy Communion. Come along and join us for the hour or pop in for however long you can stay. 
URL:https://www.gruc.org.au/event/prayer-communion/
LOCATION:Gympie Uniting Church\, 15 Red Hill Road\, Gympie\, QLD\, 4570\, Australia
END:VEVENT
BEGIN:VEVENT
DTSTART;TZID=Australia/Melbourne:20221101T080000
DTEND;TZID=Australia/Melbourne:20221101T090000
DTSTAMP:20260421T145755
CREATED:20221027T044946Z
LAST-MODIFIED:20221027T045120Z
UID:6162-1667289600-1667293200@www.gruc.org.au
SUMMARY:Praying Together
DESCRIPTION:We’re now meeting on Tuesday mornings for an hour from 8am. This is a great time to come together in Fellowship\, Corporate Prayer and Holy Communion. Come along and join us for the hour or pop in for however long you can stay. 
URL:https://www.gruc.org.au/event/praying-together-12/
LOCATION:Gympie Uniting Church\, 15 Red Hill Road\, Gympie\, QLD\, 4570\, Australia
END:VEVENT
BEGIN:VEVENT
DTSTART;TZID=Australia/Melbourne:20221023T110000
DTEND;TZID=Australia/Melbourne:20221023T153000
DTSTAMP:20260421T145755
CREATED:20221027T044531Z
LAST-MODIFIED:20221027T044552Z
UID:6160-1666522800-1666539000@www.gruc.org.au
SUMMARY:BBQ & Games
DESCRIPTION:We’re having a complimentary BBQ lunch and games for all ages after … after worship and our usual morning tea. Should be a load of fun.
URL:https://www.gruc.org.au/event/bbq-games/
LOCATION:Gympie Uniting Church\, 15 Red Hill Road\, Gympie\, QLD\, 4570\, Australia
END:VEVENT
BEGIN:VEVENT
DTSTART;TZID=Australia/Melbourne:20220930T093000
DTEND;TZID=Australia/Melbourne:20220930T110000
DTSTAMP:20260421T145755
CREATED:20220724T224444Z
LAST-MODIFIED:20220724T224444Z
UID:6059-1664530200-1664535600@www.gruc.org.au
SUMMARY:Café Mornings
DESCRIPTION:Join us …  Tuesday and Friday mornings at D’Café (Southside) for some lively chat and an enjoyable morning out. Everyone is welcome!
URL:https://www.gruc.org.au/event/cafe-mornings-18/
LOCATION:d’Cafe\, Southside
END:VEVENT
BEGIN:VEVENT
DTSTART;TZID=Australia/Melbourne:20220929T090000
DTEND;TZID=Australia/Melbourne:20220929T110000
DTSTAMP:20260421T145755
CREATED:20220904T224054Z
LAST-MODIFIED:20220904T224054Z
UID:6104-1664442000-1664449200@www.gruc.org.au
SUMMARY:Friendship Circle
DESCRIPTION:Ladies … you’re welcome to join us in a fun morning of fellowship. Our September theme is “Fun with Games”. Please bring along a mug from home for your cuppa at morning tea.
URL:https://www.gruc.org.au/event/friendship-circle-36/
LOCATION:CE Room
END:VEVENT
BEGIN:VEVENT
DTSTART;TZID=Australia/Melbourne:20220927T093000
DTEND;TZID=Australia/Melbourne:20220927T110000
DTSTAMP:20260421T145755
CREATED:20220724T224356Z
LAST-MODIFIED:20220724T224356Z
UID:6057-1664271000-1664276400@www.gruc.org.au
SUMMARY:Café Mornings
DESCRIPTION:Join us …  Tuesday and Friday mornings at D’Café (Southside) for some lively chat and an enjoyable morning out. Everyone is welcome!
URL:https://www.gruc.org.au/event/cafe-mornings-17/
LOCATION:d’Cafe\, Southside
END:VEVENT
BEGIN:VEVENT
DTSTART;TZID=Australia/Melbourne:20220923T093000
DTEND;TZID=Australia/Melbourne:20220923T110000
DTSTAMP:20260421T145755
CREATED:20220724T224256Z
LAST-MODIFIED:20220724T224256Z
UID:6055-1663925400-1663930800@www.gruc.org.au
SUMMARY:Café Mornings
DESCRIPTION:Join us …  Tuesday and Friday mornings at D’Café (Southside) for some lively chat and an enjoyable morning out. Everyone is welcome!
URL:https://www.gruc.org.au/event/cafe-mornings-16/
LOCATION:d’Cafe\, Southside
END:VEVENT
BEGIN:VEVENT
DTSTART;TZID=Australia/Melbourne:20220922T080000
DTEND;TZID=Australia/Melbourne:20220922T090000
DTSTAMP:20260421T145755
CREATED:20220904T224738Z
LAST-MODIFIED:20220904T224738Z
UID:6110-1663833600-1663837200@www.gruc.org.au
SUMMARY:Let's Pray Together
DESCRIPTION:Praying together connects us with the purposes of Christ and He has promised that where 2 or 3 are gathered together in His name\, He will be there with us – Matthew 18:20. Praying together also follows Jesus’ example … “He (Jesus) took with him Peter and John and James and went up on the mountain to pray.” (Luke 9:28b).  Please\, join us on Thursday mornings at 8am where we fellowship together sharing in communion. You don’t even have to pray out loud.
URL:https://www.gruc.org.au/event/lets-pray-together-3/
LOCATION:Gympie Uniting Church\, 15 Red Hill Road\, Gympie\, QLD\, 4570\, Australia
END:VEVENT
BEGIN:VEVENT
DTSTART;TZID=Australia/Melbourne:20220920T093000
DTEND;TZID=Australia/Melbourne:20220920T110000
DTSTAMP:20260421T145755
CREATED:20220724T224210Z
LAST-MODIFIED:20220724T224210Z
UID:6053-1663666200-1663671600@www.gruc.org.au
SUMMARY:Café Mornings
DESCRIPTION:Join us …  Tuesday and Friday mornings at D’Café (Southside) for some lively chat and an enjoyable morning out. Everyone is welcome!
URL:https://www.gruc.org.au/event/cafe-mornings-15/
LOCATION:d’Cafe\, Southside
END:VEVENT
BEGIN:VEVENT
DTSTART;TZID=Australia/Melbourne:20220916T093000
DTEND;TZID=Australia/Melbourne:20220916T110000
DTSTAMP:20260421T145755
CREATED:20220724T224123Z
LAST-MODIFIED:20220724T224123Z
UID:6051-1663320600-1663326000@www.gruc.org.au
SUMMARY:Café Mornings
DESCRIPTION:Join us …  Tuesday and Friday mornings at D’Café (Southside) for some lively chat and an enjoyable morning out. Everyone is welcome!
URL:https://www.gruc.org.au/event/cafe-mornings-14/
LOCATION:d’Cafe\, Southside
END:VEVENT
BEGIN:VEVENT
DTSTART;TZID=Australia/Melbourne:20220915T080000
DTEND;TZID=Australia/Melbourne:20220915T090000
DTSTAMP:20260421T145755
CREATED:20220904T224705Z
LAST-MODIFIED:20220904T224705Z
UID:6108-1663228800-1663232400@www.gruc.org.au
SUMMARY:Let's Pray Together
DESCRIPTION:Praying together connects us with the purposes of Christ and He has promised that where 2 or 3 are gathered together in His name\, He will be there with us – Matthew 18:20. Praying together also follows Jesus’ example … “He (Jesus) took with him Peter and John and James and went up on the mountain to pray.” (Luke 9:28b).  Please\, join us on Thursday mornings at 8am where we fellowship together sharing in communion. You don’t even have to pray out loud.
URL:https://www.gruc.org.au/event/lets-pray-together-2/
LOCATION:Gympie Uniting Church\, 15 Red Hill Road\, Gympie\, QLD\, 4570\, Australia
END:VEVENT
BEGIN:VEVENT
DTSTART;TZID=Australia/Melbourne:20220913T093000
DTEND;TZID=Australia/Melbourne:20220913T110000
DTSTAMP:20260421T145755
CREATED:20220724T224039Z
LAST-MODIFIED:20220724T224039Z
UID:6049-1663061400-1663066800@www.gruc.org.au
SUMMARY:Café Mornings
DESCRIPTION:Join us …  Tuesday and Friday mornings at D’Café (Southside) for some lively chat and an enjoyable morning out. Everyone is welcome!
URL:https://www.gruc.org.au/event/cafe-mornings-13/
LOCATION:d’Cafe\, Southside
END:VEVENT
BEGIN:VEVENT
DTSTART;TZID=Australia/Melbourne:20220909T093000
DTEND;TZID=Australia/Melbourne:20220909T110000
DTSTAMP:20260421T145755
CREATED:20220724T223952Z
LAST-MODIFIED:20220724T223952Z
UID:6047-1662715800-1662721200@www.gruc.org.au
SUMMARY:Café Mornings
DESCRIPTION:Join us …  Tuesday and Friday mornings at D’Café (Southside) for some lively chat and an enjoyable morning out. Everyone is welcome!
URL:https://www.gruc.org.au/event/cafe-mornings-12/
LOCATION:d’Cafe\, Southside
END:VEVENT
BEGIN:VEVENT
DTSTART;TZID=Australia/Melbourne:20220908T080000
DTEND;TZID=Australia/Melbourne:20220908T090000
DTSTAMP:20260421T145755
CREATED:20220904T224545Z
LAST-MODIFIED:20220904T224545Z
UID:6106-1662624000-1662627600@www.gruc.org.au
SUMMARY:Let's Pray Together
DESCRIPTION:Praying together connects us with the purposes of Christ and He has promised that where 2 or 3 are gathered together in His name\, He will be there with us – Matthew 18:20. Praying together also follows Jesus’ example … “He (Jesus) took with him Peter and John and James and went up on the mountain to pray.” (Luke 9:28b).  Please\, join us on Thursday mornings at 8am where we fellowship together sharing in communion. You don’t even have to pray out loud.
URL:https://www.gruc.org.au/event/lets-pray-together/
LOCATION:Gympie Uniting Church\, 15 Red Hill Road\, Gympie\, QLD\, 4570\, Australia
END:VEVENT
BEGIN:VEVENT
DTSTART;TZID=Australia/Melbourne:20220906T093000
DTEND;TZID=Australia/Melbourne:20220906T110000
DTSTAMP:20260421T145755
CREATED:20220724T223846Z
LAST-MODIFIED:20220724T223846Z
UID:6045-1662456600-1662462000@www.gruc.org.au
SUMMARY:Café Mornings
DESCRIPTION:Join us …  Tuesday and Friday mornings at D’Café (Southside) for some lively chat and an enjoyable morning out. Everyone is welcome!
URL:https://www.gruc.org.au/event/cafe-mornings-11/
LOCATION:d’Cafe\, Southside
END:VEVENT
BEGIN:VEVENT
DTSTART;TZID=Australia/Melbourne:20220902T093000
DTEND;TZID=Australia/Melbourne:20220902T110000
DTSTAMP:20260421T145755
CREATED:20220724T223804Z
LAST-MODIFIED:20220724T223804Z
UID:6043-1662111000-1662116400@www.gruc.org.au
SUMMARY:Café Mornings
DESCRIPTION:Join us …  Tuesday and Friday mornings at D’Café (Southside) for some lively chat and an enjoyable morning out. Everyone is welcome!
URL:https://www.gruc.org.au/event/cafe-mornings-10/
LOCATION:d’Cafe\, Southside
END:VEVENT
BEGIN:VEVENT
DTSTART;TZID=Australia/Melbourne:20220830T093000
DTEND;TZID=Australia/Melbourne:20220830T110000
DTSTAMP:20260421T145755
CREATED:20220724T223715Z
LAST-MODIFIED:20220724T223715Z
UID:6041-1661851800-1661857200@www.gruc.org.au
SUMMARY:Café Mornings
DESCRIPTION:Join us …  Tuesday and Friday mornings at D’Café (Southside) for some lively chat and an enjoyable morning out. Everyone is welcome!
URL:https://www.gruc.org.au/event/cafe-mornings-9/
LOCATION:d’Cafe\, Southside
END:VEVENT
BEGIN:VEVENT
DTSTART;TZID=Australia/Melbourne:20220826T093000
DTEND;TZID=Australia/Melbourne:20220826T110000
DTSTAMP:20260421T145755
CREATED:20220724T223628Z
LAST-MODIFIED:20220724T223628Z
UID:6039-1661506200-1661511600@www.gruc.org.au
SUMMARY:Café Mornings
DESCRIPTION:Join us …  Tuesday and Friday mornings at D’Café (Southside) for some lively chat and an enjoyable morning out. Everyone is welcome!
URL:https://www.gruc.org.au/event/cafe-mornings-8/
LOCATION:d’Cafe\, Southside
END:VEVENT
BEGIN:VEVENT
DTSTART;TZID=Australia/Melbourne:20220823T093000
DTEND;TZID=Australia/Melbourne:20220823T110000
DTSTAMP:20260421T145755
CREATED:20220724T223541Z
LAST-MODIFIED:20220724T223541Z
UID:6037-1661247000-1661252400@www.gruc.org.au
SUMMARY:Café Mornings
DESCRIPTION:Join us …  Tuesday and Friday mornings at D’Café (Southside) for some lively chat and an enjoyable morning out. Everyone is welcome!
URL:https://www.gruc.org.au/event/cafe-mornings-7/
LOCATION:d’Cafe\, Southside
END:VEVENT
END:VCALENDAR