BEGIN:VCALENDAR
VERSION:2.0
PRODID:-//Gympie Regional Uniting Church - ECPv5.8.1//NONSGML v1.0//EN
CALSCALE:GREGORIAN
METHOD:PUBLISH
X-WR-CALNAME:Gympie Regional Uniting Church
X-ORIGINAL-URL:https://www.gruc.org.au
X-WR-CALDESC:Events for Gympie Regional Uniting Church
BEGIN:VTIMEZONE
TZID:Australia/Melbourne
BEGIN:STANDARD
TZOFFSETFROM:+1100
TZOFFSETTO:+1000
TZNAME:AEST
DTSTART:20230401T160000
END:STANDARD
BEGIN:DAYLIGHT
TZOFFSETFROM:+1000
TZOFFSETTO:+1100
TZNAME:AEDT
DTSTART:20230930T160000
END:DAYLIGHT
END:VTIMEZONE
BEGIN:VEVENT
DTSTART;TZID=Australia/Melbourne:20230923T110000
DTEND;TZID=Australia/Melbourne:20230923T150000
DTSTAMP:20260420T170511
CREATED:20230825T003257Z
LAST-MODIFIED:20230825T003307Z
UID:6805-1695466800-1695481200@www.gruc.org.au
SUMMARY:Men's Shed Open Day
DESCRIPTION:Would you like to see how these guys operate? Come along to their Open Day & FREE Sausage Sizzle.
URL:https://www.gruc.org.au/event/mens-shed-open-day/
LOCATION:Amamoor Uniting Church\, Busby Street\, Amamoor
END:VEVENT
BEGIN:VEVENT
DTSTART;TZID=Australia/Melbourne:20230919T080000
DTEND;TZID=Australia/Melbourne:20230919T090000
DTSTAMP:20260420T170511
CREATED:20230813T230144Z
LAST-MODIFIED:20230813T230144Z
UID:6747-1695110400-1695114000@www.gruc.org.au
SUMMARY:Praying Together
DESCRIPTION:“Every great movement of God can be traced to a kneeling figure”.  D. L. Moody   …   This is a precious time when we come together in Fellowship\, Prayer and to share Holy Communion. Please join us for the hour or pop in for however long you can stay.
URL:https://www.gruc.org.au/event/praying-together-54/
LOCATION:Gympie Uniting Church\, 15 Red Hill Road\, Gympie\, QLD\, 4570\, Australia
END:VEVENT
BEGIN:VEVENT
DTSTART;TZID=Australia/Melbourne:20230913T140000
DTEND;TZID=Australia/Melbourne:20230913T160000
DTSTAMP:20260420T170511
CREATED:20230821T015140Z
LAST-MODIFIED:20230825T004833Z
UID:6793-1694613600-1694620800@www.gruc.org.au
SUMMARY:Christmas Shoebox Packing
DESCRIPTION:There will be lots of boxes to pack for this year’s Samaritan’s Purse Christmas Shoebox ministry – thanks to the generosity of our church family. We’re going to be packing them on Wednesday\, 13th September from 2pm. Can you help? If so\, contact Helen on 5484 3143 or the church office on 0493 442 250. 
URL:https://www.gruc.org.au/event/christmas-shoebox-packing-2/
LOCATION:Imbil Uniting Church Hall\, 3 Elizabeth Street\, Imbil\, Queensland\, 4570\, Australia
END:VEVENT
BEGIN:VEVENT
DTSTART;TZID=Australia/Melbourne:20230912T080000
DTEND;TZID=Australia/Melbourne:20230912T090000
DTSTAMP:20260420T170511
CREATED:20230813T230117Z
LAST-MODIFIED:20230813T230117Z
UID:6745-1694505600-1694509200@www.gruc.org.au
SUMMARY:Praying Together
DESCRIPTION:“Every great movement of God can be traced to a kneeling figure”.  D. L. Moody   …   This is a precious time when we come together in Fellowship\, Prayer and to share Holy Communion. Please join us for the hour or pop in for however long you can stay.
URL:https://www.gruc.org.au/event/praying-together-53/
LOCATION:Gympie Uniting Church\, 15 Red Hill Road\, Gympie\, QLD\, 4570\, Australia
END:VEVENT
BEGIN:VEVENT
DTSTART;TZID=Australia/Melbourne:20230909T073000
DTEND;TZID=Australia/Melbourne:20230909T100000
DTSTAMP:20260420T170511
CREATED:20230821T014703Z
LAST-MODIFIED:20230825T002644Z
UID:6790-1694244600-1694253600@www.gruc.org.au
SUMMARY:Mary Valley School Chaplaincy Breakfast
DESCRIPTION:In support of Mary Valley School Chaplaincy\, you’re invited to a Community Breakfast at Kandanga Public Hall. Breakfast will be served any time between 7.30am and 9am.  Cost: $7 per person\, $24 for a family of 4 ($5 for each additional child).
URL:https://www.gruc.org.au/event/mary-valley-school-chaplaincy-breakfast-2/
LOCATION:Kandanga Public Hall\, 81 Main Street\, Kandanga\, Queensland\, 4570\, Australia
END:VEVENT
BEGIN:VEVENT
DTSTART;TZID=Australia/Melbourne:20230905T080000
DTEND;TZID=Australia/Melbourne:20230905T090000
DTSTAMP:20260420T170511
CREATED:20230813T230022Z
LAST-MODIFIED:20230813T230022Z
UID:6742-1693900800-1693904400@www.gruc.org.au
SUMMARY:Praying Together
DESCRIPTION:“Every great movement of God can be traced to a kneeling figure”.  D. L. Moody   …   This is a precious time when we come together in Fellowship\, Prayer and to share Holy Communion. Please join us for the hour or pop in for however long you can stay.
URL:https://www.gruc.org.au/event/praying-together-52/
LOCATION:Gympie Uniting Church\, 15 Red Hill Road\, Gympie\, QLD\, 4570\, Australia
END:VEVENT
BEGIN:VEVENT
DTSTART;TZID=Australia/Melbourne:20230903T090000
DTEND;TZID=Australia/Melbourne:20230903T110000
DTSTAMP:20260420T170511
CREATED:20230821T011212Z
LAST-MODIFIED:20230821T011832Z
UID:6774-1693731600-1693738800@www.gruc.org.au
SUMMARY:Father's Day ~ Imbil
DESCRIPTION:You’re invited to a special Father’s Day Service with our Imbil UC Family. We’ll meet in our church hall to worship\, hear a guest speaker and share some delicious morning tea and lively conversation. 
URL:https://www.gruc.org.au/event/fathers-day-imbil/
LOCATION:Imbil Uniting Church Hall\, 3 Elizabeth Street\, Imbil\, Queensland\, 4570\, Australia
END:VEVENT
BEGIN:VEVENT
DTSTART;TZID=Australia/Melbourne:20230903T090000
DTEND;TZID=Australia/Melbourne:20230903T103000
DTSTAMP:20260420T170511
CREATED:20230813T231236Z
LAST-MODIFIED:20230825T005759Z
UID:6761-1693731600-1693737000@www.gruc.org.au
SUMMARY:Father's Day Breakfast ~ Gympie
DESCRIPTION:We’re having a Father’s Day Breakfast Service … beginning at 9am sharp with Communion. Straight after that\, you can grab a sausage sanger and leave to go and do ‘Dad Stuff’ with your family or you can stay for breakfast\, doing some ‘Dad Stuff’ here together\, concluding at 10.30am. You are welcome to join us.
URL:https://www.gruc.org.au/event/fathers-day-breakfast/
LOCATION:Gympie Uniting Church\, 15 Red Hill Road\, Gympie\, QLD\, 4570\, Australia
END:VEVENT
BEGIN:VEVENT
DTSTART;TZID=Australia/Melbourne:20230829T080000
DTEND;TZID=Australia/Melbourne:20230829T090000
DTSTAMP:20260420T170511
CREATED:20230716T230241Z
LAST-MODIFIED:20230716T230241Z
UID:6701-1693296000-1693299600@www.gruc.org.au
SUMMARY:Praying Together
DESCRIPTION:Tuesday mornings for an hour from 8am. Why pray together? Because .. “Wherever prayer focuses the power of God falls” (2 Chronicles 7:14). This is a great time to come together in Fellowship\, Corporate Prayer and Holy Communion. Come along and join us for the hour or pop in for however long you can stay.
URL:https://www.gruc.org.au/event/praying-together-51/
LOCATION:Gympie Uniting Church\, 15 Red Hill Road\, Gympie\, QLD\, 4570\, Australia
END:VEVENT
BEGIN:VEVENT
DTSTART;TZID=Australia/Melbourne:20230822T080000
DTEND;TZID=Australia/Melbourne:20230822T090000
DTSTAMP:20260420T170511
CREATED:20230716T230215Z
LAST-MODIFIED:20230716T230215Z
UID:6699-1692691200-1692694800@www.gruc.org.au
SUMMARY:Praying Together
DESCRIPTION:Tuesday mornings for an hour from 8am. Why pray together? Because .. “Wherever prayer focuses the power of God falls” (2 Chronicles 7:14). This is a great time to come together in Fellowship\, Corporate Prayer and Holy Communion. Come along and join us for the hour or pop in for however long you can stay.
URL:https://www.gruc.org.au/event/praying-together-50/
LOCATION:Gympie Uniting Church\, 15 Red Hill Road\, Gympie\, QLD\, 4570\, Australia
END:VEVENT
BEGIN:VEVENT
DTSTART;TZID=Australia/Melbourne:20230821T080000
DTEND;TZID=Australia/Melbourne:20230821T170000
DTSTAMP:20260420T170511
CREATED:20230821T013918Z
LAST-MODIFIED:20230821T013918Z
UID:6788-1692604800-1692637200@www.gruc.org.au
SUMMARY:Mary Valley School Chaplaincy Breakfast
DESCRIPTION:
URL:https://www.gruc.org.au/event/mary-valley-school-chaplaincy-breakfast/
END:VEVENT
BEGIN:VEVENT
DTSTART;TZID=Australia/Melbourne:20230816T093000
DTEND;TZID=Australia/Melbourne:20230816T113000
DTSTAMP:20260420T170511
CREATED:20230731T000418Z
LAST-MODIFIED:20230731T000551Z
UID:6724-1692178200-1692185400@www.gruc.org.au
SUMMARY:Bible Society AGM & General Meeting
DESCRIPTION:The Gympie Branch of The Bible Society Australia is having its 2023 Annual General Meeting followed by their General Meeting (in the CE Room of Gympie Uniting Church). Everyone is welcome.
URL:https://www.gruc.org.au/event/bible-society-agm-general-meeting/
LOCATION:Gympie Uniting Church\, 15 Red Hill Road\, Gympie\, QLD\, 4570\, Australia
END:VEVENT
BEGIN:VEVENT
DTSTART;TZID=Australia/Melbourne:20230815T080000
DTEND;TZID=Australia/Melbourne:20230815T090000
DTSTAMP:20260420T170511
CREATED:20230716T230144Z
LAST-MODIFIED:20230716T230144Z
UID:6697-1692086400-1692090000@www.gruc.org.au
SUMMARY:Praying Together
DESCRIPTION:Tuesday mornings for an hour from 8am. Why pray together? Because .. “Wherever prayer focuses the power of God falls” (2 Chronicles 7:14). This is a great time to come together in Fellowship\, Corporate Prayer and Holy Communion. Come along and join us for the hour or pop in for however long you can stay.
URL:https://www.gruc.org.au/event/praying-together-49/
LOCATION:Gympie Uniting Church\, 15 Red Hill Road\, Gympie\, QLD\, 4570\, Australia
END:VEVENT
BEGIN:VEVENT
DTSTART;TZID=Australia/Melbourne:20230808T080000
DTEND;TZID=Australia/Melbourne:20230808T090000
DTSTAMP:20260420T170511
CREATED:20230716T230116Z
LAST-MODIFIED:20230716T230116Z
UID:6695-1691481600-1691485200@www.gruc.org.au
SUMMARY:Praying Together
DESCRIPTION:Tuesday mornings for an hour from 8am. Why pray together? Because .. “Wherever prayer focuses the power of God falls” (2 Chronicles 7:14). This is a great time to come together in Fellowship\, Corporate Prayer and Holy Communion. Come along and join us for the hour or pop in for however long you can stay.
URL:https://www.gruc.org.au/event/praying-together-48/
LOCATION:Gympie Uniting Church\, 15 Red Hill Road\, Gympie\, QLD\, 4570\, Australia
END:VEVENT
BEGIN:VEVENT
DTSTART;TZID=Australia/Melbourne:20230801T080000
DTEND;TZID=Australia/Melbourne:20230801T090000
DTSTAMP:20260420T170511
CREATED:20230716T230047Z
LAST-MODIFIED:20230716T230047Z
UID:6693-1690876800-1690880400@www.gruc.org.au
SUMMARY:Praying Together
DESCRIPTION:Tuesday mornings for an hour from 8am. Why pray together? Because .. “Wherever prayer focuses the power of God falls” (2 Chronicles 7:14). This is a great time to come together in Fellowship\, Corporate Prayer and Holy Communion. Come along and join us for the hour or pop in for however long you can stay.
URL:https://www.gruc.org.au/event/praying-together-47/
LOCATION:Gympie Uniting Church\, 15 Red Hill Road\, Gympie\, QLD\, 4570\, Australia
END:VEVENT
BEGIN:VEVENT
DTSTART;TZID=Australia/Melbourne:20230730T104500
DTEND;TZID=Australia/Melbourne:20230730T114500
DTSTAMP:20260420T170511
CREATED:20230702T222623Z
LAST-MODIFIED:20230716T230314Z
UID:6662-1690713900-1690717500@www.gruc.org.au
SUMMARY:Congregational Meeting
DESCRIPTION:
URL:https://www.gruc.org.au/event/congregational-meeting-7/
LOCATION:Gympie Uniting Church\, 15 Red Hill Road\, Gympie\, QLD\, 4570\, Australia
END:VEVENT
BEGIN:VEVENT
DTSTART;TZID=Australia/Melbourne:20230727T090000
DTEND;TZID=Australia/Melbourne:20230727T110000
DTSTAMP:20260420T170511
CREATED:20230702T225132Z
LAST-MODIFIED:20230724T014759Z
UID:6677-1690448400-1690455600@www.gruc.org.au
SUMMARY:Joy Circle
DESCRIPTION:Men and women of all ages spending time together in Joy\, Fellowship\, Mission and\, of course\, a delicious morning tea on the last Thursday of each month. Come and try!
URL:https://www.gruc.org.au/event/joy-circle-4/
LOCATION:Gympie Uniting Church\, 15 Red Hill Road\, Gympie\, QLD\, 4570\, Australia
END:VEVENT
BEGIN:VEVENT
DTSTART;TZID=Australia/Melbourne:20230725T080000
DTEND;TZID=Australia/Melbourne:20230725T090000
DTSTAMP:20260420T170511
CREATED:20230618T234223Z
LAST-MODIFIED:20230618T234223Z
UID:6646-1690272000-1690275600@www.gruc.org.au
SUMMARY:Praying Together
DESCRIPTION:Tuesday mornings for an hour from 8am. Why pray together? Because .. “Wherever prayer focuses the power of God falls” (2 Chronicles 7:14). This is a great time to come together in Fellowship\, Corporate Prayer and Holy Communion. Come along and join us for the hour or pop in for however long you can stay.
URL:https://www.gruc.org.au/event/praying-together-46/
LOCATION:Gympie Uniting Church\, 15 Red Hill Road\, Gympie\, QLD\, 4570\, Australia
END:VEVENT
BEGIN:VEVENT
DTSTART;TZID=Australia/Melbourne:20230723T143000
DTEND;TZID=Australia/Melbourne:20230723T160000
DTSTAMP:20260420T170511
CREATED:20230702T222843Z
LAST-MODIFIED:20230716T225941Z
UID:6664-1690122600-1690128000@www.gruc.org.au
SUMMARY:Hymn Fest
DESCRIPTION:Come along and sing some of your favourite hymns followed by afternoon tea together\, it would be great if you could bring a plate to share.
URL:https://www.gruc.org.au/event/hymn-fest/
LOCATION:Gympie Uniting Church\, 15 Red Hill Road\, Gympie\, QLD\, 4570\, Australia
END:VEVENT
BEGIN:VEVENT
DTSTART;TZID=Australia/Melbourne:20230718T080000
DTEND;TZID=Australia/Melbourne:20230718T090000
DTSTAMP:20260420T170511
CREATED:20230618T234156Z
LAST-MODIFIED:20230618T234156Z
UID:6644-1689667200-1689670800@www.gruc.org.au
SUMMARY:Praying Together
DESCRIPTION:Tuesday mornings for an hour from 8am. Why pray together? Because .. “Wherever prayer focuses the power of God falls” (2 Chronicles 7:14). This is a great time to come together in Fellowship\, Corporate Prayer and Holy Communion. Come along and join us for the hour or pop in for however long you can stay.
URL:https://www.gruc.org.au/event/praying-together-45/
LOCATION:Gympie Uniting Church\, 15 Red Hill Road\, Gympie\, QLD\, 4570\, Australia
END:VEVENT
BEGIN:VEVENT
DTSTART;TZID=Australia/Melbourne:20230711T080000
DTEND;TZID=Australia/Melbourne:20230711T090000
DTSTAMP:20260420T170511
CREATED:20230618T234122Z
LAST-MODIFIED:20230618T234122Z
UID:6642-1689062400-1689066000@www.gruc.org.au
SUMMARY:Praying Together
DESCRIPTION:Tuesday mornings for an hour from 8am. Why pray together? Because .. “Wherever prayer focuses the power of God falls” (2 Chronicles 7:14). This is a great time to come together in Fellowship\, Corporate Prayer and Holy Communion. Come along and join us for the hour or pop in for however long you can stay.
URL:https://www.gruc.org.au/event/praying-together-44/
LOCATION:Gympie Uniting Church\, 15 Red Hill Road\, Gympie\, QLD\, 4570\, Australia
END:VEVENT
BEGIN:VEVENT
DTSTART;TZID=Australia/Melbourne:20230704T080000
DTEND;TZID=Australia/Melbourne:20230704T090000
DTSTAMP:20260420T170511
CREATED:20230618T234056Z
LAST-MODIFIED:20230618T234056Z
UID:6640-1688457600-1688461200@www.gruc.org.au
SUMMARY:Praying Together
DESCRIPTION:Tuesday mornings for an hour from 8am. Why pray together? Because .. “Wherever prayer focuses the power of God falls” (2 Chronicles 7:14). This is a great time to come together in Fellowship\, Corporate Prayer and Holy Communion. Come along and join us for the hour or pop in for however long you can stay.
URL:https://www.gruc.org.au/event/praying-together-43/
LOCATION:Gympie Uniting Church\, 15 Red Hill Road\, Gympie\, QLD\, 4570\, Australia
END:VEVENT
BEGIN:VEVENT
DTSTART;TZID=Australia/Melbourne:20230627T080000
DTEND;TZID=Australia/Melbourne:20230627T090000
DTSTAMP:20260420T170511
CREATED:20230521T233044Z
LAST-MODIFIED:20230521T233044Z
UID:6608-1687852800-1687856400@www.gruc.org.au
SUMMARY:Praying Together
DESCRIPTION:Tuesday mornings for an hour from 8am. Why pray together? Because .. “Wherever prayer focuses the power of God falls” (2 Chronicles 7:14). This is a great time to come together in Fellowship\, Corporate Prayer and Holy Communion. Come along and join us for the hour or pop in for however long you can stay.
URL:https://www.gruc.org.au/event/praying-together-42/
LOCATION:Gympie Uniting Church\, 15 Red Hill Road\, Gympie\, QLD\, 4570\, Australia
END:VEVENT
BEGIN:VEVENT
DTSTART;TZID=Australia/Melbourne:20230620T080000
DTEND;TZID=Australia/Melbourne:20230620T090000
DTSTAMP:20260420T170511
CREATED:20230521T233018Z
LAST-MODIFIED:20230521T233018Z
UID:6606-1687248000-1687251600@www.gruc.org.au
SUMMARY:Praying Together
DESCRIPTION:Tuesday mornings for an hour from 8am. Why pray together? Because .. “Wherever prayer focuses the power of God falls” (2 Chronicles 7:14). This is a great time to come together in Fellowship\, Corporate Prayer and Holy Communion. Come along and join us for the hour or pop in for however long you can stay.
URL:https://www.gruc.org.au/event/praying-together-41/
LOCATION:Gympie Uniting Church\, 15 Red Hill Road\, Gympie\, QLD\, 4570\, Australia
END:VEVENT
BEGIN:VEVENT
DTSTART;TZID=Australia/Melbourne:20230613T080000
DTEND;TZID=Australia/Melbourne:20230613T090000
DTSTAMP:20260420T170511
CREATED:20230521T232947Z
LAST-MODIFIED:20230521T232947Z
UID:6604-1686643200-1686646800@www.gruc.org.au
SUMMARY:Praying Together
DESCRIPTION:Tuesday mornings for an hour from 8am. Why pray together? Because .. “Wherever prayer focuses the power of God falls” (2 Chronicles 7:14). This is a great time to come together in Fellowship\, Corporate Prayer and Holy Communion. Come along and join us for the hour or pop in for however long you can stay.
URL:https://www.gruc.org.au/event/praying-together-40/
LOCATION:Gympie Uniting Church\, 15 Red Hill Road\, Gympie\, QLD\, 4570\, Australia
END:VEVENT
BEGIN:VEVENT
DTSTART;TZID=Australia/Melbourne:20230606T080000
DTEND;TZID=Australia/Melbourne:20230606T090000
DTSTAMP:20260420T170511
CREATED:20230521T232918Z
LAST-MODIFIED:20230521T232918Z
UID:6602-1686038400-1686042000@www.gruc.org.au
SUMMARY:Praying Together
DESCRIPTION:Tuesday mornings for an hour from 8am. Why pray together? Because .. “Wherever prayer focuses the power of God falls” (2 Chronicles 7:14). This is a great time to come together in Fellowship\, Corporate Prayer and Holy Communion. Come along and join us for the hour or pop in for however long you can stay.
URL:https://www.gruc.org.au/event/praying-together-34/
LOCATION:Gympie Uniting Church\, 15 Red Hill Road\, Gympie\, QLD\, 4570\, Australia
END:VEVENT
BEGIN:VEVENT
DTSTART;TZID=Australia/Melbourne:20230530T080000
DTEND;TZID=Australia/Melbourne:20230530T090000
DTSTAMP:20260420T170511
CREATED:20230417T000402Z
LAST-MODIFIED:20230417T000420Z
UID:6546-1685433600-1685437200@www.gruc.org.au
SUMMARY:Praying Together
DESCRIPTION:Tuesday mornings for an hour from 8am. Why pray together? Because .. “Wherever prayer focuses the power of God falls” (2 Chronicles 7:14). This is a great time to come together in Fellowship\, Corporate Prayer and Holy Communion. Come along and join us for the hour or pop in for however long you can stay.
URL:https://www.gruc.org.au/event/praying-together-39/
LOCATION:Gympie Uniting Church\, 15 Red Hill Road\, Gympie\, QLD\, 4570\, Australia
END:VEVENT
BEGIN:VEVENT
DTSTART;TZID=Australia/Melbourne:20230528T100000
DTEND;TZID=Australia/Melbourne:20230528T123000
DTSTAMP:20260420T170511
CREATED:20230514T233034Z
LAST-MODIFIED:20230521T232819Z
UID:6590-1685268000-1685277000@www.gruc.org.au
SUMMARY:BBQ & Games
DESCRIPTION:After worship\, we’re going to have a BBQ and play games … Indoor and Outdoor games\, games for all ages! There’ll be loads of fun and laughs and delicious food\, so we hope you can stay for a while.
URL:https://www.gruc.org.au/event/bbq-games-3/
LOCATION:Gympie Uniting Church\, 15 Red Hill Road\, Gympie\, QLD\, 4570\, Australia
END:VEVENT
BEGIN:VEVENT
DTSTART;TZID=Australia/Melbourne:20230525T090000
DTEND;TZID=Australia/Melbourne:20230525T110000
DTSTAMP:20260420T170511
CREATED:20230507T223934Z
LAST-MODIFIED:20230521T232750Z
UID:6575-1685005200-1685012400@www.gruc.org.au
SUMMARY:JOY Circle
DESCRIPTION:‘Joy Circle‘ has been a great hit!  Men and women of all ages spending time together in Joy\, Fellowship\, Mission and\, of course\, a delicious morning tea on the last Thursday of each month. This month\, we Orrell will be serving his signature dish! Come and try.
URL:https://www.gruc.org.au/event/joy-circle-3/
LOCATION:CE Room
END:VEVENT
BEGIN:VEVENT
DTSTART;TZID=Australia/Melbourne:20230523T080000
DTEND;TZID=Australia/Melbourne:20230523T090000
DTSTAMP:20260420T170511
CREATED:20230417T000336Z
LAST-MODIFIED:20230417T000336Z
UID:6544-1684828800-1684832400@www.gruc.org.au
SUMMARY:Praying Together
DESCRIPTION:Tuesday mornings for an hour from 8am. Why pray together? Because .. “Wherever prayer focuses the power of God falls” (2 Chronicles 7:14). This is a great time to come together in Fellowship\, Corporate Prayer and Holy Communion. Come along and join us for the hour or pop in for however long you can stay.
URL:https://www.gruc.org.au/event/praying-together-38/
LOCATION:Gympie Uniting Church\, 15 Red Hill Road\, Gympie\, QLD\, 4570\, Australia
END:VEVENT
END:VCALENDAR