BEGIN:VCALENDAR
VERSION:2.0
PRODID:-//Gympie Regional Uniting Church - ECPv5.8.1//NONSGML v1.0//EN
CALSCALE:GREGORIAN
METHOD:PUBLISH
X-WR-CALNAME:Gympie Regional Uniting Church
X-ORIGINAL-URL:https://www.gruc.org.au
X-WR-CALDESC:Events for Gympie Regional Uniting Church
BEGIN:VTIMEZONE
TZID:Australia/Melbourne
BEGIN:STANDARD
TZOFFSETFROM:+1100
TZOFFSETTO:+1000
TZNAME:AEST
DTSTART:20230401T160000
END:STANDARD
BEGIN:DAYLIGHT
TZOFFSETFROM:+1000
TZOFFSETTO:+1100
TZNAME:AEDT
DTSTART:20230930T160000
END:DAYLIGHT
BEGIN:STANDARD
TZOFFSETFROM:+1100
TZOFFSETTO:+1000
TZNAME:AEST
DTSTART:20240406T160000
END:STANDARD
BEGIN:DAYLIGHT
TZOFFSETFROM:+1000
TZOFFSETTO:+1100
TZNAME:AEDT
DTSTART:20241005T160000
END:DAYLIGHT
END:VTIMEZONE
BEGIN:VEVENT
DTSTART;TZID=Australia/Melbourne:20240222T093000
DTEND;TZID=Australia/Melbourne:20240222T113000
DTSTAMP:20260420T181446
CREATED:20240122T233031Z
LAST-MODIFIED:20240122T233031Z
UID:7087-1708594200-1708601400@www.gruc.org.au
SUMMARY:Joy Circle
DESCRIPTION:Our team has been brainstorming ideas for Joy Circle 2024 – organising time and space for you to come together to participate in engaging and fun activities. We hope you can come along to the first of these revamped gatherings on 22nd February\, starting at the new time of 9:30am.
URL:https://www.gruc.org.au/event/joy-circle-5/
LOCATION:CE Room
END:VEVENT
BEGIN:VEVENT
DTSTART;TZID=Australia/Melbourne:20240221T093000
DTEND;TZID=Australia/Melbourne:20240221T110000
DTSTAMP:20260420T181446
CREATED:20240204T224937Z
LAST-MODIFIED:20240204T224937Z
UID:7120-1708507800-1708513200@www.gruc.org.au
SUMMARY:Morning Tea
DESCRIPTION:The members of the retired Bible Society (Gympie Branch) are meeting for morning tea at The coffee Club (Central Shopping Centre). They welcome you to join them.
URL:https://www.gruc.org.au/event/morning-tea/
LOCATION:QLD
END:VEVENT
BEGIN:VEVENT
DTSTART;TZID=Australia/Melbourne:20240213T080000
DTEND;TZID=Australia/Melbourne:20240213T090000
DTSTAMP:20260420T181446
CREATED:20240122T234640Z
LAST-MODIFIED:20240122T234640Z
UID:7091-1707811200-1707814800@www.gruc.org.au
SUMMARY:Prayer on Tuesdays
DESCRIPTION:Calling for Prayer Warriors! We have a small and dedicated group who meet weekly (Tuesday mornings) to pray and share in Communion. Please join us.
URL:https://www.gruc.org.au/event/prayer-on-tuesdays-11/
LOCATION:CE Room
END:VEVENT
BEGIN:VEVENT
DTSTART;TZID=Australia/Melbourne:20240206T080000
DTEND;TZID=Australia/Melbourne:20240206T090000
DTSTAMP:20260420T181446
CREATED:20240122T233552Z
LAST-MODIFIED:20240122T235020Z
UID:7089-1707206400-1707210000@www.gruc.org.au
SUMMARY:Prayer on Tuesdays
DESCRIPTION:“A prayer room is first and foremost a living room – a place where the Father waits for His children to come and climb into His arms” – Pete Greig \nA new year – new habits! Why not establish a new and healthy habit by coming to our very own Uniting 4570 Prayer Room? There you’ll join our small and dedicated band of Prayer Warriors who meet weekly\, of a Tuesday morning\, praying and sharing Communion. 
URL:https://www.gruc.org.au/event/prayer-on-tuesdays-10/
LOCATION:CE Room
END:VEVENT
BEGIN:VEVENT
DTSTART;TZID=Australia/Melbourne:20240130T080000
DTEND;TZID=Australia/Melbourne:20240130T090000
DTSTAMP:20260420T181446
CREATED:20231221T001014Z
LAST-MODIFIED:20231221T001014Z
UID:7043-1706601600-1706605200@www.gruc.org.au
SUMMARY:Prayer on Tuesdays
DESCRIPTION:Last year we prayed for more Prayer Warriors – and they came!  We’re praying the same prayer in 2024.  Will you be one of those who come? \nWe have a great time of fellowship\, of course prayer\, and we finish with sharing Communion. Just come when you can – and you don’t have to pray out loud.
URL:https://www.gruc.org.au/event/prayer-on-tuesdays-9/
LOCATION:CE Room
END:VEVENT
BEGIN:VEVENT
DTSTART;TZID=Australia/Melbourne:20240123T080000
DTEND;TZID=Australia/Melbourne:20240123T090000
DTSTAMP:20260420T181446
CREATED:20231221T000949Z
LAST-MODIFIED:20231221T000949Z
UID:7041-1705996800-1706000400@www.gruc.org.au
SUMMARY:Prayer on Tuesdays
DESCRIPTION:Last year we prayed for more Prayer Warriors – and they came!  We’re praying the same prayer in 2024.  Will you be one of those who come? \nWe have a great time of fellowship\, of course prayer\, and we finish with sharing Communion. Just come when you can – and you don’t have to pray out loud.
URL:https://www.gruc.org.au/event/prayer-on-tuesdays-8/
LOCATION:CE Room
END:VEVENT
BEGIN:VEVENT
DTSTART;TZID=Australia/Melbourne:20240116T080000
DTEND;TZID=Australia/Melbourne:20240116T090000
DTSTAMP:20260420T181446
CREATED:20231221T000917Z
LAST-MODIFIED:20231221T000917Z
UID:7039-1705392000-1705395600@www.gruc.org.au
SUMMARY:Prayer on Tuesdays
DESCRIPTION:Last year we prayed for more Prayer Warriors – and they came!  We’re praying the same prayer in 2024.  Will you be one of those who come? \nWe have a great time of fellowship\, of course prayer\, and we finish with sharing Communion. Just come when you can – and you don’t have to pray out loud. \n 
URL:https://www.gruc.org.au/event/prayer-on-tuesdays-7/
LOCATION:CE Room
END:VEVENT
BEGIN:VEVENT
DTSTART;TZID=Australia/Melbourne:20240109T080000
DTEND;TZID=Australia/Melbourne:20240109T090000
DTSTAMP:20260420T181446
CREATED:20231220T235823Z
LAST-MODIFIED:20231220T235823Z
UID:7037-1704787200-1704790800@www.gruc.org.au
SUMMARY:Prayer on Tuesdays
DESCRIPTION:Tuesday morning time of Prayer & Communion resumes on 9th January 2024. This is such a special time – we hope you’ll consider joining us in 2024.
URL:https://www.gruc.org.au/event/prayer-on-tuesdays-6/
LOCATION:CE Room
END:VEVENT
BEGIN:VEVENT
DTSTART;TZID=Australia/Melbourne:20231225T080000
DTEND;TZID=Australia/Melbourne:20231225T090000
DTSTAMP:20260420T181446
CREATED:20231204T000128Z
LAST-MODIFIED:20231207T013621Z
UID:6990-1703491200-1703494800@www.gruc.org.au
SUMMARY:Christmas Day Imbil
DESCRIPTION:You are welcome to join us as we celebrate Jesus’ birth with great joy and thankfulness. There will be 8am services at both our Gympie and Imbil locations.
URL:https://www.gruc.org.au/event/christmas-day-imbil-2/
LOCATION:Imbil Uniting Church\, 3 Elizabeth Street\, Imbil\, Queensland\, 4570\, Australia
END:VEVENT
BEGIN:VEVENT
DTSTART;TZID=Australia/Melbourne:20231225T080000
DTEND;TZID=Australia/Melbourne:20231225T090000
DTSTAMP:20260420T181446
CREATED:20231204T000053Z
LAST-MODIFIED:20231204T000053Z
UID:6988-1703491200-1703494800@www.gruc.org.au
SUMMARY:Christmas Day Gympie
DESCRIPTION:You are welcome to join us as we celebrate Jesus’ birth with great joy and thankfulness. There will be 8am services at both our Gympie and Imbil locations.
URL:https://www.gruc.org.au/event/christmas-day-gympie/
LOCATION:Gympie Uniting Church\, 15 Red Hill Road\, Gympie\, QLD\, 4570\, Australia
END:VEVENT
BEGIN:VEVENT
DTSTART;TZID=Australia/Melbourne:20231224T173000
DTEND;TZID=Australia/Melbourne:20231224T183000
DTSTAMP:20260420T181446
CREATED:20231203T235825Z
LAST-MODIFIED:20231207T013644Z
UID:6986-1703439000-1703442600@www.gruc.org.au
SUMMARY:Christmas Eve Imbil
DESCRIPTION:We’re having a Bush Family Christmas … we hope you can join us. (There will be no morning service).
URL:https://www.gruc.org.au/event/christmas-eve-imbil/
LOCATION:Imbil Uniting Church\, 3 Elizabeth Street\, Imbil\, Queensland\, 4570\, Australia
END:VEVENT
BEGIN:VEVENT
DTSTART;TZID=Australia/Melbourne:20231224T090000
DTEND;TZID=Australia/Melbourne:20231224T100000
DTSTAMP:20260420T181446
CREATED:20231203T235749Z
LAST-MODIFIED:20231204T231058Z
UID:6984-1703408400-1703412000@www.gruc.org.au
SUMMARY:Christmas Eve Gympie
DESCRIPTION:You are welcome to worship with us on Christmas Eve at our usual Sunday time of 9am.
URL:https://www.gruc.org.au/event/christmas-eve-gympie-2/
LOCATION:Gympie Uniting Church\, 15 Red Hill Road\, Gympie\, QLD\, 4570\, Australia
END:VEVENT
BEGIN:VEVENT
DTSTART;TZID=Australia/Melbourne:20231219T080000
DTEND;TZID=Australia/Melbourne:20231219T090000
DTSTAMP:20260420T181446
CREATED:20231210T234345Z
LAST-MODIFIED:20231210T234345Z
UID:7023-1702972800-1702976400@www.gruc.org.au
SUMMARY:Prayer on Tueasdays
DESCRIPTION:This will be a last gathering for 2023. We invite you to join us in fellowship\, prayer and Communion. We’ll come back together on the 9th January 2024. \n 
URL:https://www.gruc.org.au/event/prayer-on-tueasdays/
LOCATION:Gympie Uniting Church\, 15 Red Hill Road\, Gympie\, QLD\, 4570\, Australia
END:VEVENT
BEGIN:VEVENT
DTSTART;TZID=Australia/Melbourne:20231217T104500
DTEND;TZID=Australia/Melbourne:20231217T114500
DTSTAMP:20260420T181446
CREATED:20231203T230616Z
LAST-MODIFIED:20231203T230700Z
UID:6978-1702809900-1702813500@www.gruc.org.au
SUMMARY:Congregational Meeting
DESCRIPTION:We’re having a last Congregational Meeting for 2023 after our Gympie worship service on 17th December.
URL:https://www.gruc.org.au/event/congregational-meeting-8/
LOCATION:Gympie Uniting Church\, 15 Red Hill Road\, Gympie\, QLD\, 4570\, Australia
END:VEVENT
BEGIN:VEVENT
DTSTART;TZID=Australia/Melbourne:20231212T080000
DTEND;TZID=Australia/Melbourne:20231212T090000
DTSTAMP:20260420T181446
CREATED:20231210T234117Z
LAST-MODIFIED:20231210T234117Z
UID:7021-1702368000-1702371600@www.gruc.org.au
SUMMARY:Prayer on Tuesdays
DESCRIPTION:Come\, join us for the hour or pop in for however long you can stay – it’s an amazing time together. We chat\, we pray and we share in Communion. It’s a wonderful way to start the day. ”Our prayers may be awkward. Our attempts may be feeble. But since the power of prayer is in the one who hears it and not in the one who says it\, our prayers do make a difference.”  Max Lucado
URL:https://www.gruc.org.au/event/prayer-on-tuesdays-5/
LOCATION:Gympie Uniting Church\, 15 Red Hill Road\, Gympie\, QLD\, 4570\, Australia
END:VEVENT
BEGIN:VEVENT
DTSTART;TZID=Australia/Melbourne:20231209T170000
DTEND;TZID=Australia/Melbourne:20231209T200000
DTSTAMP:20260420T181446
CREATED:20231126T231913Z
LAST-MODIFIED:20231203T230424Z
UID:6966-1702141200-1702152000@www.gruc.org.au
SUMMARY:Join Us At The Long Table
DESCRIPTION:A great way to round off 2023 … a casual meal together at the Long Table and fun activities. We just ask that you bring a meal to share.
URL:https://www.gruc.org.au/event/join-us-at-the-long-table/
LOCATION:Gympie Uniting Church\, 15 Red Hill Road\, Gympie\, QLD\, 4570\, Australia
END:VEVENT
BEGIN:VEVENT
DTSTART;TZID=Australia/Melbourne:20231205T080000
DTEND;TZID=Australia/Melbourne:20231205T090000
DTSTAMP:20260420T181446
CREATED:20231210T234044Z
LAST-MODIFIED:20231210T234044Z
UID:7019-1701763200-1701766800@www.gruc.org.au
SUMMARY:Prayer on Tuesdays
DESCRIPTION:Come\, join us for the hour or pop in for however long you can stay – it’s an amazing time together. We chat\, we pray and we share in Communion. It’s a wonderful way to start the day. ”Our prayers may be awkward. Our attempts may be feeble. But since the power of prayer is in the one who hears it and not in the one who says it\, our prayers do make a difference.”  Max Lucado
URL:https://www.gruc.org.au/event/prayer-on-tuesdays-4/
LOCATION:Gympie Uniting Church\, 15 Red Hill Road\, Gympie\, QLD\, 4570\, Australia
END:VEVENT
BEGIN:VEVENT
DTSTART;TZID=Australia/Melbourne:20231203T090000
DTEND;TZID=Australia/Melbourne:20231203T113000
DTSTAMP:20260420T181446
CREATED:20231015T230217Z
LAST-MODIFIED:20231119T223432Z
UID:6886-1701594000-1701603000@www.gruc.org.au
SUMMARY:Children's Presentation and Graduation Service
DESCRIPTION:We’re having a special morning celebrating our Kidz Church and Uniting Early Learning Church Child Care and Family Day Care Graduation. We’re planning a super fun morning with a family worship service\, presentations\, delicious food\, photo opportunities and children’s games. 
URL:https://www.gruc.org.au/event/childrens-sunday/
LOCATION:Gympie Uniting Church\, 15 Red Hill Road\, Gympie\, QLD\, 4570\, Australia
END:VEVENT
BEGIN:VEVENT
DTSTART;TZID=Australia/Melbourne:20231201T093000
DTEND;TZID=Australia/Melbourne:20231201T110000
DTSTAMP:20260420T181446
CREATED:20230825T004451Z
LAST-MODIFIED:20231112T220858Z
UID:6811-1701423000-1701428400@www.gruc.org.au
SUMMARY:Bible Society Christmas Carols
DESCRIPTION:The Gympie Branch of The Bible Society is hosting a wonderful Christmas Carols Morning in our church. This will be The Gympie Branch’s last fundraiser and there will be opportunity to donate on the day. It would be great if you could bring some morning tea to share. We hope you can come with your family and friends.
URL:https://www.gruc.org.au/event/bible-society-christmas-carols/
LOCATION:Gympie Uniting Church\, 15 Red Hill Road\, Gympie\, QLD\, 4570\, Australia
END:VEVENT
BEGIN:VEVENT
DTSTART;TZID=Australia/Melbourne:20231128T080000
DTEND;TZID=Australia/Melbourne:20231128T090000
DTSTAMP:20260420T181446
CREATED:20231016T005112Z
LAST-MODIFIED:20231016T005112Z
UID:6900-1701158400-1701162000@www.gruc.org.au
SUMMARY:Prayer on Tuesdays
DESCRIPTION:Come\, join us for the hour or pop in for however long you can stay – it’s an amazing time together. We chat\, we pray and we share in Communion. It’s a wonderful way to start the day. ”Our prayers may be awkward. Our attempts may be feeble. But since the power of prayer is in the one who hears it and not in the one who says it\, our prayers do make a difference.”  Max Lucado
URL:https://www.gruc.org.au/event/prayer-on-tuesdays-3/
LOCATION:Gympie Uniting Church\, 15 Red Hill Road\, Gympie\, QLD\, 4570\, Australia
END:VEVENT
BEGIN:VEVENT
DTSTART;TZID=Australia/Melbourne:20231126T184500
DTEND;TZID=Australia/Melbourne:20231126T201500
DTSTAMP:20260420T181447
CREATED:20231119T224412Z
LAST-MODIFIED:20231119T224412Z
UID:6954-1701024300-1701029700@www.gruc.org.au
SUMMARY:The Matthew Drama
DESCRIPTION:The story of Jesus told in 90 minutes. This is a Wycliffe Bible Translators initiative presented by local Christians – and it’s FREE! Arrive by 6:45pm for a 7pm start.
URL:https://www.gruc.org.au/event/the-matthew-drama/
LOCATION:Cooloola Christian College\, 1 college Road\, Southside\, Qld\, 4570\, Australia
END:VEVENT
BEGIN:VEVENT
DTSTART;TZID=Australia/Melbourne:20231121T173000
DTEND;TZID=Australia/Melbourne:20231121T180000
DTSTAMP:20260420T181447
CREATED:20231119T224129Z
LAST-MODIFIED:20231119T224129Z
UID:6951-1700587800-1700589600@www.gruc.org.au
SUMMARY:Gympie Churches Prayer Event
DESCRIPTION:The Gympie Ministers Network is organising monthly prayer Meetings for our local church families. 30 minutes is allowed for prayer and then everyone is welcome to stay on for fellowship afterward. November prayer topics are: Praise and Thankfulness to God for recent blessings ~ Salvation in Gympie and surrounding areas ~ Rain ~ Middle East Peace. This is a great opportunity to come together with one voice keeping in mind that Prayer is the most important conversation of the day.
URL:https://www.gruc.org.au/event/gympie-churches-prayer-event/
LOCATION:Gympie Community Church\, cnr Pine and Myall Streets\, Gympie\, QLD\, 4570\, Australia
END:VEVENT
BEGIN:VEVENT
DTSTART;TZID=Australia/Melbourne:20231121T080000
DTEND;TZID=Australia/Melbourne:20231121T090000
DTSTAMP:20260420T181447
CREATED:20231016T005039Z
LAST-MODIFIED:20231016T005039Z
UID:6898-1700553600-1700557200@www.gruc.org.au
SUMMARY:Prayer on Tuesdays
DESCRIPTION:Come\, join us for the hour or pop in for however long you can stay – it’s an amazing time together. We chat\, we pray and we share in Communion. It’s a wonderful way to start the day. ”Our prayers may be awkward. Our attempts may be feeble. But since the power of prayer is in the one who hears it and not in the one who says it\, our prayers do make a difference.”  Max Lucado
URL:https://www.gruc.org.au/event/prayer-on-tuesdays-2/
LOCATION:Gympie Uniting Church\, 15 Red Hill Road\, Gympie\, QLD\, 4570\, Australia
END:VEVENT
BEGIN:VEVENT
DTSTART;TZID=Australia/Melbourne:20231115T093000
DTEND;TZID=Australia/Melbourne:20231115T110000
DTSTAMP:20260420T181447
CREATED:20231015T225919Z
LAST-MODIFIED:20231112T220751Z
UID:6884-1700040600-1700046000@www.gruc.org.au
SUMMARY:Bible Society Meeting
DESCRIPTION:The Gympie Branch of The Bible Society will convene for their final meeting on 15th November and you are welcome to come. 
URL:https://www.gruc.org.au/event/bible-society-meeting-11/
LOCATION:CE Room
END:VEVENT
BEGIN:VEVENT
DTSTART;TZID=Australia/Melbourne:20231114T080000
DTEND;TZID=Australia/Melbourne:20231114T090000
DTSTAMP:20260420T181447
CREATED:20231016T005009Z
LAST-MODIFIED:20231016T005009Z
UID:6896-1699948800-1699952400@www.gruc.org.au
SUMMARY:Prayer on Tuesdays
DESCRIPTION:Come\, join us for the hour or pop in for however long you can stay – it’s an amazing time together. We chat\, we pray and we share in Communion. It’s a wonderful way to start the day. ”Our prayers may be awkward. Our attempts may be feeble. But since the power of prayer is in the one who hears it and not in the one who says it\, our prayers do make a difference.”  Max Lucado
URL:https://www.gruc.org.au/event/prayer-on-tuesdays/
LOCATION:Gympie Uniting Church\, 15 Red Hill Road\, Gympie\, QLD\, 4570\, Australia
END:VEVENT
BEGIN:VEVENT
DTSTART;TZID=Australia/Melbourne:20231112T133000
DTEND;TZID=Australia/Melbourne:20231112T143000
DTSTAMP:20260420T181447
CREATED:20231015T225748Z
LAST-MODIFIED:20231015T225748Z
UID:6882-1699795800-1699799400@www.gruc.org.au
SUMMARY:AGM
DESCRIPTION:Our Uniting 4570 Annual General Meeting is set for Sunday\, 12th November 2023\, 1.30pm in our Gympie Church. We hope you can join us as we review our activities and achievements over the 2022/2023 financial year and look ahead with our vision and plans. focusing on Jesus’ mission and discipleship.
URL:https://www.gruc.org.au/event/agm-3/
LOCATION:Gympie Uniting Church\, 15 Red Hill Road\, Gympie\, QLD\, 4570\, Australia
END:VEVENT
BEGIN:VEVENT
DTSTART;TZID=Australia/Melbourne:20231107T080000
DTEND;TZID=Australia/Melbourne:20231107T090000
DTSTAMP:20260420T181447
CREATED:20231015T234316Z
LAST-MODIFIED:20231016T004938Z
UID:6891-1699344000-1699347600@www.gruc.org.au
SUMMARY:Prayer on Tuesdays
DESCRIPTION:Come\, join us for the hour or pop in for however long you can stay – it’s an amazing time together. We chat\, we pray and we share in Communion. It’s a wonderful way to start the day. ”Our prayers may be awkward. Our attempts may be feeble. But since the power of prayer is in the one who hears it and not in the one who says it\, our prayers do make a difference.”  Max Lucado
URL:https://www.gruc.org.au/event/tuesday-prayer-communion/
LOCATION:Gympie Uniting Church\, 15 Red Hill Road\, Gympie\, QLD\, 4570\, Australia
END:VEVENT
BEGIN:VEVENT
DTSTART;TZID=Australia/Melbourne:20231102T090000
DTEND;TZID=Australia/Melbourne:20231102T110000
DTSTAMP:20260420T181447
CREATED:20231015T225516Z
LAST-MODIFIED:20231015T225516Z
UID:6880-1698915600-1698922800@www.gruc.org.au
SUMMARY:Joy Circle Party
DESCRIPTION:We’re having a fun Christmas/End of year Party – hope you can come. \n2024 We have a Joy Circle Team … they are developing some new ideas for next year – we’ll keep you posted.
URL:https://www.gruc.org.au/event/joy-circle-party/
LOCATION:CE Room
END:VEVENT
BEGIN:VEVENT
DTSTART;TZID=Australia/Melbourne:20231031T080000
DTEND;TZID=Australia/Melbourne:20231031T090000
DTSTAMP:20260420T181447
CREATED:20230813T230446Z
LAST-MODIFIED:20230813T230446Z
UID:6759-1698739200-1698742800@www.gruc.org.au
SUMMARY:Praying Together
DESCRIPTION:“Every great movement of God can be traced to a kneeling figure”.  D. L. Moody   …   This is a precious time when we come together in Fellowship\, Prayer and to share Holy Communion. Please join us for the hour or pop in for however long you can stay.
URL:https://www.gruc.org.au/event/praying-together-60/
LOCATION:Gympie Uniting Church\, 15 Red Hill Road\, Gympie\, QLD\, 4570\, Australia
END:VEVENT
BEGIN:VEVENT
DTSTART;TZID=Australia/Melbourne:20231024T080000
DTEND;TZID=Australia/Melbourne:20231024T090000
DTSTAMP:20260420T181447
CREATED:20230813T230416Z
LAST-MODIFIED:20230813T230416Z
UID:6757-1698134400-1698138000@www.gruc.org.au
SUMMARY:Praying Together
DESCRIPTION:“Every great movement of God can be traced to a kneeling figure”.  D. L. Moody   …   This is a precious time when we come together in Fellowship\, Prayer and to share Holy Communion. Please join us for the hour or pop in for however long you can stay.
URL:https://www.gruc.org.au/event/praying-together-59/
LOCATION:Gympie Uniting Church\, 15 Red Hill Road\, Gympie\, QLD\, 4570\, Australia
END:VEVENT
END:VCALENDAR