BEGIN:VCALENDAR
VERSION:2.0
PRODID:-//Gympie Regional Uniting Church - ECPv5.8.1//NONSGML v1.0//EN
CALSCALE:GREGORIAN
METHOD:PUBLISH
X-WR-CALNAME:Gympie Regional Uniting Church
X-ORIGINAL-URL:https://www.gruc.org.au
X-WR-CALDESC:Events for Gympie Regional Uniting Church
BEGIN:VTIMEZONE
TZID:Australia/Melbourne
BEGIN:STANDARD
TZOFFSETFROM:+1100
TZOFFSETTO:+1000
TZNAME:AEST
DTSTART:20250405T160000
END:STANDARD
BEGIN:DAYLIGHT
TZOFFSETFROM:+1000
TZOFFSETTO:+1100
TZNAME:AEDT
DTSTART:20251004T160000
END:DAYLIGHT
END:VTIMEZONE
BEGIN:VEVENT
DTSTART;TZID=Australia/Melbourne:20250218T080000
DTEND;TZID=Australia/Melbourne:20250218T090000
DTSTAMP:20260420T010035
CREATED:20250128T004629Z
LAST-MODIFIED:20250128T004705Z
UID:7823-1739865600-1739869200@www.gruc.org.au
SUMMARY:Tuesday Prayer
DESCRIPTION:Our Prayer Warriors meet weekly (Tuesday mornings) to pray and share in Communion. Everyone is very welcome to join us.
URL:https://www.gruc.org.au/event/tuesday-prayer-40/
LOCATION:CE Room
END:VEVENT
BEGIN:VEVENT
DTSTART;TZID=Australia/Melbourne:20250218T180000
DTEND;TZID=Australia/Melbourne:20250218T183000
DTSTAMP:20260420T010035
CREATED:20250202T235649Z
LAST-MODIFIED:20250202T235649Z
UID:7845-1739901600-1739903400@www.gruc.org.au
SUMMARY:Combined Churches Prayer Meeting
DESCRIPTION:This is a time when members of various Gympie Churches come together to pray for half an hour – meeting at different churches each month and everyone is welcome to enjoy some fellowship after the meeting. Prayer topics for February 2025 include: \n\nPraise and Thankfulness to God for recent blessings\nSalvation in Gympie and the surrounding areas\nMiddle East Peace.
URL:https://www.gruc.org.au/event/combined-churches-prayer-meeting-7/
LOCATION:Gympie Apostolic Church\, 11 Atkinson Road\, Araluen\, QLD\, 4570\, Australia
END:VEVENT
END:VCALENDAR