BEGIN:VCALENDAR
VERSION:2.0
PRODID:-//Gympie Regional Uniting Church - ECPv5.8.1//NONSGML v1.0//EN
CALSCALE:GREGORIAN
METHOD:PUBLISH
X-WR-CALNAME:Gympie Regional Uniting Church
X-ORIGINAL-URL:https://www.gruc.org.au
X-WR-CALDESC:Events for Gympie Regional Uniting Church
BEGIN:VTIMEZONE
TZID:Australia/Melbourne
BEGIN:STANDARD
TZOFFSETFROM:+1100
TZOFFSETTO:+1000
TZNAME:AEST
DTSTART:20250405T160000
END:STANDARD
BEGIN:DAYLIGHT
TZOFFSETFROM:+1000
TZOFFSETTO:+1100
TZNAME:AEDT
DTSTART:20251004T160000
END:DAYLIGHT
END:VTIMEZONE
BEGIN:VEVENT
DTSTART;TZID=Australia/Melbourne:20250216T143000
DTEND;TZID=Australia/Melbourne:20250216T160000
DTSTAMP:20260420T010034
CREATED:20250128T004743Z
LAST-MODIFIED:20250128T005020Z
UID:7826-1739716200-1739721600@www.gruc.org.au
SUMMARY:HymnFest
DESCRIPTION:Come along and sing some of your favourite hymns and choruses for about an hour and wind up with a delicious afternoon tea. Those who come along to our HymnFests in the past have enjoyed them immensely. Everyone is welcome.
URL:https://www.gruc.org.au/event/hymnfest-4/
LOCATION:Gympie Uniting Church\, 15 Red Hill Road\, Gympie\, QLD\, 4570\, Australia
END:VEVENT
END:VCALENDAR