BEGIN:VCALENDAR
VERSION:2.0
PRODID:-//Gympie Regional Uniting Church - ECPv5.8.1//NONSGML v1.0//EN
CALSCALE:GREGORIAN
METHOD:PUBLISH
X-WR-CALNAME:Gympie Regional Uniting Church
X-ORIGINAL-URL:https://www.gruc.org.au
X-WR-CALDESC:Events for Gympie Regional Uniting Church
BEGIN:VTIMEZONE
TZID:Australia/Melbourne
BEGIN:STANDARD
TZOFFSETFROM:+1100
TZOFFSETTO:+1000
TZNAME:AEST
DTSTART:20240406T160000
END:STANDARD
BEGIN:DAYLIGHT
TZOFFSETFROM:+1000
TZOFFSETTO:+1100
TZNAME:AEDT
DTSTART:20241005T160000
END:DAYLIGHT
END:VTIMEZONE
BEGIN:VEVENT
DTSTART;TZID=Australia/Melbourne:20241225T080000
DTEND;TZID=Australia/Melbourne:20241225T090000
DTSTAMP:20260420T033956
CREATED:20241110T232215Z
LAST-MODIFIED:20241203T005546Z
UID:7716-1735113600-1735117200@www.gruc.org.au
SUMMARY:Christmas Day ~ Imbil
DESCRIPTION:Our Imbil Christmas Day Service will commence at 8am.
URL:https://www.gruc.org.au/event/christmas-day-imbil-3/
LOCATION:Imbil Uniting Church\, 3 Elizabeth Street\, Imbil\, Queensland\, 4570\, Australia
END:VEVENT
BEGIN:VEVENT
DTSTART;TZID=Australia/Melbourne:20241225T080000
DTEND;TZID=Australia/Melbourne:20241225T090000
DTSTAMP:20260420T033956
CREATED:20241110T232301Z
LAST-MODIFIED:20241203T005510Z
UID:7718-1735113600-1735117200@www.gruc.org.au
SUMMARY:Christmas Day ~ Gympie
DESCRIPTION:Our Christmas Day worship service will commence at 8am.
URL:https://www.gruc.org.au/event/christmas-day-gympie-2/
LOCATION:Gympie Uniting Church\, 15 Red Hill Road\, Gympie\, QLD\, 4570\, Australia
END:VEVENT
END:VCALENDAR