BEGIN:VCALENDAR
VERSION:2.0
PRODID:-//Gympie Regional Uniting Church - ECPv5.8.1//NONSGML v1.0//EN
CALSCALE:GREGORIAN
METHOD:PUBLISH
X-WR-CALNAME:Gympie Regional Uniting Church
X-ORIGINAL-URL:https://www.gruc.org.au
X-WR-CALDESC:Events for Gympie Regional Uniting Church
BEGIN:VTIMEZONE
TZID:Australia/Melbourne
BEGIN:STANDARD
TZOFFSETFROM:+1100
TZOFFSETTO:+1000
TZNAME:AEST
DTSTART:20240406T160000
END:STANDARD
BEGIN:DAYLIGHT
TZOFFSETFROM:+1000
TZOFFSETTO:+1100
TZNAME:AEDT
DTSTART:20241005T160000
END:DAYLIGHT
END:VTIMEZONE
BEGIN:VEVENT
DTSTART;TZID=Australia/Melbourne:20241201T090000
DTEND;TZID=Australia/Melbourne:20241201T120000
DTSTAMP:20260420T033946
CREATED:20241014T001730Z
LAST-MODIFIED:20241015T003359Z
UID:7660-1733043600-1733054400@www.gruc.org.au
SUMMARY:Children's Graduation Celebration
DESCRIPTION:We hope you can join us in celebrating all those children from our Child Care Centre and Family Day Care who are transitioning to Prep in 2025. We’re planning a fun Worship Service followed by Games\, ‘Happy Snap’ opportunity and a delicious feast. \n 
URL:https://www.gruc.org.au/event/childrens-graduation-celebration/
LOCATION:Gympie Uniting Church\, 15 Red Hill Road\, Gympie\, QLD\, 4570\, Australia
END:VEVENT
END:VCALENDAR