BEGIN:VCALENDAR
VERSION:2.0
PRODID:-//Gympie Regional Uniting Church - ECPv5.8.1//NONSGML v1.0//EN
CALSCALE:GREGORIAN
METHOD:PUBLISH
X-WR-CALNAME:Gympie Regional Uniting Church
X-ORIGINAL-URL:https://www.gruc.org.au
X-WR-CALDESC:Events for Gympie Regional Uniting Church
BEGIN:VTIMEZONE
TZID:Australia/Melbourne
BEGIN:STANDARD
TZOFFSETFROM:+1100
TZOFFSETTO:+1000
TZNAME:AEST
DTSTART:20230401T160000
END:STANDARD
BEGIN:DAYLIGHT
TZOFFSETFROM:+1000
TZOFFSETTO:+1100
TZNAME:AEDT
DTSTART:20230930T160000
END:DAYLIGHT
END:VTIMEZONE
BEGIN:VEVENT
DTSTART;TZID=Australia/Melbourne:20230224T063000
DTEND;TZID=Australia/Melbourne:20230224T083000
DTSTAMP:20260423T025757
CREATED:20230207T011647Z
LAST-MODIFIED:20230219T233925Z
UID:6388-1677220200-1677227400@www.gruc.org.au
SUMMARY:Gympie Community Prayer Breakfast
DESCRIPTION:Memorial Park. Guest speaker will be acclaimed violinist\, Hayden Wiseman. Great opportunity to come together in our community.
URL:https://www.gruc.org.au/event/gympie-community-prayer-breakfast/
LOCATION:Memorial Park\, Gympie\, Queensland\, Australia
END:VEVENT
END:VCALENDAR