BEGIN:VCALENDAR
VERSION:2.0
PRODID:-//Gympie Regional Uniting Church - ECPv5.8.1//NONSGML v1.0//EN
CALSCALE:GREGORIAN
METHOD:PUBLISH
X-WR-CALNAME:Gympie Regional Uniting Church
X-ORIGINAL-URL:https://www.gruc.org.au
X-WR-CALDESC:Events for Gympie Regional Uniting Church
BEGIN:VTIMEZONE
TZID:Australia/Melbourne
BEGIN:STANDARD
TZOFFSETFROM:+1100
TZOFFSETTO:+1000
TZNAME:AEST
DTSTART:20230401T160000
END:STANDARD
BEGIN:DAYLIGHT
TZOFFSETFROM:+1000
TZOFFSETTO:+1100
TZNAME:AEDT
DTSTART:20230930T160000
END:DAYLIGHT
END:VTIMEZONE
BEGIN:VEVENT
DTSTART;TZID=Australia/Melbourne:20230129T090000
DTEND;TZID=Australia/Melbourne:20230129T100000
DTSTAMP:20260423T042937
CREATED:20221211T231155Z
LAST-MODIFIED:20221211T231155Z
UID:6289-1674982800-1674986400@www.gruc.org.au
SUMMARY:KIDZ Church 2023
DESCRIPTION:We have a great Kidz Church program at our Gympie Church during school terms. The children join us for the first part of our 9am service and then move to their own space to go on an adventure through the Bible participating in fun and creative activities. Afterwards\, they join the adults for some delicious morning tea. Kidz Church is having a break over the summer holidays and will be back on 29th January 2023.
URL:https://www.gruc.org.au/event/kidz-church-2023/
LOCATION:Gympie Uniting Church\, 15 Red Hill Road\, Gympie\, QLD\, 4570\, Australia
END:VEVENT
END:VCALENDAR