BEGIN:VCALENDAR
VERSION:2.0
PRODID:-//Gympie Regional Uniting Church - ECPv5.8.1//NONSGML v1.0//EN
CALSCALE:GREGORIAN
METHOD:PUBLISH
X-WR-CALNAME:Gympie Regional Uniting Church
X-ORIGINAL-URL:https://www.gruc.org.au
X-WR-CALDESC:Events for Gympie Regional Uniting Church
BEGIN:VTIMEZONE
TZID:Australia/Melbourne
BEGIN:STANDARD
TZOFFSETFROM:+1100
TZOFFSETTO:+1000
TZNAME:AEST
DTSTART:20230401T160000
END:STANDARD
BEGIN:DAYLIGHT
TZOFFSETFROM:+1000
TZOFFSETTO:+1100
TZNAME:AEDT
DTSTART:20230930T160000
END:DAYLIGHT
END:VTIMEZONE
BEGIN:VEVENT
DTSTART;TZID=Australia/Melbourne:20230124T080000
DTEND;TZID=Australia/Melbourne:20230124T090000
DTSTAMP:20260423T121826
CREATED:20221211T230215Z
LAST-MODIFIED:20221211T230215Z
UID:6283-1674547200-1674550800@www.gruc.org.au
SUMMARY:Praying Together
DESCRIPTION:Tuesday mornings for an hour from 8am. Why pray together? Because .. “Wherever prayer focuses the power of God falls” (2 Chronicles 7:14). This is a great time to come together in Fellowship\, Corporate Prayer and Holy Communion. Come along and join us for the hour or pop in for however long you can stay.
URL:https://www.gruc.org.au/event/praying-together-21/
LOCATION:Gympie Uniting Church\, 15 Red Hill Road\, Gympie\, QLD\, 4570\, Australia
END:VEVENT
END:VCALENDAR