BEGIN:VCALENDAR
VERSION:2.0
PRODID:-//Gympie Regional Uniting Church - ECPv5.8.1//NONSGML v1.0//EN
CALSCALE:GREGORIAN
METHOD:PUBLISH
X-WR-CALNAME:Gympie Regional Uniting Church
X-ORIGINAL-URL:https://www.gruc.org.au
X-WR-CALDESC:Events for Gympie Regional Uniting Church
BEGIN:VTIMEZONE
TZID:Australia/Melbourne
BEGIN:STANDARD
TZOFFSETFROM:+1100
TZOFFSETTO:+1000
TZNAME:AEST
DTSTART:20190406T160000
END:STANDARD
BEGIN:DAYLIGHT
TZOFFSETFROM:+1000
TZOFFSETTO:+1100
TZNAME:AEDT
DTSTART:20191005T160000
END:DAYLIGHT
END:VTIMEZONE
BEGIN:VEVENT
DTSTART;TZID=Australia/Melbourne:20191115T093000
DTEND;TZID=Australia/Melbourne:20191115T110000
DTSTAMP:20260421T200615
CREATED:20190603T025428Z
LAST-MODIFIED:20191114T023018Z
UID:3395-1573810200-1573815600@www.gruc.org.au
SUMMARY:Valley Cuppa
DESCRIPTION:We all love a chat over a cuppa so come along and join us for some great company. We try to catch up on the 3rd Friday of the month.
URL:https://www.gruc.org.au/event/valley-cuppa-8/
LOCATION:Click Clack Cafe\, 3 Busby Street\, Amamoor\, Queensland\, 4570\, Australia
END:VEVENT
END:VCALENDAR