BEGIN:VCALENDAR
VERSION:2.0
PRODID:-//Gympie Regional Uniting Church - ECPv5.8.1//NONSGML v1.0//EN
CALSCALE:GREGORIAN
METHOD:PUBLISH
X-WR-CALNAME:Gympie Regional Uniting Church
X-ORIGINAL-URL:https://www.gruc.org.au
X-WR-CALDESC:Events for Gympie Regional Uniting Church
BEGIN:VTIMEZONE
TZID:Australia/Melbourne
BEGIN:STANDARD
TZOFFSETFROM:+1100
TZOFFSETTO:+1000
TZNAME:AEST
DTSTART:20170401T160000
END:STANDARD
BEGIN:DAYLIGHT
TZOFFSETFROM:+1000
TZOFFSETTO:+1100
TZNAME:AEDT
DTSTART:20170930T160000
END:DAYLIGHT
END:VTIMEZONE
BEGIN:VEVENT
DTSTART;TZID=Australia/Melbourne:20170813T160000
DTEND;TZID=Australia/Melbourne:20170813T180000
DTSTAMP:20260422T051557
CREATED:20170626T001434Z
LAST-MODIFIED:20170704T021745Z
UID:1522-1502640000-1502647200@www.gruc.org.au
SUMMARY:Messy Family Fun
DESCRIPTION:
URL:https://www.gruc.org.au/event/messy-family-fun-3/
LOCATION:Imbil Uniting Church\, 3 Elizabeth Street\, Imbil\, Queensland\, 4570\, Australia
END:VEVENT
END:VCALENDAR