BEGIN:VCALENDAR
VERSION:2.0
PRODID:-//Gympie Regional Uniting Church - ECPv5.8.1//NONSGML v1.0//EN
CALSCALE:GREGORIAN
METHOD:PUBLISH
X-WR-CALNAME:Gympie Regional Uniting Church
X-ORIGINAL-URL:https://www.gruc.org.au
X-WR-CALDESC:Events for Gympie Regional Uniting Church
BEGIN:VTIMEZONE
TZID:Australia/Melbourne
BEGIN:STANDARD
TZOFFSETFROM:+1100
TZOFFSETTO:+1000
TZNAME:AEST
DTSTART:20180331T160000
END:STANDARD
BEGIN:DAYLIGHT
TZOFFSETFROM:+1000
TZOFFSETTO:+1100
TZNAME:AEDT
DTSTART:20181006T160000
END:DAYLIGHT
END:VTIMEZONE
BEGIN:VEVENT
DTSTART;TZID=Australia/Melbourne:20180814T093000
DTEND;TZID=Australia/Melbourne:20180814T110000
DTSTAMP:20260421T180324
CREATED:20180709T015710Z
LAST-MODIFIED:20180709T015740Z
UID:2488-1534239000-1534244400@www.gruc.org.au
SUMMARY:Men's Chat ~ Gympie
DESCRIPTION:A great opportunity for our men to gather for great company and conversation.
URL:https://www.gruc.org.au/event/mens-chat-gympie-2/
LOCATION:d’Cafe\, Southside
END:VEVENT
END:VCALENDAR