BEGIN:VCALENDAR
VERSION:2.0
PRODID:-//Gympie Regional Uniting Church - ECPv5.8.1//NONSGML v1.0//EN
CALSCALE:GREGORIAN
METHOD:PUBLISH
X-WR-CALNAME:Gympie Regional Uniting Church
X-ORIGINAL-URL:https://www.gruc.org.au
X-WR-CALDESC:Events for Gympie Regional Uniting Church
BEGIN:VTIMEZONE
TZID:Australia/Melbourne
BEGIN:STANDARD
TZOFFSETFROM:+1100
TZOFFSETTO:+1000
TZNAME:AEST
DTSTART:20180331T160000
END:STANDARD
BEGIN:DAYLIGHT
TZOFFSETFROM:+1000
TZOFFSETTO:+1100
TZNAME:AEDT
DTSTART:20181006T160000
END:DAYLIGHT
END:VTIMEZONE
BEGIN:VEVENT
DTSTART;TZID=Australia/Melbourne:20180109T093000
DTEND;TZID=Australia/Melbourne:20180109T110000
DTSTAMP:20260421T211538
CREATED:20171219T015659Z
LAST-MODIFIED:20171219T015659Z
UID:2028-1515490200-1515495600@www.gruc.org.au
SUMMARY:Men's Chat
DESCRIPTION:
URL:https://www.gruc.org.au/event/mens-chat-7/
LOCATION:d’Cafe\, Southside
END:VEVENT
END:VCALENDAR