BEGIN:VCALENDAR
VERSION:2.0
PRODID:-//Gympie Regional Uniting Church - ECPv5.8.1//NONSGML v1.0//EN
CALSCALE:GREGORIAN
METHOD:PUBLISH
X-WR-CALNAME:Gympie Regional Uniting Church
X-ORIGINAL-URL:https://www.gruc.org.au
X-WR-CALDESC:Events for Gympie Regional Uniting Church
BEGIN:VTIMEZONE
TZID:Australia/Melbourne
BEGIN:STANDARD
TZOFFSETFROM:+1100
TZOFFSETTO:+1000
TZNAME:AEST
DTSTART:20190406T160000
END:STANDARD
BEGIN:DAYLIGHT
TZOFFSETFROM:+1000
TZOFFSETTO:+1100
TZNAME:AEDT
DTSTART:20191005T160000
END:DAYLIGHT
END:VTIMEZONE
BEGIN:VEVENT
DTSTART;TZID=Australia/Melbourne:20190222T080000
DTEND;TZID=Australia/Melbourne:20190222T170000
DTSTAMP:20260420T194905
CREATED:20190204T002634Z
LAST-MODIFIED:20190204T002707Z
UID:2957-1550822400-1550854800@www.gruc.org.au
SUMMARY:Mayoral Prayer Breakfast
DESCRIPTION:Our church has reserved some tables.  This year’s event will feature the dynamic Lisa McInnes-Smith as keynote speaker.  We’ll be entertained\, served breakfast and enjoy some great conversation around the table.  $20 per person.  If you’d like to come along\, please contact our church office to book your seat.
URL:https://www.gruc.org.au/event/mayoral-prayer-breakfast/
LOCATION:Pavilion\, Gympie Showgrounds\, 77 Exhibition Road\, Southside\, Qld\, 4570\, Australia
END:VEVENT
END:VCALENDAR