BEGIN:VCALENDAR
VERSION:2.0
PRODID:-//Gympie Regional Uniting Church - ECPv5.8.1//NONSGML v1.0//EN
CALSCALE:GREGORIAN
METHOD:PUBLISH
X-WR-CALNAME:Gympie Regional Uniting Church
X-ORIGINAL-URL:https://www.gruc.org.au
X-WR-CALDESC:Events for Gympie Regional Uniting Church
BEGIN:VTIMEZONE
TZID:Australia/Melbourne
BEGIN:STANDARD
TZOFFSETFROM:+1100
TZOFFSETTO:+1000
TZNAME:AEST
DTSTART:20190406T160000
END:STANDARD
BEGIN:DAYLIGHT
TZOFFSETFROM:+1000
TZOFFSETTO:+1100
TZNAME:AEDT
DTSTART:20191005T160000
END:DAYLIGHT
END:VTIMEZONE
BEGIN:VEVENT
DTSTART;TZID=Australia/Melbourne:20190321T100000
DTEND;TZID=Australia/Melbourne:20190321T113000
DTSTAMP:20260421T180200
CREATED:20190219T000924Z
LAST-MODIFIED:20190219T000924Z
UID:3048-1553162400-1553167800@www.gruc.org.au
SUMMARY:Join Us for a Cuppa
DESCRIPTION:Thursday Mornings … we’d love you to come and enjoy great company and conversation at d’Cafe (Southside ~ Gympie).
URL:https://www.gruc.org.au/event/join-us-for-a-cuppa-22/
LOCATION:d’Cafe\, Southside
END:VEVENT
END:VCALENDAR