BEGIN:VCALENDAR
VERSION:2.0
PRODID:-//Gympie Regional Uniting Church - ECPv5.8.1//NONSGML v1.0//EN
CALSCALE:GREGORIAN
METHOD:PUBLISH
X-WR-CALNAME:Gympie Regional Uniting Church
X-ORIGINAL-URL:https://www.gruc.org.au
X-WR-CALDESC:Events for Gympie Regional Uniting Church
BEGIN:VTIMEZONE
TZID:Australia/Melbourne
BEGIN:STANDARD
TZOFFSETFROM:+1100
TZOFFSETTO:+1000
TZNAME:AEST
DTSTART:20220402T160000
END:STANDARD
BEGIN:DAYLIGHT
TZOFFSETFROM:+1000
TZOFFSETTO:+1100
TZNAME:AEDT
DTSTART:20221001T160000
END:DAYLIGHT
END:VTIMEZONE
BEGIN:VEVENT
DTSTART;TZID=Australia/Melbourne:20220519T080000
DTEND;TZID=Australia/Melbourne:20220519T090000
DTSTAMP:20260421T193842
CREATED:20220419T002208Z
LAST-MODIFIED:20220419T002208Z
UID:5814-1652947200-1652950800@www.gruc.org.au
SUMMARY:Come Pray Together
DESCRIPTION:Praying together connects us with the purposes of Christ and He has promised that where 2 or 3 are gathered together in His name\, He will be there with us – Matthew 18:20.  \n“He (Jesus) took with him Peter and John and James and went up on the mountain to pray.” (Luke 9:28b). Praying together is following Jesus’ example – please join us on Thursday mornings at 8am where we’ll also share in Communion. Praying silently is OK – God hears all prayers. 
URL:https://www.gruc.org.au/event/come-pray-together-4/
LOCATION:Gympie Uniting Church\, 15 Red Hill Road\, Gympie\, QLD\, 4570\, Australia
END:VEVENT
END:VCALENDAR