BEGIN:VCALENDAR
VERSION:2.0
PRODID:-//Gympie Regional Uniting Church - ECPv5.8.1//NONSGML v1.0//EN
CALSCALE:GREGORIAN
METHOD:PUBLISH
X-WR-CALNAME:Gympie Regional Uniting Church
X-ORIGINAL-URL:https://www.gruc.org.au
X-WR-CALDESC:Events for Gympie Regional Uniting Church
BEGIN:VTIMEZONE
TZID:Australia/Melbourne
BEGIN:STANDARD
TZOFFSETFROM:+1100
TZOFFSETTO:+1000
TZNAME:AEST
DTSTART:20240406T160000
END:STANDARD
BEGIN:DAYLIGHT
TZOFFSETFROM:+1000
TZOFFSETTO:+1100
TZNAME:AEDT
DTSTART:20241005T160000
END:DAYLIGHT
END:VTIMEZONE
BEGIN:VEVENT
DTSTART;TZID=Australia/Melbourne:20240705T170000
DTEND;TZID=Australia/Melbourne:20240705T170000
DTSTAMP:20260422T211941
CREATED:20240623T230725Z
LAST-MODIFIED:20240623T230733Z
UID:7436-1720198800-1720198800@www.gruc.org.au
SUMMARY:Christian Music in the Park
DESCRIPTION:Gympie’s Positive 91FIVE radio station is organising this FREE event at Nelson Reserve featuring ‘The Afters’ who are an award-winning Christian band currently visiting Australia. They’ll be performing along with some local bands. There’ll be coffee available at the venue and the Gympie Friday Night Markets will be operating from nearby Reef Street where you can buy from the food vans. So rug-up the family and have a great night out!
URL:https://www.gruc.org.au/event/christian-music-in-the-park/
LOCATION:Nelson Reserve\, Gympie\, Cnr Monnkland St & Jaycee Way\, Gympie\, Queensland\, 4570\, Australia
END:VEVENT
END:VCALENDAR