BEGIN:VCALENDAR
VERSION:2.0
PRODID:-//Gympie Regional Uniting Church - ECPv5.8.1//NONSGML v1.0//EN
CALSCALE:GREGORIAN
METHOD:PUBLISH
X-WR-CALNAME:Gympie Regional Uniting Church
X-ORIGINAL-URL:https://www.gruc.org.au
X-WR-CALDESC:Events for Gympie Regional Uniting Church
BEGIN:VTIMEZONE
TZID:Australia/Melbourne
BEGIN:STANDARD
TZOFFSETFROM:+1100
TZOFFSETTO:+1000
TZNAME:AEST
DTSTART:20220402T160000
END:STANDARD
BEGIN:DAYLIGHT
TZOFFSETFROM:+1000
TZOFFSETTO:+1100
TZNAME:AEDT
DTSTART:20221001T160000
END:DAYLIGHT
END:VTIMEZONE
BEGIN:VEVENT
DTSTART;TZID=Australia/Melbourne:20220906T093000
DTEND;TZID=Australia/Melbourne:20220906T110000
DTSTAMP:20260423T232216
CREATED:20220724T223846Z
LAST-MODIFIED:20220724T223846Z
UID:6045-1662456600-1662462000@www.gruc.org.au
SUMMARY:Café Mornings
DESCRIPTION:Join us …  Tuesday and Friday mornings at D’Café (Southside) for some lively chat and an enjoyable morning out. Everyone is welcome!
URL:https://www.gruc.org.au/event/cafe-mornings-11/
LOCATION:d’Cafe\, Southside
END:VEVENT
END:VCALENDAR