BEGIN:VCALENDAR
VERSION:2.0
PRODID:-//Gympie Regional Uniting Church - ECPv5.8.1//NONSGML v1.0//EN
CALSCALE:GREGORIAN
METHOD:PUBLISH
X-WR-CALNAME:Gympie Regional Uniting Church
X-ORIGINAL-URL:https://www.gruc.org.au
X-WR-CALDESC:Events for Gympie Regional Uniting Church
BEGIN:VTIMEZONE
TZID:Australia/Melbourne
BEGIN:STANDARD
TZOFFSETFROM:+1100
TZOFFSETTO:+1000
TZNAME:AEST
DTSTART:20230401T160000
END:STANDARD
BEGIN:DAYLIGHT
TZOFFSETFROM:+1000
TZOFFSETTO:+1100
TZNAME:AEDT
DTSTART:20230930T160000
END:DAYLIGHT
END:VTIMEZONE
BEGIN:VEVENT
DTSTART;TZID=Australia/Melbourne:20230816T093000
DTEND;TZID=Australia/Melbourne:20230816T113000
DTSTAMP:20260420T043747
CREATED:20230731T000418Z
LAST-MODIFIED:20230731T000551Z
UID:6724-1692178200-1692185400@www.gruc.org.au
SUMMARY:Bible Society AGM & General Meeting
DESCRIPTION:The Gympie Branch of The Bible Society Australia is having its 2023 Annual General Meeting followed by their General Meeting (in the CE Room of Gympie Uniting Church). Everyone is welcome.
URL:https://www.gruc.org.au/event/bible-society-agm-general-meeting/
LOCATION:Gympie Uniting Church\, 15 Red Hill Road\, Gympie\, QLD\, 4570\, Australia
END:VEVENT
END:VCALENDAR